| RedeR 1.24.1 Mauro Castro
 
 | Snapshot Date: 2017-10-17 17:00:52 -0400 (Tue, 17 Oct 2017) |  | URL: https://git.bioconductor.org/packages/RedeR |  | Branch: RELEASE_3_5 |  | Last Commit: a4198c7 |  | Last Changed Date: 2017-04-26 23:13:48 -0400 (Wed, 26 Apr 2017) | 
 | malbec2 | Linux (Ubuntu 16.04.1 LTS) / x86_64 | OK | OK | OK |  |  | 
| tokay2 | Windows Server 2012 R2 Standard / x64 | [ OK ] | OK | OK | OK |  | 
| veracruz2 | OS X 10.11.6 El Capitan / x86_64 | OK | OK | OK | OK |  | 
##############################################################################
##############################################################################
###
### Running command:
###
###   rm -rf RedeR.buildbin-libdir && mkdir RedeR.buildbin-libdir  && C:\cygwin\bin\curl.exe -O http://172.29.0.4/BBS/3.5/bioc/src/contrib/RedeR_1.24.1.tar.gz && C:\Users\biocbuild\bbs-3.5-bioc\R\bin\R.exe CMD INSTALL --build --library=RedeR.buildbin-libdir --merge-multiarch RedeR_1.24.1.tar.gz && C:\Users\biocbuild\bbs-3.5-bioc\R\bin\R.exe CMD INSTALL RedeR_1.24.1.zip  && rm RedeR_1.24.1.tar.gz RedeR_1.24.1.zip
###
##############################################################################
##############################################################################
  % Total    % Received % Xferd  Average Speed   Time    Time     Time  Current
                                 Dload  Upload   Total   Spent    Left  Speed
  0     0    0     0    0     0      0      0 --:--:-- --:--:-- --:--:--     0
  7 8017k    7  591k    0     0  2526k      0  0:00:03 --:--:--  0:00:03 2527k
100 8017k  100 8017k    0     0  22.9M      0 --:--:-- --:--:-- --:--:-- 22.9M
install for i386
* installing *source* package 'RedeR' ...
** R
** data
** inst
** preparing package for lazy loading
** help
*** installing help indices
** building package indices
** installing vignettes
** testing if installed package can be loaded
install for x64
* installing *source* package 'RedeR' ...
** testing if installed package can be loaded
* MD5 sums
packaged installation of 'RedeR' as RedeR_1.24.1.zip
* DONE (RedeR)
* installing to library 'C:/Users/biocbuild/bbs-3.5-bioc/R/library'
package 'RedeR' successfully unpacked and MD5 sums checked