| name | user | system | elapsed | 
| CytoscapeConnection | 0.001 | 0.000 | 0.001 |  | 
| CytoscapeConnectionClass-class | 0 | 0 | 0 |  | 
| CytoscapeWindow | 0.000 | 0.000 | 0.001 |  | 
| CytoscapeWindowClass-class | 0.000 | 0.000 | 0.001 |  | 
| addCyEdge | 0.001 | 0.000 | 0.001 |  | 
| addCyNode | 0.001 | 0.000 | 0.001 |  | 
| addGraphToGraph | 0.002 | 0.000 | 0.001 |  | 
| clearSelection | 0.001 | 0.000 | 0.001 |  | 
| copyVisualStyle | 0.002 | 0.000 | 0.002 |  | 
| createWindow | 0.001 | 0.000 | 0.001 |  | 
| createWindowFromSelection | 0.001 | 0.001 | 0.002 |  | 
| cy2.edge.names | 0.001 | 0.000 | 0.001 |  | 
| cyPlot | 0.001 | 0.000 | 0.001 |  | 
| deleteAllWindows | 0.001 | 0.001 | 0.000 |  | 
| deleteEdgeAttribute | 0.001 | 0.000 | 0.001 |  | 
| deleteNodeAttribute | 0.001 | 0.000 | 0.001 |  | 
| deleteSelectedEdges | 0.001 | 0.000 | 0.001 |  | 
| deleteSelectedNodes | 0.001 | 0.000 | 0.001 |  | 
| deleteWindow | 0.001 | 0.000 | 0.001 |  | 
| demoSimpleGraph | 0.001 | 0.000 | 0.001 |  | 
| displayGraph | 0.001 | 0.000 | 0.000 |  | 
| dockPanel | 0.000 | 0.000 | 0.001 |  | 
| eda | 0 | 0 | 0 |  | 
| eda.names | 0.000 | 0.000 | 0.001 |  | 
| existing.CytoscapeWindow | 0.000 | 0.000 | 0.001 |  | 
| fitContent | 0.000 | 0.000 | 0.001 |  | 
| fitSelectedContent | 0.001 | 0.001 | 0.001 |  | 
| floatPanel | 0.001 | 0.000 | 0.000 |  | 
| getAdjacentEdgeNames | 0.001 | 0.000 | 0.001 |  | 
| getAllEdgeAttributes | 0.001 | 0.001 | 0.001 |  | 
| getAllEdges | 0.001 | 0.000 | 0.001 |  | 
| getAllNodeAttributes | 0.001 | 0.000 | 0.002 |  | 
| getAllNodes | 0.000 | 0.000 | 0.001 |  | 
| getArrowShapes | 0.001 | 0.000 | 0.001 |  | 
| getAttributeClassNames | 0.001 | 0.000 | 0.001 |  | 
| getCenter | 0.001 | 0.001 | 0.001 |  | 
| getDefaultBackgroundColor | 0.001 | 0.000 | 0.001 |  | 
| getDefaultEdgeReverseSelectionColor | 0.001 | 0.000 | 0.001 |  | 
| getDefaultEdgeSelectionColor | 0.001 | 0.001 | 0.000 |  | 
| getDefaultNodeReverseSelectionColor | 0.001 | 0.000 | 0.001 |  | 
| getDefaultNodeSelectionColor | 0.001 | 0.000 | 0.001 |  | 
| getDirectlyModifiableVisualProperties | 0.001 | 0.001 | 0.001 |  | 
| getEdgeAttribute | 0.001 | 0.000 | 0.001 |  | 
| getEdgeAttributeNames | 0.001 | 0.000 | 0.001 |  | 
| getEdgeCount | 0.001 | 0.001 | 0.001 |  | 
| getFirstNeighbors | 0.001 | 0.000 | 0.001 |  | 
| getGraph | 0 | 0 | 0 |  | 
| getGraphFromCyWindow | 0.001 | 0.000 | 0.001 |  | 
| getLayoutNameMapping | 0.000 | 0.000 | 0.001 |  | 
| getLayoutNames | 0.000 | 0.000 | 0.001 |  | 
| getLayoutPropertyNames | 0.000 | 0.000 | 0.001 |  | 
| getLayoutPropertyType | 0.001 | 0.000 | 0.001 |  | 
| getLayoutPropertyValue | 0.001 | 0.001 | 0.002 |  | 
| getLineStyles | 0.001 | 0.000 | 0.001 |  | 
| getNodeAttribute | 0.001 | 0.000 | 0.002 |  | 
| getNodeAttributeNames | 0.001 | 0.000 | 0.001 |  | 
| getNodeCount | 0.000 | 0.000 | 0.001 |  | 
| getNodePosition | 0.000 | 0.000 | 0.001 |  | 
| getNodeShapes | 0.001 | 0.000 | 0.001 |  | 
| getNodeSize | 0.002 | 0.000 | 0.001 |  | 
| getSelectedEdgeCount | 0.001 | 0.001 | 0.001 |  | 
| getSelectedEdges | 0.001 | 0.000 | 0.001 |  | 
| getSelectedNodeCount | 0.001 | 0.000 | 0.001 |  | 
| getSelectedNodes | 0.000 | 0.000 | 0.001 |  | 
| getViewCoordinates | 0.001 | 0.000 | 0.001 |  | 
| getVisualStyleNames | 0.001 | 0.000 | 0.001 |  | 
| getWindowCount | 0.001 | 0.000 | 0.001 |  | 
| getWindowID | 0.001 | 0.000 | 0.001 |  | 
| getWindowList | 0.001 | 0.001 | 0.001 |  | 
| getZoom | 0.001 | 0.000 | 0.001 |  | 
| hideAllPanels | 0.001 | 0.000 | 0.001 |  | 
| hideNodes | 0.000 | 0.000 | 0.001 |  | 
| hidePanel | 0.001 | 0.000 | 0.001 |  | 
| hideSelectedEdges | 0.001 | 0.001 | 0.001 |  | 
| hideSelectedNodes | 0.001 | 0.000 | 0.001 |  | 
| initEdgeAttribute | 0.000 | 0.000 | 0.001 |  | 
| initNodeAttribute | 0.000 | 0.000 | 0.001 |  | 
| invertEdgeSelection | 0.001 | 0.000 | 0.001 |  | 
| invertNodeSelection | 0.001 | 0.000 | 0.001 |  | 
| layoutNetwork | 0.001 | 0.000 | 0.001 |  | 
| lockNodeDimensions | 0.001 | 0.000 | 0.001 |  | 
| makeRandomGraph | 0.001 | 0.000 | 0.001 |  | 
| makeSimpleGraph | 0.002 | 0.000 | 0.003 |  | 
| noa | 0.001 | 0.000 | 0.001 |  | 
| noa.names | 0.000 | 0.001 | 0.001 |  | 
| ping | 0 | 0 | 0 |  | 
| pluginVersion | 0.000 | 0.000 | 0.001 |  | 
| predictTimeToDisplayGraph | 0.000 | 0.000 | 0.001 |  | 
| raiseWindow | 0.000 | 0.000 | 0.001 |  | 
| redraw | 0.000 | 0.000 | 0.001 |  | 
| restoreLayout | 0.001 | 0.001 | 0.001 |  | 
| saveImage | 0.001 | 0.000 | 0.001 |  | 
| saveLayout | 0.001 | 0.000 | 0.001 |  | 
| saveNetwork | 0.001 | 0.000 | 0.001 |  | 
| selectEdges | 0.001 | 0.000 | 0.001 |  | 
| selectFirstNeighborsOfSelectedNodes | 0.001 | 0.001 | 0.001 |  | 
| selectNodes | 0.001 | 0.000 | 0.001 |  | 
| sendEdges | 0.000 | 0.000 | 0.001 |  | 
| sendNodes | 0.001 | 0.001 | 0.001 |  | 
| setCenter | 0.002 | 0.000 | 0.002 |  | 
| setDefaultBackgroundColor | 0.001 | 0.001 | 0.001 |  | 
| setDefaultEdgeColor | 0.001 | 0.000 | 0.001 |  | 
| setDefaultEdgeFontSize | 0.001 | 0.000 | 0.001 |  | 
| setDefaultEdgeLineWidth | 0.001 | 0.000 | 0.001 |  | 
| setDefaultEdgeReverseSelectionColor | 0.001 | 0.000 | 0.000 |  | 
| setDefaultEdgeSelectionColor | 0.001 | 0.001 | 0.001 |  | 
| setDefaultEdgeSourceArrowColor | 0.001 | 0.000 | 0.001 |  | 
| setDefaultEdgeTargetArrowColor | 0.001 | 0.000 | 0.001 |  | 
| setDefaultNodeBorderColor | 0.001 | 0.000 | 0.001 |  | 
| setDefaultNodeBorderWidth | 0.001 | 0.000 | 0.001 |  | 
| setDefaultNodeColor | 0.001 | 0.001 | 0.001 |  | 
| setDefaultNodeFontSize | 0.001 | 0.000 | 0.001 |  | 
| setDefaultNodeLabelColor | 0.001 | 0.000 | 0.001 |  | 
| setDefaultNodeReverseSelectionColor | 0.001 | 0.000 | 0.001 |  | 
| setDefaultNodeSelectionColor | 0.001 | 0.000 | 0.001 |  | 
| setDefaultNodeShape | 0.001 | 0.000 | 0.001 |  | 
| setDefaultNodeSize | 0.001 | 0.000 | 0.001 |  | 
| setEdgeAttributes | 0.001 | 0.000 | 0.001 |  | 
| setEdgeAttributesDirect | 0.001 | 0.000 | 0.001 |  | 
| setEdgeColorDirect | 0.001 | 0.000 | 0.001 |  | 
| setEdgeColorRule | 0.001 | 0.001 | 0.001 |  | 
| setEdgeFontSizeDirect | 0.000 | 0.000 | 0.001 |  | 
| setEdgeLabelColorDirect | 0.000 | 0.000 | 0.001 |  | 
| setEdgeLabelDirect | 0.001 | 0.000 | 0.001 |  | 
| setEdgeLabelOpacityDirect | 0.001 | 0.000 | 0.001 |  | 
| setEdgeLabelRule | 0.001 | 0.000 | 0.000 |  | 
| setEdgeLineStyleDirect | 0.001 | 0.000 | 0.001 |  | 
| setEdgeLineStyleRule | 0.001 | 0.000 | 0.001 |  | 
| setEdgeLineWidthDirect | 0.001 | 0.001 | 0.001 |  | 
| setEdgeLineWidthRule | 0.001 | 0.000 | 0.001 |  | 
| setEdgeOpacityDirect | 0.001 | 0.000 | 0.001 |  | 
| setEdgeOpacityRule | 0.001 | 0.000 | 0.002 |  | 
| setEdgeSourceArrowColorDirect | 0.002 | 0.000 | 0.001 |  | 
| setEdgeSourceArrowColorRule | 0.001 | 0.001 | 0.001 |  | 
| setEdgeSourceArrowOpacityDirect | 0.001 | 0.000 | 0.001 |  | 
| setEdgeSourceArrowRule | 0.001 | 0.001 | 0.001 |  | 
| setEdgeSourceArrowShapeDirect | 0.001 | 0.000 | 0.001 |  | 
| setEdgeTargetArrowColorDirect | 0.001 | 0.001 | 0.001 |  | 
| setEdgeTargetArrowColorRule | 0.002 | 0.000 | 0.001 |  | 
| setEdgeTargetArrowOpacityDirect | 0.001 | 0.001 | 0.001 |  | 
| setEdgeTargetArrowRule | 0.001 | 0.000 | 0.001 |  | 
| setEdgeTargetArrowShapeDirect | 0.001 | 0.001 | 0.001 |  | 
| setEdgeTooltipDirect | 0.001 | 0.000 | 0.002 |  | 
| setEdgeTooltipRule | 0.001 | 0.001 | 0.001 |  | 
| setGraph | 0.001 | 0.000 | 0.000 |  | 
| setLayoutProperties | 0.001 | 0.000 | 0.001 |  | 
| setNodeAttributes | 0.001 | 0.000 | 0.001 |  | 
| setNodeAttributesDirect | 0.001 | 0.000 | 0.001 |  | 
| setNodeBorderColorDirect | 0.001 | 0.001 | 0.001 |  | 
| setNodeBorderColorRule | 0.001 | 0.000 | 0.001 |  | 
| setNodeBorderOpacityDirect | 0.001 | 0.000 | 0.001 |  | 
| setNodeBorderWidthDirect | 0.001 | 0.000 | 0.000 |  | 
| setNodeBorderWidthRule | 0.001 | 0.000 | 0.001 |  | 
| setNodeColorDirect | 0.001 | 0.000 | 0.001 |  | 
| setNodeColorRule | 0.001 | 0.000 | 0.001 |  | 
| setNodeFillOpacityDirect | 0.000 | 0.001 | 0.001 |  | 
| setNodeFontSizeDirect | 0.000 | 0.000 | 0.001 |  | 
| setNodeHeightDirect | 0.000 | 0.001 | 0.001 |  | 
| setNodeImageDirect | 0.000 | 0.000 | 0.001 |  | 
| setNodeLabelColorDirect | 0.001 | 0.000 | 0.001 |  | 
| setNodeLabelDirect | 0.001 | 0.001 | 0.001 |  | 
| setNodeLabelOpacityDirect | 0.001 | 0.000 | 0.001 |  | 
| setNodeLabelRule | 0.001 | 0.000 | 0.001 |  | 
| setNodeOpacityDirect | 0.001 | 0.000 | 0.001 |  | 
| setNodeOpacityRule | 0.001 | 0.000 | 0.002 |  | 
| setNodePosition | 0.001 | 0.000 | 0.001 |  | 
| setNodeShapeDirect | 0.001 | 0.001 | 0.001 |  | 
| setNodeShapeRule | 0.001 | 0.000 | 0.001 |  | 
| setNodeSizeDirect | 0.001 | 0.000 | 0.001 |  | 
| setNodeSizeRule | 0.002 | 0.001 | 0.002 |  | 
| setNodeTooltipRule | 0.001 | 0.000 | 0.001 |  | 
| setNodeWidthDirect | 0.000 | 0.000 | 0.001 |  | 
| setTooltipDismissDelay | 0.002 | 0.001 | 0.001 |  | 
| setTooltipInitialDelay | 0.001 | 0.000 | 0.002 |  | 
| setVisualStyle | 0.001 | 0.000 | 0.001 |  | 
| setWindowSize | 0.001 | 0.001 | 0.001 |  | 
| setZoom | 0.001 | 0.000 | 0.001 |  | 
| showGraphicsDetails | 0.001 | 0.000 | 0.001 |  | 
| unhideAll | 0.001 | 0.001 | 0.001 |  |