MotifDb 1.18.0 Paul Shannon
 | Snapshot Date: 2017-10-17 17:00:52 -0400 (Tue, 17 Oct 2017) |  | URL: https://git.bioconductor.org/packages/MotifDb |  | Branch: RELEASE_3_5 |  | Last Commit: 9c3cbcf |  | Last Changed Date: 2017-04-24 15:45:44 -0400 (Mon, 24 Apr 2017) |  
  | malbec2  | Linux (Ubuntu 16.04.1 LTS) / x86_64  |  OK  |  OK  |  OK  |  |   | 
| tokay2  | Windows Server 2012 R2 Standard / x64  |  OK  |  OK  |  OK  | [ OK ] |   | 
| veracruz2  | OS X 10.11.6 El Capitan / x86_64  |  OK  |  OK  |  OK  |  OK  |   | 
##############################################################################
##############################################################################
###
### Running command:
###
###   cd MotifDb.buildbin-libdir/MotifDb && zip -r ../../MotifDb_1.18.0.zip . & cd ../..
###
##############################################################################
##############################################################################
  adding: DESCRIPTION (264 bytes security) (deflated 34%)
  adding: doc/ (304 bytes security) (stored 0%)
  adding: doc/index.html (264 bytes security) (deflated 58%)
  adding: doc/MotifDb.pdf (264 bytes security) (deflated 4%)
  adding: doc/MotifDb.R (264 bytes security) (deflated 82%)
  adding: doc/MotifDb.Rnw (264 bytes security) (deflated 62%)
  adding: extdata/ (304 bytes security) (stored 0%)
  adding: extdata/cisbp.RData (264 bytes security) (deflated 1%)
  adding: extdata/flyFactorSurvey.RData (264 bytes security) (deflated 2%)
  adding: extdata/hPDI.RData (264 bytes security) (deflated 2%)
  adding: extdata/jaspar.RData (264 bytes security) (deflated 2%)
  adding: extdata/jaspar2014.RData (264 bytes security) (deflated 1%)
  adding: extdata/jolma2013.RData (264 bytes security) (deflated 0%)
  adding: extdata/ScerTF.RData (264 bytes security) (deflated 0%)
  adding: extdata/stamlab.RData (264 bytes security) (deflated 2%)
  adding: extdata/uniprobe.RData (264 bytes security) (deflated 1%)
  adding: help/ (304 bytes security) (stored 0%)
  adding: help/aliases.rds (264 bytes security) (stored 0%)
  adding: help/AnIndex (264 bytes security) (deflated 65%)
  adding: help/MotifDb.rdb (264 bytes security) (deflated 0%)
  adding: help/MotifDb.rdx (264 bytes security) (stored 0%)
  adding: help/paths.rds (264 bytes security) (stored 0%)
  adding: html/ (304 bytes security) (stored 0%)
  adding: html/00Index.html (264 bytes security) (deflated 68%)
  adding: html/R.css (264 bytes security) (deflated 75%)
  adding: INDEX (264 bytes security) (deflated 51%)
  adding: LICENSE (264 bytes security) (deflated 48%)
  adding: makefile (264 bytes security) (deflated 64%)
  adding: MD5 (264 bytes security) (deflated 53%)
  adding: Meta/ (304 bytes security) (stored 0%)
  adding: Meta/features.rds (264 bytes security) (stored 0%)
  adding: Meta/hsearch.rds (264 bytes security) (stored 0%)
  adding: Meta/links.rds (264 bytes security) (stored 0%)
  adding: Meta/nsInfo.rds (264 bytes security) (stored 0%)
  adding: Meta/package.rds (264 bytes security) (stored 0%)
  adding: Meta/Rd.rds (264 bytes security) (stored 0%)
  adding: Meta/vignette.rds (264 bytes security) (stored 0%)
  adding: NAMESPACE (264 bytes security) (deflated 38%)
  adding: NEWS (264 bytes security) (deflated 40%)
  adding: R/ (304 bytes security) (stored 0%)
  adding: R/MotifDb (264 bytes security) (deflated 41%)
  adding: R/MotifDb.rdb (264 bytes security) (deflated 33%)
  adding: R/MotifDb.rdx (264 bytes security) (stored 0%)
  adding: scripts/ (304 bytes security) (stored 0%)
  adding: scripts/import/ (304 bytes security) (stored 0%)
  adding: scripts/import/cisbp/ (304 bytes security) (stored 0%)
  adding: scripts/import/cisbp/cisbp-metadata-6559-matrices.Rdata (264 bytes security) (deflated 11%)
  adding: scripts/import/cisbp/import.R (264 bytes security) (deflated 71%)
  adding: scripts/import/cisbp/test.R (264 bytes security) (deflated 69%)
  adding: scripts/import/demo/ (304 bytes security) (stored 0%)
  adding: scripts/import/demo/import.R (264 bytes security) (deflated 70%)
  adding: scripts/import/demo/md-raw.tsv (264 bytes security) (deflated 47%)
  adding: scripts/import/demo/sample.pcm (264 bytes security) (deflated 55%)
  adding: scripts/import/fbgns.RData (264 bytes security) (stored 0%)
  adding: scripts/import/flyFactorSurvey/ (304 bytes security) (stored 0%)
  adding: scripts/import/flyFactorSurvey/import.R (264 bytes security) (deflated 72%)
  adding: scripts/import/flyFactorSurvey/test.R (264 bytes security) (deflated 74%)
  adding: scripts/import/HOCOMOCO/ (304 bytes security) (stored 0%)
  adding: scripts/import/HOCOMOCO/import.R (264 bytes security) (deflated 69%)
  adding: scripts/import/HOCOMOCO/import_functional_only_matrices.R (264 bytes security) (deflated 69%)
  adding: scripts/import/HOCOMOCO/test.R (264 bytes security) (deflated 76%)
  adding: scripts/import/HOCOMOCO/test.txt (264 bytes security) (stored 0%)
  adding: scripts/import/hPDI/ (304 bytes security) (stored 0%)
  adding: scripts/import/hPDI/import.R (264 bytes security) (deflated 73%)
  adding: scripts/import/hPDI/test.R (264 bytes security) (deflated 77%)
  adding: scripts/import/importAll.R (264 bytes security) (deflated 53%)
  adding: scripts/import/jaspar/ (304 bytes security) (stored 0%)
  adding: scripts/import/jaspar/import.R (264 bytes security) (deflated 71%)
  adding: scripts/import/jaspar/test.R (264 bytes security) (deflated 73%)
  adding: scripts/import/jaspar2014/ (304 bytes security) (stored 0%)
  adding: scripts/import/jaspar2014/import.R (264 bytes security) (deflated 72%)
  adding: scripts/import/jaspar2014/jaspar2014/ (304 bytes security) (stored 0%)
  adding: scripts/import/jaspar2014/jaspar2014/Matrix.txt (264 bytes security) (deflated 68%)
  adding: scripts/import/jaspar2014/jaspar2014/MATRIX_ANNOTATION.txt (264 bytes security) (deflated 82%)
  adding: scripts/import/jaspar2014/jaspar2014/matrix_data.txt (264 bytes security) (deflated 58%)
  adding: scripts/import/jaspar2014/jaspar2014/MATRIX_PROTEIN.txt (264 bytes security) (deflated 56%)
  adding: scripts/import/jaspar2014/jaspar2014/MATRIX_SPECIES.txt (264 bytes security) (deflated 79%)
  adding: scripts/import/jaspar2014/md-raw.tsv (264 bytes security) (deflated 47%)
  adding: scripts/import/jaspar2014/sample.pcm (264 bytes security) (deflated 55%)
  adding: scripts/import/jaspar2014/test.R (264 bytes security) (deflated 75%)
  adding: scripts/import/jolma2013/ (304 bytes security) (stored 0%)
  adding: scripts/import/jolma2013/import.R (264 bytes security) (deflated 72%)
  adding: scripts/import/jolma2013/test.R (264 bytes security) (deflated 74%)
  adding: scripts/import/README (264 bytes security) (deflated 17%)
  adding: scripts/import/ScerTF/ (304 bytes security) (stored 0%)
  adding: scripts/import/ScerTF/import.R (264 bytes security) (deflated 70%)
  adding: scripts/import/ScerTF/test.R (264 bytes security) (deflated 76%)
  adding: scripts/import/stamlab/ (304 bytes security) (stored 0%)
  adding: scripts/import/stamlab/import.R (264 bytes security) (deflated 74%)
  adding: scripts/import/stamlab/test.R (264 bytes security) (deflated 74%)
  adding: scripts/import/uniprobe/ (304 bytes security) (stored 0%)
  adding: scripts/import/uniprobe/import.R (264 bytes security) (deflated 73%)
  adding: scripts/import/uniprobe/test.R (264 bytes security) (deflated 74%)
  adding: unitTests/ (304 bytes security) (stored 0%)
  adding: unitTests/test_MotifDb.R (264 bytes security) (deflated 76%)
  adding: vanillaTest.R (264 bytes security) (deflated 10%)