| MethylSeekR 1.16.0 Lukas Burger
 
 | Snapshot Date: 2017-10-17 17:00:52 -0400 (Tue, 17 Oct 2017) |  | URL: https://git.bioconductor.org/packages/MethylSeekR |  | Branch: RELEASE_3_5 |  | Last Commit: 6ba51f4 |  | Last Changed Date: 2017-04-24 15:45:44 -0400 (Mon, 24 Apr 2017) | 
 | malbec2 | Linux (Ubuntu 16.04.1 LTS) / x86_64 | OK | OK | OK |  |  | 
| tokay2 | Windows Server 2012 R2 Standard / x64 | OK | OK | OK | [ OK ] |  | 
| veracruz2 | OS X 10.11.6 El Capitan / x86_64 | OK | OK | OK | OK |  | 
##############################################################################
##############################################################################
###
### Running command:
###
###   cd MethylSeekR.buildbin-libdir/MethylSeekR && zip -r ../../MethylSeekR_1.16.0.zip . & cd ../..
###
##############################################################################
##############################################################################
  adding: CITATION (264 bytes security) (deflated 54%)
  adding: DESCRIPTION (264 bytes security) (deflated 43%)
  adding: doc/ (304 bytes security) (stored 0%)
  adding: doc/index.html (264 bytes security) (deflated 59%)
  adding: doc/MethylSeekR.pdf (264 bytes security) (deflated 6%)
  adding: doc/MethylSeekR.R (264 bytes security) (deflated 81%)
  adding: doc/MethylSeekR.Rnw (264 bytes security) (deflated 66%)
  adding: extdata/ (304 bytes security) (stored 0%)
  adding: extdata/Lister2009_imr90_hg18_chr22.tab (264 bytes security) (deflated 75%)
  adding: extdata/SNVs_hg18_chr22.tab (264 bytes security) (deflated 76%)
  adding: help/ (304 bytes security) (stored 0%)
  adding: help/aliases.rds (264 bytes security) (stored 0%)
  adding: help/AnIndex (264 bytes security) (deflated 62%)
  adding: help/MethylSeekR.rdb (264 bytes security) (deflated 1%)
  adding: help/MethylSeekR.rdx (264 bytes security) (stored 0%)
  adding: help/paths.rds (264 bytes security) (stored 0%)
  adding: html/ (304 bytes security) (stored 0%)
  adding: html/00Index.html (264 bytes security) (deflated 68%)
  adding: html/R.css (264 bytes security) (deflated 75%)
  adding: INDEX (264 bytes security) (deflated 55%)
  adding: MD5 (264 bytes security) (deflated 43%)
  adding: Meta/ (304 bytes security) (stored 0%)
  adding: Meta/features.rds (264 bytes security) (stored 0%)
  adding: Meta/hsearch.rds (264 bytes security) (stored 0%)
  adding: Meta/links.rds (264 bytes security) (stored 0%)
  adding: Meta/nsInfo.rds (264 bytes security) (stored 0%)
  adding: Meta/package.rds (264 bytes security) (stored 0%)
  adding: Meta/Rd.rds (264 bytes security) (stored 0%)
  adding: Meta/vignette.rds (264 bytes security) (stored 0%)
  adding: NAMESPACE (264 bytes security) (deflated 47%)
  adding: R/ (304 bytes security) (stored 0%)
  adding: R/MethylSeekR (264 bytes security) (deflated 41%)
  adding: R/MethylSeekR.rdb (264 bytes security) (deflated 1%)
  adding: R/MethylSeekR.rdx (264 bytes security) (stored 0%)