| GenomicAlignments 1.12.2 Bioconductor Package Maintainer
 
 | Snapshot Date: 2017-10-17 17:00:52 -0400 (Tue, 17 Oct 2017) |  | URL: https://git.bioconductor.org/packages/GenomicAlignments |  | Branch: RELEASE_3_5 |  | Last Commit: b5d6f19 |  | Last Changed Date: 2017-08-16 03:19:10 -0400 (Wed, 16 Aug 2017) | 
 | malbec2 | Linux (Ubuntu 16.04.1 LTS) / x86_64 | OK | OK | OK |  |  | 
| tokay2 | Windows Server 2012 R2 Standard / x64 | OK | OK | OK | OK |  | 
| veracruz2 | OS X 10.11.6 El Capitan / x86_64 | OK | OK | [ OK ] | OK |  | 
##############################################################################
##############################################################################
###
### Running command:
###
###   /Library/Frameworks/R.framework/Versions/Current/Resources/bin/R CMD check --no-vignettes --timings GenomicAlignments_1.12.2.tar.gz
###
##############################################################################
##############################################################################
* using log directory ‘/Users/biocbuild/bbs-3.5-bioc/meat/GenomicAlignments.Rcheck’
* using R version 3.4.2 (2017-09-28)
* using platform: x86_64-apple-darwin15.6.0 (64-bit)
* using session charset: UTF-8
* using option ‘--no-vignettes’
* checking for file ‘GenomicAlignments/DESCRIPTION’ ... OK
* this is package ‘GenomicAlignments’ version ‘1.12.2’
* package encoding: UTF-8
* checking package namespace information ... OK
* checking package dependencies ... NOTE
Depends: includes the non-default packages:
  ‘BiocGenerics’ ‘S4Vectors’ ‘IRanges’ ‘GenomeInfoDb’ ‘GenomicRanges’
  ‘SummarizedExperiment’ ‘Biostrings’ ‘Rsamtools’
Adding so many packages to the search path is excessive and importing
selectively is preferable.
* checking if this is a source package ... OK
* checking if there is a namespace ... OK
* checking for hidden files and directories ... OK
* checking for portable file names ... OK
* checking for sufficient/correct file permissions ... OK
* checking whether package ‘GenomicAlignments’ can be installed ... OK
* checking installed package size ... OK
* checking package directory ... OK
* checking ‘build’ directory ... OK
* checking DESCRIPTION meta-information ... NOTE
Packages listed in more than one of Depends, Imports, Suggests, Enhances:
  ‘methods’ ‘BiocGenerics’ ‘S4Vectors’ ‘IRanges’ ‘GenomicRanges’ ‘Biostrings’ ‘Rsamtools’
A package should be listed in only one of these fields.
* checking top-level files ... OK
* checking for left-over files ... OK
* checking index information ... OK
* checking package subdirectories ... OK
* checking R files for non-ASCII characters ... OK
* checking R files for syntax errors ... OK
* checking whether the package can be loaded ... OK
* checking whether the package can be loaded with stated dependencies ... OK
* checking whether the package can be unloaded cleanly ... OK
* checking whether the namespace can be loaded with stated dependencies ... OK
* checking whether the namespace can be unloaded cleanly ... OK
* checking dependencies in R code ... NOTE
'library' or 'require' call to ‘BSgenome’ in package code.
  Please use :: or requireNamespace() instead.
  See section 'Suggested packages' in the 'Writing R Extensions' manual.
Unexported objects imported by ':::' calls:
  ‘Biostrings:::.normarg_padding.letter’
  ‘Rsamtools:::.BamViews_delegate’ ‘Rsamtools:::.findMateWithinGroups’
  ‘Rsamtools:::.load_bamcols_from_scanBam_res’
  See the note in ?`:::` about the use of this operator.
* checking S3 generic/method consistency ... OK
* checking replacement functions ... OK
* checking foreign function calls ... OK
* checking R code for possible problems ... OK
* checking Rd files ... OK
* checking Rd metadata ... OK
* checking Rd cross-references ... OK
* checking for missing documentation entries ... OK
* checking for code/documentation mismatches ... OK
* checking Rd \usage sections ... OK
* checking Rd contents ... OK
* checking for unstated dependencies in examples ... OK
* checking line endings in C/C++/Fortran sources/headers ... OK
* checking compiled code ... OK
* checking sizes of PDF files under ‘inst/doc’ ... OK
* checking installed files from ‘inst/doc’ ... OK
* checking files in ‘vignettes’ ... OK
* checking examples ... OK
Examples with CPU or elapsed time > 5s
                             user system elapsed
junctions-methods          15.988  1.013  17.527
readGAlignments            10.143  0.566  11.057
sequenceLayer               7.539  0.758   8.545
summarizeOverlaps-methods   7.022  0.654  11.099
coordinate-mapping-methods  6.586  0.273   7.055
* checking for unstated dependencies in ‘tests’ ... OK
* checking tests ...
  Running ‘run_unitTests.R’
 OK
* checking for unstated dependencies in vignettes ... OK
* checking package vignettes in ‘inst/doc’ ... OK
* checking running R code from vignettes ... SKIPPED
* checking re-building of vignette outputs ... SKIPPED
* checking PDF version of manual ... OK
* DONE
Status: 3 NOTEs
See
  ‘/Users/biocbuild/bbs-3.5-bioc/meat/GenomicAlignments.Rcheck/00check.log’
for details.
 
* installing *source* package ‘GenomicAlignments’ ...
** libs
clang -I/Library/Frameworks/R.framework/Resources/include -DNDEBUG  -I"/Library/Frameworks/R.framework/Versions/3.4/Resources/library/S4Vectors/include" -I"/Library/Frameworks/R.framework/Versions/3.4/Resources/library/IRanges/include" -I/usr/local/include   -fPIC  -Wall -g -O2  -c IRanges_stubs.c -o IRanges_stubs.o
clang -I/Library/Frameworks/R.framework/Resources/include -DNDEBUG  -I"/Library/Frameworks/R.framework/Versions/3.4/Resources/library/S4Vectors/include" -I"/Library/Frameworks/R.framework/Versions/3.4/Resources/library/IRanges/include" -I/usr/local/include   -fPIC  -Wall -g -O2  -c R_init_GenomicAlignments.c -o R_init_GenomicAlignments.o
clang -I/Library/Frameworks/R.framework/Resources/include -DNDEBUG  -I"/Library/Frameworks/R.framework/Versions/3.4/Resources/library/S4Vectors/include" -I"/Library/Frameworks/R.framework/Versions/3.4/Resources/library/IRanges/include" -I/usr/local/include   -fPIC  -Wall -g -O2  -c S4Vectors_stubs.c -o S4Vectors_stubs.o
clang -I/Library/Frameworks/R.framework/Resources/include -DNDEBUG  -I"/Library/Frameworks/R.framework/Versions/3.4/Resources/library/S4Vectors/include" -I"/Library/Frameworks/R.framework/Versions/3.4/Resources/library/IRanges/include" -I/usr/local/include   -fPIC  -Wall -g -O2  -c cigar_utils.c -o cigar_utils.o
clang -I/Library/Frameworks/R.framework/Resources/include -DNDEBUG  -I"/Library/Frameworks/R.framework/Versions/3.4/Resources/library/S4Vectors/include" -I"/Library/Frameworks/R.framework/Versions/3.4/Resources/library/IRanges/include" -I/usr/local/include   -fPIC  -Wall -g -O2  -c coordinate_mapping_methods.c -o coordinate_mapping_methods.o
clang -I/Library/Frameworks/R.framework/Resources/include -DNDEBUG  -I"/Library/Frameworks/R.framework/Versions/3.4/Resources/library/S4Vectors/include" -I"/Library/Frameworks/R.framework/Versions/3.4/Resources/library/IRanges/include" -I/usr/local/include   -fPIC  -Wall -g -O2  -c encodeOverlaps_methods.c -o encodeOverlaps_methods.o
clang -dynamiclib -Wl,-headerpad_max_install_names -undefined dynamic_lookup -single_module -multiply_defined suppress -L/Library/Frameworks/R.framework/Resources/lib -L/usr/local/lib -o GenomicAlignments.so IRanges_stubs.o R_init_GenomicAlignments.o S4Vectors_stubs.o cigar_utils.o coordinate_mapping_methods.o encodeOverlaps_methods.o -F/Library/Frameworks/R.framework/.. -framework R -Wl,-framework -Wl,CoreFoundation
installing to /Users/biocbuild/bbs-3.5-bioc/meat/GenomicAlignments.Rcheck/GenomicAlignments/libs
** R
** inst
** preparing package for lazy loading
** help
*** installing help indices
** building package indices
** installing vignettes
** testing if installed package can be loaded
* DONE (GenomicAlignments)