ENCODExplorer 2.2.1 Charles Joly Beauparlant
 | Snapshot Date: 2017-10-17 17:00:52 -0400 (Tue, 17 Oct 2017) |  | URL: https://git.bioconductor.org/packages/ENCODExplorer |  | Branch: RELEASE_3_5 |  | Last Commit: 198551f |  | Last Changed Date: 2017-09-26 11:41:34 -0400 (Tue, 26 Sep 2017) |  
  | malbec2  | Linux (Ubuntu 16.04.1 LTS) / x86_64  |  OK  |  OK  |  OK  |  |   | 
| tokay2  | Windows Server 2012 R2 Standard / x64  | [ OK ] |  OK  |  OK  |  OK  |   | 
| veracruz2  | OS X 10.11.6 El Capitan / x86_64  |  OK  |  OK  |  OK  |  OK  |   | 
##############################################################################
##############################################################################
###
### Running command:
###
###   rm -rf ENCODExplorer.buildbin-libdir && mkdir ENCODExplorer.buildbin-libdir  && C:\cygwin\bin\curl.exe -O http://172.29.0.4/BBS/3.5/bioc/src/contrib/ENCODExplorer_2.2.1.tar.gz && C:\Users\biocbuild\bbs-3.5-bioc\R\bin\R.exe CMD INSTALL --build --library=ENCODExplorer.buildbin-libdir --merge-multiarch ENCODExplorer_2.2.1.tar.gz && C:\Users\biocbuild\bbs-3.5-bioc\R\bin\R.exe CMD INSTALL ENCODExplorer_2.2.1.zip  && rm ENCODExplorer_2.2.1.tar.gz ENCODExplorer_2.2.1.zip
###
##############################################################################
##############################################################################
  % Total    % Received % Xferd  Average Speed   Time    Time     Time  Current
                                 Dload  Upload   Total   Spent    Left  Speed
  0     0    0     0    0     0      0      0 --:--:-- --:--:-- --:--:--     0
 62 66.2M   62 41.3M    0     0  52.6M      0  0:00:01 --:--:--  0:00:01 52.6M
100 66.2M  100 66.2M    0     0  49.3M      0  0:00:01  0:00:01 --:--:-- 49.3M
install for i386
* installing *source* package 'ENCODExplorer' ...
** R
** data
*** moving datasets to lazyload DB
** inst
** preparing package for lazy loading
** help
*** installing help indices
** building package indices
** installing vignettes
** testing if installed package can be loaded
install for x64
* installing *source* package 'ENCODExplorer' ...
** testing if installed package can be loaded
* MD5 sums
packaged installation of 'ENCODExplorer' as ENCODExplorer_2.2.1.zip
* DONE (ENCODExplorer)
* installing to library 'C:/Users/biocbuild/bbs-3.5-bioc/R/library'
package 'ENCODExplorer' successfully unpacked and MD5 sums checked