Back to the "Multiple platform build/check report" | A B [C] D E F G H I J K L M N O P Q R S T U V W X Y Z |
This page was generated on 2017-10-18 14:28:58 -0400 (Wed, 18 Oct 2017).
Package 270/1381 | Hostname | OS / Arch | INSTALL | BUILD | CHECK | BUILD BIN | ||||||
ConsensusClusterPlus 1.40.0 Matt Wilkerson
| malbec2 | Linux (Ubuntu 16.04.1 LTS) / x86_64 | OK | OK | OK | ![]() | ||||||
tokay2 | Windows Server 2012 R2 Standard / x64 | OK | OK | OK | OK | ![]() | ||||||
veracruz2 | OS X 10.11.6 El Capitan / x86_64 | OK | OK | OK | [ OK ] | ![]() |
Package: ConsensusClusterPlus |
Version: 1.40.0 |
Command: rm -rf ConsensusClusterPlus.buildbin-libdir && mkdir ConsensusClusterPlus.buildbin-libdir && /Users/biocbuild/BBS/utils/build-universal.sh ConsensusClusterPlus_1.40.0.tar.gz /Library/Frameworks/R.framework/Versions/Current/Resources/bin/R ConsensusClusterPlus.buildbin-libdir |
StartedAt: 2017-10-18 10:44:10 -0400 (Wed, 18 Oct 2017) |
EndedAt: 2017-10-18 10:44:13 -0400 (Wed, 18 Oct 2017) |
EllapsedTime: 2.5 seconds |
RetCode: 0 |
Status: OK |
PackageFile: ConsensusClusterPlus_1.40.0.tgz |
PackageFileSize: 298.3 KiB |
############################################################################## ############################################################################## ### ### Running command: ### ### rm -rf ConsensusClusterPlus.buildbin-libdir && mkdir ConsensusClusterPlus.buildbin-libdir && /Users/biocbuild/BBS/utils/build-universal.sh ConsensusClusterPlus_1.40.0.tar.gz /Library/Frameworks/R.framework/Versions/Current/Resources/bin/R ConsensusClusterPlus.buildbin-libdir ### ############################################################################## ############################################################################## >>>>>>> >>>>>>> INSTALLATION WITH 'R CMD INSTALL --preclean --no-multiarch --library=ConsensusClusterPlus.buildbin-libdir ConsensusClusterPlus_1.40.0.tar.gz' >>>>>>> * installing *source* package ‘ConsensusClusterPlus’ ... ** R ** inst ** preparing package for lazy loading ** help *** installing help indices ** building package indices ** installing vignettes ** testing if installed package can be loaded * DONE (ConsensusClusterPlus)