| Back to the "Multiple platform build/check report" | A B [C] D E F G H I J K L M N O P Q R S T U V W X Y Z |
This page was generated on 2017-10-18 14:24:36 -0400 (Wed, 18 Oct 2017).
| Package 268/1381 | Hostname | OS / Arch | INSTALL | BUILD | CHECK | BUILD BIN | ||||||
| ComplexHeatmap 1.14.0 Zuguang Gu
| malbec2 | Linux (Ubuntu 16.04.1 LTS) / x86_64 | OK | OK | OK | |||||||
| tokay2 | Windows Server 2012 R2 Standard / x64 | OK | OK | [ OK ] | OK | |||||||
| veracruz2 | OS X 10.11.6 El Capitan / x86_64 | OK | OK | OK | OK |
| Package: ComplexHeatmap |
| Version: 1.14.0 |
| Command: rm -rf ComplexHeatmap.buildbin-libdir ComplexHeatmap.Rcheck && mkdir ComplexHeatmap.buildbin-libdir ComplexHeatmap.Rcheck && C:\Users\biocbuild\bbs-3.5-bioc\R\bin\R.exe CMD INSTALL --build --merge-multiarch --library=ComplexHeatmap.buildbin-libdir ComplexHeatmap_1.14.0.tar.gz >ComplexHeatmap.Rcheck\00install.out 2>&1 && cp ComplexHeatmap.Rcheck\00install.out ComplexHeatmap-install.out && C:\Users\biocbuild\bbs-3.5-bioc\R\bin\R.exe CMD check --library=ComplexHeatmap.buildbin-libdir --install="check:ComplexHeatmap-install.out" --force-multiarch --no-vignettes --timings ComplexHeatmap_1.14.0.tar.gz |
| StartedAt: 2017-10-17 22:57:42 -0400 (Tue, 17 Oct 2017) |
| EndedAt: 2017-10-17 23:01:03 -0400 (Tue, 17 Oct 2017) |
| EllapsedTime: 201.0 seconds |
| RetCode: 0 |
| Status: OK |
| CheckDir: ComplexHeatmap.Rcheck |
| Warnings: 0 |
##############################################################################
##############################################################################
###
### Running command:
###
### rm -rf ComplexHeatmap.buildbin-libdir ComplexHeatmap.Rcheck && mkdir ComplexHeatmap.buildbin-libdir ComplexHeatmap.Rcheck && C:\Users\biocbuild\bbs-3.5-bioc\R\bin\R.exe CMD INSTALL --build --merge-multiarch --library=ComplexHeatmap.buildbin-libdir ComplexHeatmap_1.14.0.tar.gz >ComplexHeatmap.Rcheck\00install.out 2>&1 && cp ComplexHeatmap.Rcheck\00install.out ComplexHeatmap-install.out && C:\Users\biocbuild\bbs-3.5-bioc\R\bin\R.exe CMD check --library=ComplexHeatmap.buildbin-libdir --install="check:ComplexHeatmap-install.out" --force-multiarch --no-vignettes --timings ComplexHeatmap_1.14.0.tar.gz
###
##############################################################################
##############################################################################
* using log directory 'C:/Users/biocbuild/bbs-3.5-bioc/meat/ComplexHeatmap.Rcheck'
* using R version 3.4.2 Patched (2017-10-07 r73498)
* using platform: x86_64-w64-mingw32 (64-bit)
* using session charset: ISO8859-1
* using option '--no-vignettes'
* checking for file 'ComplexHeatmap/DESCRIPTION' ... OK
* checking extension type ... Package
* this is package 'ComplexHeatmap' version '1.14.0'
* checking package namespace information ... OK
* checking package dependencies ... OK
* checking if this is a source package ... OK
* checking if there is a namespace ... OK
* checking for hidden files and directories ... OK
* checking for portable file names ... OK
* checking whether package 'ComplexHeatmap' can be installed ... OK
* checking installed package size ... OK
* checking package directory ... OK
* checking 'build' directory ... OK
* checking DESCRIPTION meta-information ... OK
* checking top-level files ... OK
* checking for left-over files ... OK
* checking index information ... OK
* checking package subdirectories ... OK
* checking R files for non-ASCII characters ... OK
* checking R files for syntax errors ... OK
* loading checks for arch 'i386'
** checking whether the package can be loaded ... OK
** checking whether the package can be loaded with stated dependencies ... OK
** checking whether the package can be unloaded cleanly ... OK
** checking whether the namespace can be loaded with stated dependencies ... OK
** checking whether the namespace can be unloaded cleanly ... OK
* loading checks for arch 'x64'
** checking whether the package can be loaded ... OK
** checking whether the package can be loaded with stated dependencies ... OK
** checking whether the package can be unloaded cleanly ... OK
** checking whether the namespace can be loaded with stated dependencies ... OK
** checking whether the namespace can be unloaded cleanly ... OK
* checking dependencies in R code ... OK
* checking S3 generic/method consistency ... OK
* checking replacement functions ... OK
* checking foreign function calls ... OK
* checking R code for possible problems ... OK
* checking Rd files ... OK
* checking Rd metadata ... OK
* checking Rd cross-references ... OK
* checking for missing documentation entries ... OK
* checking for code/documentation mismatches ... OK
* checking Rd \usage sections ... OK
* checking Rd contents ... OK
* checking for unstated dependencies in examples ... OK
* checking installed files from 'inst/doc' ... OK
* checking files in 'vignettes' ... OK
* checking examples ...
** running examples for arch 'i386' ... OK
Examples with CPU or elapsed time > 5s
user system elapsed
Heatmap 13.07 0.05 13.11
** running examples for arch 'x64' ... OK
Examples with CPU or elapsed time > 5s
user system elapsed
Heatmap 15.34 0.07 15.41
* checking for unstated dependencies in 'tests' ... OK
* checking tests ...
** running tests for arch 'i386' ...
Running 'test-all.R'
OK
** running tests for arch 'x64' ...
Running 'test-all.R'
OK
* checking for unstated dependencies in vignettes ... OK
* checking package vignettes in 'inst/doc' ... OK
* checking running R code from vignettes ... SKIPPED
* checking re-building of vignette outputs ... SKIPPED
* checking PDF version of manual ... OK
* DONE
Status: OK
ComplexHeatmap.Rcheck/00install.out:
install for i386 * installing *source* package 'ComplexHeatmap' ... ** R ** inst ** preparing package for lazy loading ** help *** installing help indices ** building package indices ** installing vignettes ** testing if installed package can be loaded install for x64 * installing *source* package 'ComplexHeatmap' ... ** testing if installed package can be loaded * MD5 sums packaged installation of 'ComplexHeatmap' as ComplexHeatmap_1.14.0.zip * DONE (ComplexHeatmap)
ComplexHeatmap.Rcheck/examples_i386/ComplexHeatmap-Ex.timings:
| name | user | system | elapsed | |
| AdditiveUnit-class | 0 | 0 | 0 | |
| AdditiveUnit | 0 | 0 | 0 | |
| ColorMapping-class | 0 | 0 | 0 | |
| ColorMapping | 0.07 | 0.00 | 0.07 | |
| ComplexHeatmap-package | 0 | 0 | 0 | |
| Heatmap-class | 0 | 0 | 0 | |
| Heatmap | 13.07 | 0.05 | 13.11 | |
| HeatmapAnnotation-class | 0 | 0 | 0 | |
| HeatmapAnnotation | 0.2 | 0.0 | 0.2 | |
| HeatmapList-class | 3.30 | 0.01 | 3.31 | |
| HeatmapList | 0 | 0 | 0 | |
| Legend | 0 | 0 | 0 | |
| SingleAnnotation-class | 0 | 0 | 0 | |
| SingleAnnotation | 0.06 | 0.00 | 0.06 | |
| add.AdditiveUnit | 4.60 | 0.02 | 4.61 | |
| add_heatmap-Heatmap-method | 0.81 | 0.00 | 0.82 | |
| add_heatmap-HeatmapAnnotation-method | 0.28 | 0.00 | 0.28 | |
| add_heatmap-HeatmapList-method | 1.28 | 0.00 | 1.28 | |
| add_heatmap-dispatch | 0 | 0 | 0 | |
| anno_barplot | 0.11 | 0.00 | 0.11 | |
| anno_boxplot | 0.17 | 0.00 | 0.17 | |
| anno_density | 0.3 | 0.0 | 0.3 | |
| anno_histogram | 0.13 | 0.00 | 0.12 | |
| anno_link | 1.25 | 0.03 | 1.28 | |
| anno_oncoprint_barplot | 0 | 0 | 0 | |
| anno_points | 0.02 | 0.00 | 0.01 | |
| anno_text | 0.23 | 0.00 | 0.24 | |
| annotation_legend_size-HeatmapList-method | 0 | 0 | 0 | |
| color_mapping_legend-ColorMapping-method | 0.16 | 0.00 | 0.15 | |
| columnAnnotation | 0.01 | 0.00 | 0.02 | |
| column_anno_barplot | 0 | 0 | 0 | |
| column_anno_boxplot | 0 | 0 | 0 | |
| column_anno_density | 0 | 0 | 0 | |
| column_anno_histogram | 0 | 0 | 0 | |
| column_anno_link | 0 | 0 | 0 | |
| column_anno_points | 0 | 0 | 0 | |
| column_anno_text | 0 | 0 | 0 | |
| column_dend-Heatmap-method | 0.07 | 0.00 | 0.06 | |
| column_dend-HeatmapList-method | 0.17 | 0.00 | 0.17 | |
| column_dend-dispatch | 0 | 0 | 0 | |
| column_order-Heatmap-method | 0.06 | 0.00 | 0.07 | |
| column_order-HeatmapList-method | 0.17 | 0.00 | 0.17 | |
| column_order-dispatch | 0 | 0 | 0 | |
| component_height-Heatmap-method | 0 | 0 | 0 | |
| component_height-HeatmapList-method | 0 | 0 | 0 | |
| component_height-dispatch | 0 | 0 | 0 | |
| component_width-Heatmap-method | 0 | 0 | 0 | |
| component_width-HeatmapList-method | 0 | 0 | 0 | |
| component_width-dispatch | 0 | 0 | 0 | |
| decorate_annotation | 0.45 | 0.00 | 0.46 | |
| decorate_column_dend | 0 | 0 | 0 | |
| decorate_column_names | 0 | 0 | 0 | |
| decorate_column_title | 0 | 0 | 0 | |
| decorate_dend | 0.20 | 0.00 | 0.21 | |
| decorate_dimnames | 0.25 | 0.00 | 0.25 | |
| decorate_heatmap_body | 0.22 | 0.00 | 0.22 | |
| decorate_row_dend | 0 | 0 | 0 | |
| decorate_row_names | 0 | 0 | 0 | |
| decorate_row_title | 0 | 0 | 0 | |
| decorate_title | 0.24 | 0.00 | 0.24 | |
| densityHeatmap | 3.29 | 0.00 | 3.29 | |
| dist2 | 0.03 | 0.00 | 0.03 | |
| draw-Heatmap-method | 0.3 | 0.0 | 0.3 | |
| draw-HeatmapAnnotation-method | 0.11 | 0.00 | 0.11 | |
| draw-HeatmapList-method | 1 | 0 | 1 | |
| draw-SingleAnnotation-method | 0.10 | 0.00 | 0.09 | |
| draw-dispatch | 0 | 0 | 0 | |
| draw_annotation-Heatmap-method | 0 | 0 | 0 | |
| draw_annotation_legend-HeatmapList-method | 0 | 0 | 0 | |
| draw_dend-Heatmap-method | 0 | 0 | 0 | |
| draw_dimnames-Heatmap-method | 0 | 0 | 0 | |
| draw_heatmap_body-Heatmap-method | 0 | 0 | 0 | |
| draw_heatmap_legend-HeatmapList-method | 0 | 0 | 0 | |
| draw_heatmap_list-HeatmapList-method | 0 | 0 | 0 | |
| draw_title-Heatmap-method | 0 | 0 | 0 | |
| draw_title-HeatmapList-method | 0 | 0 | 0 | |
| draw_title-dispatch | 0 | 0 | 0 | |
| enhanced_basicplot | 1.24 | 0.01 | 1.25 | |
| get_color_mapping_list-HeatmapAnnotation-method | 0 | 0 | 0 | |
| get_color_mapping_param_list-HeatmapAnnotation-method | 0 | 0 | 0 | |
| grid.dendrogram | 0.02 | 0.00 | 0.01 | |
| heatmap_legend_size-HeatmapList-method | 0 | 0 | 0 | |
| ht_global_opt | 0 | 0 | 0 | |
| is_abs_unit | 0 | 0 | 0 | |
| make_column_cluster-Heatmap-method | 0 | 0 | 0 | |
| make_layout-Heatmap-method | 0 | 0 | 0 | |
| make_layout-HeatmapList-method | 0.01 | 0.00 | 0.02 | |
| make_layout-dispatch | 0 | 0 | 0 | |
| make_row_cluster-Heatmap-method | 0 | 0 | 0 | |
| map_to_colors-ColorMapping-method | 0.02 | 0.00 | 0.01 | |
| max_text_height | 0 | 0 | 0 | |
| max_text_width | 0 | 0 | 0 | |
| oncoPrint | 0 | 0 | 0 | |
| packLegend | 0 | 0 | 0 | |
| plotDataFrame | 2.84 | 0.00 | 2.85 | |
| prepare-Heatmap-method | 0 | 0 | 0 | |
| rowAnnotation | 0.02 | 0.00 | 0.01 | |
| row_anno_barplot | 0 | 0 | 0 | |
| row_anno_boxplot | 0 | 0 | 0 | |
| row_anno_density | 0 | 0 | 0 | |
| row_anno_histogram | 0 | 0 | 0 | |
| row_anno_link | 0 | 0 | 0 | |
| row_anno_points | 0 | 0 | 0 | |
| row_anno_text | 0 | 0 | 0 | |
| row_dend-Heatmap-method | 0.22 | 0.00 | 0.22 | |
| row_dend-HeatmapList-method | 0.19 | 0.00 | 0.19 | |
| row_dend-dispatch | 0 | 0 | 0 | |
| row_order-Heatmap-method | 0.06 | 0.00 | 0.06 | |
| row_order-HeatmapList-method | 0.19 | 0.00 | 0.19 | |
| row_order-dispatch | 0 | 0 | 0 | |
| selectArea | 0 | 0 | 0 | |
| set_component_height-Heatmap-method | 0 | 0 | 0 | |
| show-ColorMapping-method | 0 | 0 | 0 | |
| show-Heatmap-method | 0.60 | 0.00 | 0.61 | |
| show-HeatmapAnnotation-method | 0 | 0 | 0 | |
| show-HeatmapList-method | 0 | 0 | 0 | |
| show-SingleAnnotation-method | 0 | 0 | 0 | |
| show-dispatch | 0 | 0 | 0 | |
| unify_mat_list | 0 | 0 | 0 | |
ComplexHeatmap.Rcheck/examples_x64/ComplexHeatmap-Ex.timings:
| name | user | system | elapsed | |
| AdditiveUnit-class | 0 | 0 | 0 | |
| AdditiveUnit | 0 | 0 | 0 | |
| ColorMapping-class | 0 | 0 | 0 | |
| ColorMapping | 0.19 | 0.00 | 0.19 | |
| ComplexHeatmap-package | 0 | 0 | 0 | |
| Heatmap-class | 0 | 0 | 0 | |
| Heatmap | 15.34 | 0.07 | 15.41 | |
| HeatmapAnnotation-class | 0 | 0 | 0 | |
| HeatmapAnnotation | 0.14 | 0.00 | 0.14 | |
| HeatmapList-class | 4.34 | 0.00 | 4.34 | |
| HeatmapList | 0 | 0 | 0 | |
| Legend | 0.00 | 0.01 | 0.02 | |
| SingleAnnotation-class | 0 | 0 | 0 | |
| SingleAnnotation | 0.07 | 0.00 | 0.06 | |
| add.AdditiveUnit | 4.17 | 0.00 | 4.17 | |
| add_heatmap-Heatmap-method | 1.28 | 0.00 | 1.28 | |
| add_heatmap-HeatmapAnnotation-method | 0.36 | 0.00 | 0.36 | |
| add_heatmap-HeatmapList-method | 2.12 | 0.00 | 2.12 | |
| add_heatmap-dispatch | 0 | 0 | 0 | |
| anno_barplot | 0.13 | 0.00 | 0.12 | |
| anno_boxplot | 0.23 | 0.00 | 0.24 | |
| anno_density | 0.55 | 0.03 | 0.58 | |
| anno_histogram | 0.23 | 0.00 | 0.23 | |
| anno_link | 2.63 | 0.02 | 2.64 | |
| anno_oncoprint_barplot | 0 | 0 | 0 | |
| anno_points | 0.03 | 0.00 | 0.03 | |
| anno_text | 0.44 | 0.00 | 0.44 | |
| annotation_legend_size-HeatmapList-method | 0 | 0 | 0 | |
| color_mapping_legend-ColorMapping-method | 0.25 | 0.00 | 0.25 | |
| columnAnnotation | 0.01 | 0.00 | 0.02 | |
| column_anno_barplot | 0 | 0 | 0 | |
| column_anno_boxplot | 0 | 0 | 0 | |
| column_anno_density | 0 | 0 | 0 | |
| column_anno_histogram | 0 | 0 | 0 | |
| column_anno_link | 0 | 0 | 0 | |
| column_anno_points | 0 | 0 | 0 | |
| column_anno_text | 0 | 0 | 0 | |
| column_dend-Heatmap-method | 0.11 | 0.00 | 0.11 | |
| column_dend-HeatmapList-method | 0.31 | 0.00 | 0.31 | |
| column_dend-dispatch | 0 | 0 | 0 | |
| column_order-Heatmap-method | 0.13 | 0.00 | 0.12 | |
| column_order-HeatmapList-method | 0.39 | 0.00 | 0.40 | |
| column_order-dispatch | 0 | 0 | 0 | |
| component_height-Heatmap-method | 0 | 0 | 0 | |
| component_height-HeatmapList-method | 0 | 0 | 0 | |
| component_height-dispatch | 0 | 0 | 0 | |
| component_width-Heatmap-method | 0 | 0 | 0 | |
| component_width-HeatmapList-method | 0.02 | 0.00 | 0.01 | |
| component_width-dispatch | 0 | 0 | 0 | |
| decorate_annotation | 0.64 | 0.00 | 0.64 | |
| decorate_column_dend | 0 | 0 | 0 | |
| decorate_column_names | 0 | 0 | 0 | |
| decorate_column_title | 0 | 0 | 0 | |
| decorate_dend | 0.42 | 0.00 | 0.42 | |
| decorate_dimnames | 0.44 | 0.00 | 0.44 | |
| decorate_heatmap_body | 0.40 | 0.00 | 0.41 | |
| decorate_row_dend | 0 | 0 | 0 | |
| decorate_row_names | 0 | 0 | 0 | |
| decorate_row_title | 0 | 0 | 0 | |
| decorate_title | 0.27 | 0.01 | 0.28 | |
| densityHeatmap | 4.12 | 0.02 | 4.14 | |
| dist2 | 0.04 | 0.00 | 0.03 | |
| draw-Heatmap-method | 0.31 | 0.00 | 0.31 | |
| draw-HeatmapAnnotation-method | 0.17 | 0.00 | 0.18 | |
| draw-HeatmapList-method | 1.31 | 0.00 | 1.31 | |
| draw-SingleAnnotation-method | 0.17 | 0.00 | 0.17 | |
| draw-dispatch | 0 | 0 | 0 | |
| draw_annotation-Heatmap-method | 0 | 0 | 0 | |
| draw_annotation_legend-HeatmapList-method | 0 | 0 | 0 | |
| draw_dend-Heatmap-method | 0 | 0 | 0 | |
| draw_dimnames-Heatmap-method | 0 | 0 | 0 | |
| draw_heatmap_body-Heatmap-method | 0 | 0 | 0 | |
| draw_heatmap_legend-HeatmapList-method | 0 | 0 | 0 | |
| draw_heatmap_list-HeatmapList-method | 0.00 | 0.01 | 0.01 | |
| draw_title-Heatmap-method | 0 | 0 | 0 | |
| draw_title-HeatmapList-method | 0 | 0 | 0 | |
| draw_title-dispatch | 0 | 0 | 0 | |
| enhanced_basicplot | 1.09 | 0.00 | 1.10 | |
| get_color_mapping_list-HeatmapAnnotation-method | 0 | 0 | 0 | |
| get_color_mapping_param_list-HeatmapAnnotation-method | 0 | 0 | 0 | |
| grid.dendrogram | 0.01 | 0.00 | 0.02 | |
| heatmap_legend_size-HeatmapList-method | 0 | 0 | 0 | |
| ht_global_opt | 0 | 0 | 0 | |
| is_abs_unit | 0 | 0 | 0 | |
| make_column_cluster-Heatmap-method | 0 | 0 | 0 | |
| make_layout-Heatmap-method | 0 | 0 | 0 | |
| make_layout-HeatmapList-method | 0 | 0 | 0 | |
| make_layout-dispatch | 0 | 0 | 0 | |
| make_row_cluster-Heatmap-method | 0 | 0 | 0 | |
| map_to_colors-ColorMapping-method | 0.04 | 0.00 | 0.03 | |
| max_text_height | 0 | 0 | 0 | |
| max_text_width | 0 | 0 | 0 | |
| oncoPrint | 0 | 0 | 0 | |
| packLegend | 0 | 0 | 0 | |
| plotDataFrame | 3.04 | 0.00 | 3.04 | |
| prepare-Heatmap-method | 0 | 0 | 0 | |
| rowAnnotation | 0.03 | 0.00 | 0.04 | |
| row_anno_barplot | 0 | 0 | 0 | |
| row_anno_boxplot | 0 | 0 | 0 | |
| row_anno_density | 0 | 0 | 0 | |
| row_anno_histogram | 0 | 0 | 0 | |
| row_anno_link | 0 | 0 | 0 | |
| row_anno_points | 0 | 0 | 0 | |
| row_anno_text | 0.02 | 0.00 | 0.01 | |
| row_dend-Heatmap-method | 0.12 | 0.00 | 0.13 | |
| row_dend-HeatmapList-method | 0.36 | 0.00 | 0.36 | |
| row_dend-dispatch | 0 | 0 | 0 | |
| row_order-Heatmap-method | 0.11 | 0.00 | 0.11 | |
| row_order-HeatmapList-method | 0.34 | 0.00 | 0.34 | |
| row_order-dispatch | 0 | 0 | 0 | |
| selectArea | 0 | 0 | 0 | |
| set_component_height-Heatmap-method | 0 | 0 | 0 | |
| show-ColorMapping-method | 0 | 0 | 0 | |
| show-Heatmap-method | 1.14 | 0.00 | 1.15 | |
| show-HeatmapAnnotation-method | 0 | 0 | 0 | |
| show-HeatmapList-method | 0 | 0 | 0 | |
| show-SingleAnnotation-method | 0 | 0 | 0 | |
| show-dispatch | 0 | 0 | 0 | |
| unify_mat_list | 0 | 0 | 0 | |