| BiocParallel 1.10.1 Bioconductor Package Maintainer
 
 | Snapshot Date: 2017-10-17 17:00:52 -0400 (Tue, 17 Oct 2017) |  | URL: https://git.bioconductor.org/packages/BiocParallel |  | Branch: RELEASE_3_5 |  | Last Commit: a76c58c |  | Last Changed Date: 2017-05-02 05:26:22 -0400 (Tue, 02 May 2017) | 
 | malbec2 | Linux (Ubuntu 16.04.1 LTS) / x86_64 | OK | OK | OK |  |  | 
| tokay2 | Windows Server 2012 R2 Standard / x64 | [ OK ] | OK | OK | OK |  | 
| veracruz2 | OS X 10.11.6 El Capitan / x86_64 | OK | OK | OK | OK |  | 
##############################################################################
##############################################################################
###
### Running command:
###
###   rm -rf BiocParallel.buildbin-libdir && mkdir BiocParallel.buildbin-libdir  && C:\cygwin\bin\curl.exe -O http://172.29.0.4/BBS/3.5/bioc/src/contrib/BiocParallel_1.10.1.tar.gz && C:\Users\biocbuild\bbs-3.5-bioc\R\bin\R.exe CMD INSTALL --build --library=BiocParallel.buildbin-libdir --merge-multiarch BiocParallel_1.10.1.tar.gz && C:\Users\biocbuild\bbs-3.5-bioc\R\bin\R.exe CMD INSTALL BiocParallel_1.10.1.zip  && rm BiocParallel_1.10.1.tar.gz BiocParallel_1.10.1.zip
###
##############################################################################
##############################################################################
  % Total    % Received % Xferd  Average Speed   Time    Time     Time  Current
                                 Dload  Upload   Total   Spent    Left  Speed
  0     0    0     0    0     0      0      0 --:--:-- --:--:-- --:--:--     0
100 70578  100 70578    0     0  1226k      0 --:--:-- --:--:-- --:--:-- 1253k
install for i386
* installing *source* package 'BiocParallel' ...
** R
** inst
** preparing package for lazy loading
** help
*** installing help indices
** building package indices
** installing vignettes
** testing if installed package can be loaded
install for x64
* installing *source* package 'BiocParallel' ...
** testing if installed package can be loaded
* MD5 sums
packaged installation of 'BiocParallel' as BiocParallel_1.10.1.zip
* DONE (BiocParallel)
* installing to library 'C:/Users/biocbuild/bbs-3.5-bioc/R/library'
package 'BiocParallel' successfully unpacked and MD5 sums checked