| synapter 1.99.2 Laurent Gatto
 
 | Snapshot Date: 2017-04-21 17:17:54 -0400 (Fri, 21 Apr 2017) |  | URL: https://hedgehog.fhcrc.org/bioconductor/trunk/madman/Rpacks/synapter |  | Last Changed Rev: 128886 / Revision: 129024 |  | Last Changed Date: 2017-04-19 05:18:39 -0400 (Wed, 19 Apr 2017) | 
 | malbec2 | Linux (Ubuntu 16.04.1 LTS) / x86_64 | OK | OK | OK |  |  | 
| tokay2 | Windows Server 2012 R2 Standard / x64 | ERROR | ERROR | skipped | skipped |  | 
| toluca2 | Mac OS X Mavericks (10.9.5) / x86_64 | OK | OK | OK | [ OK ] |  | 
| veracruz2 | OS X 10.11.6 El Capitan / x86_64 | OK | OK | OK | OK |  | 
##############################################################################
##############################################################################
###
### Running command:
###
###   rm -rf synapter.buildbin-libdir && mkdir synapter.buildbin-libdir && /Users/biocbuild/BBS/utils/build-universal.sh synapter_1.99.2.tar.gz /Library/Frameworks/R.framework/Versions/Current/Resources/bin/R synapter.buildbin-libdir
###
##############################################################################
##############################################################################
>>>>>>> 
>>>>>>> INSTALLATION WITH 'R CMD INSTALL --preclean --no-multiarch --library=synapter.buildbin-libdir synapter_1.99.2.tar.gz'
>>>>>>> 
* installing *source* package ‘synapter’ ...
** R
** data
** inst
** preparing package for lazy loading
** help
*** installing help indices
** building package indices
** installing vignettes
** testing if installed package can be loaded
* DONE (synapter)