| simulatorZ 1.9.0 Yuqing Zhang
 
 | Snapshot Date: 2017-04-22 17:18:01 -0400 (Sat, 22 Apr 2017) |  | URL: https://hedgehog.fhcrc.org/bioconductor/trunk/madman/Rpacks/simulatorZ |  | Last Changed Rev: 122712 / Revision: 129046 |  | Last Changed Date: 2016-10-17 15:10:43 -0400 (Mon, 17 Oct 2016) | 
 | malbec2 | Linux (Ubuntu 16.04.1 LTS) / x86_64 | OK | OK | OK |  |  | 
| tokay2 | Windows Server 2012 R2 Standard / x64 | OK | OK | OK | OK |  | 
| toluca2 | Mac OS X Mavericks (10.9.5) / x86_64 | OK | OK | OK | [ OK ] |  | 
| veracruz2 | OS X 10.11.6 El Capitan / x86_64 | OK | OK | OK | OK |  | 
##############################################################################
##############################################################################
###
### Running command:
###
###   rm -rf simulatorZ.buildbin-libdir && mkdir simulatorZ.buildbin-libdir && /Users/biocbuild/BBS/utils/build-universal.sh simulatorZ_1.9.0.tar.gz /Library/Frameworks/R.framework/Versions/Current/Resources/bin/R simulatorZ.buildbin-libdir
###
##############################################################################
##############################################################################
>>>>>>> 
>>>>>>> INSTALLATION WITH 'R CMD INSTALL --preclean --no-multiarch --library=simulatorZ.buildbin-libdir simulatorZ_1.9.0.tar.gz'
>>>>>>> 
* installing *source* package ‘simulatorZ’ ...
** libs
clang++  -I/Library/Frameworks/R.framework/Resources/include -DNDEBUG   -I/usr/local/include -I/usr/local/include/freetype2 -I/opt/X11/include   -fPIC  -Wall -mtune=core2 -g -O2  -c coxformatrices.cpp -o coxformatrices.o
coxformatrices.cpp:79:17: warning: suggest braces around initialization of subobject [-Wmissing-braces]
                NULL
                ^˜˜˜
                {   }
/Library/Developer/CommandLineTools/usr/bin/../lib/clang/6.0/include/stddef.h:72:18: note: expanded from macro 'NULL'
#    define NULL __null
                 ^˜˜˜˜˜
1 warning generated.
clang++ -dynamiclib -Wl,-headerpad_max_install_names -undefined dynamic_lookup -single_module -multiply_defined suppress -L/Library/Frameworks/R.framework/Resources/lib -L/usr/local/lib -o simulatorZ.so coxformatrices.o -F/Library/Frameworks/R.framework/.. -framework R -Wl,-framework -Wl,CoreFoundation
installing to /Users/biocbuild/bbs-3.5-bioc/meat/simulatorZ.buildbin-libdir/simulatorZ/libs
** R
** inst
** preparing package for lazy loading
** help
*** installing help indices
** building package indices
** installing vignettes
** testing if installed package can be loaded
* DONE (simulatorZ)
>>>>>>> 
>>>>>>> FIXING LINKS FOR simulatorZ.buildbin-libdir/simulatorZ/libs//simulatorZ.so
>>>>>>> 
install_name_tool -change "/usr/local/lib/libgcc_s.1.dylib" "/Library/Frameworks/R.framework/Versions/3.4/Resources/lib/libgcc_s.1.dylib" "simulatorZ.buildbin-libdir/simulatorZ/libs//simulatorZ.so"
install_name_tool -change "/usr/local/lib/libgfortran.3.dylib" "/Library/Frameworks/R.framework/Versions/3.4/Resources/lib/libgfortran.3.dylib" "simulatorZ.buildbin-libdir/simulatorZ/libs//simulatorZ.so"
install_name_tool -change "/usr/local/lib/libreadline.5.2.dylib" "/Library/Frameworks/R.framework/Versions/3.4/Resources/lib/libreadline.5.2.dylib" "simulatorZ.buildbin-libdir/simulatorZ/libs//simulatorZ.so"
install_name_tool -change "/usr/local/lib/libreadline.dylib" "/Library/Frameworks/R.framework/Versions/3.4/Resources/lib/libreadline.dylib" "simulatorZ.buildbin-libdir/simulatorZ/libs//simulatorZ.so"
install_name_tool -change "/usr/local/lib/libquadmath.0.dylib" "/Library/Frameworks/R.framework/Versions/3.4/Resources/lib/libquadmath.0.dylib" "simulatorZ.buildbin-libdir/simulatorZ/libs//simulatorZ.so"