| phenoTest 1.23.1 Evarist Planet
 
 | Snapshot Date: 2017-04-22 17:18:01 -0400 (Sat, 22 Apr 2017) |  | URL: https://hedgehog.fhcrc.org/bioconductor/trunk/madman/Rpacks/phenoTest |  | Last Changed Rev: 125583 / Revision: 129046 |  | Last Changed Date: 2017-01-03 06:58:38 -0500 (Tue, 03 Jan 2017) | 
 | malbec2 | Linux (Ubuntu 16.04.1 LTS) / x86_64 | OK | OK | OK |  |  | 
| tokay2 | Windows Server 2012 R2 Standard / x64 | OK | OK | OK | OK |  | 
| toluca2 | Mac OS X Mavericks (10.9.5) / x86_64 | OK | OK | OK | [ OK ] |  | 
| veracruz2 | OS X 10.11.6 El Capitan / x86_64 | OK | OK | OK | OK |  | 
##############################################################################
##############################################################################
###
### Running command:
###
###   rm -rf phenoTest.buildbin-libdir && mkdir phenoTest.buildbin-libdir && /Users/biocbuild/BBS/utils/build-universal.sh phenoTest_1.23.1.tar.gz /Library/Frameworks/R.framework/Versions/Current/Resources/bin/R phenoTest.buildbin-libdir
###
##############################################################################
##############################################################################
>>>>>>> 
>>>>>>> INSTALLATION WITH 'R CMD INSTALL --preclean --no-multiarch --library=phenoTest.buildbin-libdir phenoTest_1.23.1.tar.gz'
>>>>>>> 
* installing *source* package ‘phenoTest’ ...
** R
** data
** inst
** preparing package for lazy loading
Warning: replacing previous import ‘igraph::union’ by ‘GSEABase::union’ when loading ‘HTSanalyzeR’
** help
*** installing help indices
** building package indices
** installing vignettes
** testing if installed package can be loaded
Warning: replacing previous import ‘igraph::union’ by ‘GSEABase::union’ when loading ‘HTSanalyzeR’
* DONE (phenoTest)