| pRoloc 1.16.1 Laurent Gatto
 
 | Snapshot Date: 2017-10-17 17:00:52 -0400 (Tue, 17 Oct 2017) |  | URL: https://git.bioconductor.org/packages/pRoloc |  | Branch: RELEASE_3_5 |  | Last Commit: 62abf44 |  | Last Changed Date: 2017-05-05 15:32:27 -0400 (Fri, 05 May 2017) | 
 | malbec2 | Linux (Ubuntu 16.04.1 LTS) / x86_64 | OK | OK | [ OK ] |  |  | 
| tokay2 | Windows Server 2012 R2 Standard / x64 | OK | OK | OK | OK |  | 
| veracruz2 | OS X 10.11.6 El Capitan / x86_64 | OK | OK | OK | OK |  | 
##############################################################################
##############################################################################
###
### Running command:
###
###   /home/biocbuild/bbs-3.5-bioc/R/bin/R CMD check --no-vignettes --timings pRoloc_1.16.1.tar.gz
###
##############################################################################
##############################################################################
* using log directory ‘/home/biocbuild/bbs-3.5-bioc/meat/pRoloc.Rcheck’
* using R version 3.4.2 (2017-09-28)
* using platform: x86_64-pc-linux-gnu (64-bit)
* using session charset: UTF-8
* using option ‘--no-vignettes’
* checking for file ‘pRoloc/DESCRIPTION’ ... OK
* checking extension type ... Package
* this is package ‘pRoloc’ version ‘1.16.1’
* checking package namespace information ... OK
* checking package dependencies ... OK
* checking if this is a source package ... OK
* checking if there is a namespace ... OK
* checking for hidden files and directories ... OK
* checking for portable file names ... OK
* checking for sufficient/correct file permissions ... OK
* checking whether package ‘pRoloc’ can be installed ... OK
* checking installed package size ... NOTE
  installed size is  5.8Mb
  sub-directories of 1Mb or more:
    doc   3.4Mb
* checking package directory ... OK
* checking ‘build’ directory ... OK
* checking DESCRIPTION meta-information ... OK
* checking top-level files ... OK
* checking for left-over files ... OK
* checking index information ... OK
* checking package subdirectories ... OK
* checking R files for non-ASCII characters ... OK
* checking R files for syntax errors ... OK
* checking whether the package can be loaded ... OK
* checking whether the package can be loaded with stated dependencies ... OK
* checking whether the package can be unloaded cleanly ... OK
* checking whether the namespace can be loaded with stated dependencies ... OK
* checking whether the namespace can be unloaded cleanly ... OK
* checking dependencies in R code ... NOTE
Unexported objects imported by ':::' calls:
  ‘MLInterfaces:::.macroF1’ ‘MLInterfaces:::.precision’
  ‘MLInterfaces:::.recall’ ‘MLInterfaces:::es2df’
  ‘caret:::predict.plsda’
  See the note in ?`:::` about the use of this operator.
There are ::: calls to the package's namespace in its code. A package
  almost never needs to use ::: for its own objects:
  ‘checkSortedFeatureNames’ ‘opt’
* checking S3 generic/method consistency ... OK
* checking replacement functions ... OK
* checking foreign function calls ... OK
* checking R code for possible problems ... NOTE
Found the following possibly unsafe calls:
File ‘pRoloc/R/annotation.R’:
  unlockBinding("params", .pRolocEnv)
* checking Rd files ... OK
* checking Rd metadata ... OK
* checking Rd cross-references ... OK
* checking for missing documentation entries ... OK
* checking for code/documentation mismatches ... OK
* checking Rd \usage sections ... OK
* checking Rd contents ... OK
* checking for unstated dependencies in examples ... OK
* checking contents of ‘data’ directory ... OK
* checking data for non-ASCII characters ... OK
* checking data for ASCII and uncompressed saves ... OK
* checking line endings in C/C++/Fortran sources/headers ... OK
* checking line endings in Makefiles ... OK
* checking compilation flags in Makevars ... OK
* checking for GNU extensions in Makefiles ... OK
* checking for portable use of $(BLAS_LIBS) and $(LAPACK_LIBS) ... OK
* checking compiled code ... OK
* checking installed files from ‘inst/doc’ ... OK
* checking files in ‘vignettes’ ... NOTE
The following directory looks like a leftover from 'knitr':
  ‘figure’
Please remove from your package.
* checking examples ... OK
Examples with CPU or elapsed time > 5s
                         user system elapsed
perTurboClassification 12.368  0.000  12.379
SpatProtVis-class       6.816  0.048   6.867
rfClassification        6.408  0.000   6.413
svmClassification       6.188  0.008   6.200
nnetClassification      5.364  0.004   5.371
ClustDist-class         5.020  0.064  13.347
addGoAnnotations        4.480  0.012   9.837
clustDist               3.560  0.012   8.964
ClustDistList-class     3.368  0.024   9.350
AnnotationParams-class  0.604  0.008   6.149
* checking for unstated dependencies in ‘tests’ ... OK
* checking tests ...
  Running ‘testthat.R’
 OK
* checking for unstated dependencies in vignettes ... OK
* checking package vignettes in ‘inst/doc’ ... OK
* checking running R code from vignettes ... SKIPPED
* checking re-building of vignette outputs ... SKIPPED
* checking PDF version of manual ... OK
* DONE
Status: 4 NOTEs
See
  ‘/home/biocbuild/bbs-3.5-bioc/meat/pRoloc.Rcheck/00check.log’
for details.
 
* installing *source* package ‘pRoloc’ ...
** libs
g++  -I/home/biocbuild/bbs-3.5-bioc/R/include -DNDEBUG  -I"/home/biocbuild/bbs-3.5-bioc/R/library/Rcpp/include" -I"/home/biocbuild/bbs-3.5-bioc/R/library/RcppArmadillo/include" -I/usr/local/include   -fpic  -g -O2  -Wall -c pRoloc.cpp -o pRoloc.o
In file included from /home/biocbuild/bbs-3.5-bioc/R/library/RcppArmadillo/include/armadillo:53:0,
                 from /home/biocbuild/bbs-3.5-bioc/R/library/RcppArmadillo/include/RcppArmadilloForward.h:46,
                 from /home/biocbuild/bbs-3.5-bioc/R/library/RcppArmadillo/include/RcppArmadillo.h:31,
                 from pRoloc.cpp:2:
/home/biocbuild/bbs-3.5-bioc/R/library/RcppArmadillo/include/armadillo_bits/compiler_setup.hpp:474:96: note: #pragma message: WARNING: use of OpenMP disabled; this compiler doesn't support OpenMP 3.0+
   #pragma message ("WARNING: use of OpenMP disabled; this compiler doesn't support OpenMP 3.0+")
                                                                                                ^
g++ -shared -L/home/biocbuild/bbs-3.5-bioc/R/lib -L/usr/local/lib -o pRoloc.so pRoloc.o -L/home/biocbuild/bbs-3.5-bioc/R/lib -lRlapack -L/home/biocbuild/bbs-3.5-bioc/R/lib -lRblas -lgfortran -lm -lquadmath -L/home/biocbuild/bbs-3.5-bioc/R/lib -lR
installing to /home/biocbuild/bbs-3.5-bioc/meat/pRoloc.Rcheck/pRoloc/libs
** R
** data
** inst
** preparing package for lazy loading
Warning: replacing previous import ‘BiocGenerics::var’ by ‘stats::var’ when loading ‘MLInterfaces’
** help
*** installing help indices
** building package indices
** installing vignettes
** testing if installed package can be loaded
Warning: replacing previous import ‘BiocGenerics::var’ by ‘stats::var’ when loading ‘MLInterfaces’
* DONE (pRoloc)