oligo 1.40.2 Benilton Carvalho
 | Snapshot Date: 2017-10-17 17:00:52 -0400 (Tue, 17 Oct 2017) |  | URL: https://git.bioconductor.org/packages/oligo |  | Branch: RELEASE_3_5 |  | Last Commit: 625b01c |  | Last Changed Date: 2017-07-21 14:08:19 -0400 (Fri, 21 Jul 2017) |  
  | malbec2  | Linux (Ubuntu 16.04.1 LTS) / x86_64  |  OK  |  OK  |  WARNINGS  |  |   | 
| tokay2  | Windows Server 2012 R2 Standard / x64  |  OK  |  OK  |  WARNINGS  | [ OK ] |   | 
| veracruz2  | OS X 10.11.6 El Capitan / x86_64  |  OK  |  OK  |  WARNINGS  |  OK  |   | 
##############################################################################
##############################################################################
###
### Running command:
###
###   cd oligo.buildbin-libdir/oligo && zip -r ../../oligo_1.40.2.zip . & cd ../..
###
##############################################################################
##############################################################################
  adding: CITATION (264 bytes security) (deflated 50%)
  adding: DESCRIPTION (264 bytes security) (deflated 50%)
  adding: doc/ (304 bytes security) (stored 0%)
  adding: doc/index.html (264 bytes security) (deflated 56%)
  adding: doc/oug.pdf (264 bytes security) (deflated 6%)
  adding: doc/oug.Rnw (264 bytes security) (deflated 37%)
  adding: help/ (304 bytes security) (stored 0%)
  adding: help/aliases.rds (264 bytes security) (stored 0%)
  adding: help/AnIndex (264 bytes security) (deflated 83%)
  adding: help/oligo.rdb (264 bytes security) (deflated 2%)
  adding: help/oligo.rdx (264 bytes security) (stored 0%)
  adding: help/paths.rds (264 bytes security) (stored 0%)
  adding: html/ (304 bytes security) (stored 0%)
  adding: html/00Index.html (264 bytes security) (deflated 88%)
  adding: html/R.css (264 bytes security) (deflated 75%)
  adding: INDEX (264 bytes security) (deflated 62%)
  adding: libs/ (304 bytes security) (stored 0%)
  adding: libs/i386/ (304 bytes security) (stored 0%)
  adding: libs/i386/oligo.dll (264 bytes security) (deflated 58%)
  adding: libs/x64/ (304 bytes security) (stored 0%)
  adding: libs/x64/oligo.dll (264 bytes security) (deflated 56%)
  adding: MD5 (264 bytes security) (deflated 45%)
  adding: Meta/ (304 bytes security) (stored 0%)
  adding: Meta/features.rds (264 bytes security) (stored 0%)
  adding: Meta/hsearch.rds (264 bytes security) (stored 0%)
  adding: Meta/links.rds (264 bytes security) (stored 0%)
  adding: Meta/nsInfo.rds (264 bytes security) (stored 0%)
  adding: Meta/package.rds (264 bytes security) (stored 0%)
  adding: Meta/Rd.rds (264 bytes security) (stored 0%)
  adding: Meta/vignette.rds (264 bytes security) (stored 0%)
  adding: NAMESPACE (264 bytes security) (deflated 65%)
  adding: NEWS.Rd (264 bytes security) (deflated 64%)
  adding: R/ (304 bytes security) (stored 0%)
  adding: R/oligo (264 bytes security) (deflated 41%)
  adding: R/oligo.rdb (264 bytes security) (deflated 32%)
  adding: R/oligo.rdx (264 bytes security) (deflated 2%)
  adding: scripts/ (304 bytes security) (stored 0%)
  adding: scripts/FrameworkPreprocessing.bib (264 bytes security) (deflated 68%)
  adding: scripts/getVersions.sh (264 bytes security) (deflated 46%)
  adding: scripts/oligoVignette.bib (264 bytes security) (deflated 48%)
  adding: scripts/oug.pdf (264 bytes security) (deflated 6%)
  adding: scripts/oug.Rnw (264 bytes security) (deflated 68%)
  adding: scripts/primer.pdf (264 bytes security) (deflated 5%)
  adding: scripts/primer.Rnw (264 bytes security) (deflated 68%)
  adding: unitTests/ (304 bytes security) (stored 0%)
  adding: unitTests/fids_ref0.rda (264 bytes security) (stored 0%)
  adding: unitTests/gen_rma_t0.R (264 bytes security) (deflated 43%)
  adding: unitTests/gen_selector0.R (264 bytes security) (deflated 70%)
  adding: unitTests/i0.rda (264 bytes security) (stored 0%)
  adding: unitTests/report.html (264 bytes security) (deflated 66%)
  adding: unitTests/report.txt (264 bytes security) (deflated 61%)
  adding: unitTests/reportSummary.txt (264 bytes security) (deflated 43%)
  adding: unitTests/rma_ref0.rda (264 bytes security) (deflated 0%)
  adding: unitTests/test_rma.R (264 bytes security) (deflated 50%)
  adding: unitTests/test_selector.R (264 bytes security) (deflated 71%)