| minet 3.34.0 Patrick E. Meyer
 
 | Snapshot Date: 2017-10-17 17:00:52 -0400 (Tue, 17 Oct 2017) |  | URL: https://git.bioconductor.org/packages/minet |  | Branch: RELEASE_3_5 |  | Last Commit: 9e56eb5 |  | Last Changed Date: 2017-04-24 15:45:44 -0400 (Mon, 24 Apr 2017) | 
 | malbec2 | Linux (Ubuntu 16.04.1 LTS) / x86_64 | OK | OK | OK |  |  | 
| tokay2 | Windows Server 2012 R2 Standard / x64 | [ OK ] | OK | OK | OK |  | 
| veracruz2 | OS X 10.11.6 El Capitan / x86_64 | OK | OK | OK | OK |  | 
##############################################################################
##############################################################################
###
### Running command:
###
###   rm -rf minet.buildbin-libdir && mkdir minet.buildbin-libdir  && C:\cygwin\bin\curl.exe -O http://172.29.0.4/BBS/3.5/bioc/src/contrib/minet_3.34.0.tar.gz && C:\Users\biocbuild\bbs-3.5-bioc\R\bin\R.exe CMD INSTALL --build --library=minet.buildbin-libdir --merge-multiarch minet_3.34.0.tar.gz && C:\Users\biocbuild\bbs-3.5-bioc\R\bin\R.exe CMD INSTALL minet_3.34.0.zip  && rm minet_3.34.0.tar.gz minet_3.34.0.zip
###
##############################################################################
##############################################################################
  % Total    % Received % Xferd  Average Speed   Time    Time     Time  Current
                                 Dload  Upload   Total   Spent    Left  Speed
  0     0    0     0    0     0      0      0 --:--:-- --:--:-- --:--:--     0
100 57066  100 57066    0     0  2179k      0 --:--:-- --:--:-- --:--:-- 2322k
install for i386
* installing *source* package 'minet' ...
** libs
C:/Rtools/mingw_32/bin/g++  -I"C:/Users/BIOCBU˜1/BBS-3˜1.5-B/R/include" -DNDEBUG     -I"C:/local323/include"     -O2 -Wall  -mtune=core2 -c aracne.cpp -o aracne.o
C:/Rtools/mingw_32/bin/g++  -I"C:/Users/BIOCBU˜1/BBS-3˜1.5-B/R/include" -DNDEBUG     -I"C:/local323/include"     -O2 -Wall  -mtune=core2 -c clr.cpp -o clr.o
C:/Rtools/mingw_32/bin/g++  -I"C:/Users/BIOCBU˜1/BBS-3˜1.5-B/R/include" -DNDEBUG     -I"C:/local323/include"     -O2 -Wall  -mtune=core2 -c minet.cpp -o minet.o
C:/Rtools/mingw_32/bin/g++  -I"C:/Users/BIOCBU˜1/BBS-3˜1.5-B/R/include" -DNDEBUG     -I"C:/local323/include"     -O2 -Wall  -mtune=core2 -c mrnet.cpp -o mrnet.o
mrnet.cpp: In function 'SEXPREC* mrnet(SEXP, SEXP)':
mrnet.cpp:190:34: warning: comparison between signed and unsigned integer expressions [-Wsign-compare]
                   for( int l=0; l<n; ++l )  
                                  ^
C:/Rtools/mingw_32/bin/g++  -I"C:/Users/BIOCBU˜1/BBS-3˜1.5-B/R/include" -DNDEBUG     -I"C:/local323/include"     -O2 -Wall  -mtune=core2 -c validate.cpp -o validate.o
C:/Rtools/mingw_32/bin/g++ -shared -s -static-libgcc -o minet.dll tmp.def aracne.o clr.o minet.o mrnet.o validate.o -LC:/local323/lib/i386 -LC:/local323/lib -LC:/Users/BIOCBU˜1/BBS-3˜1.5-B/R/bin/i386 -lR
installing to C:/Users/biocbuild/bbs-3.5-bioc/meat/minet.buildbin-libdir/minet/libs/i386
** R
** data
** inst
** preparing package for lazy loading
** help
*** installing help indices
** building package indices
** testing if installed package can be loaded
install for x64
* installing *source* package 'minet' ...
** libs
C:/Rtools/mingw_64/bin/g++  -I"C:/Users/BIOCBU˜1/BBS-3˜1.5-B/R/include" -DNDEBUG     -I"C:/local323/include"     -O2 -Wall  -mtune=core2 -c aracne.cpp -o aracne.o
C:/Rtools/mingw_64/bin/g++  -I"C:/Users/BIOCBU˜1/BBS-3˜1.5-B/R/include" -DNDEBUG     -I"C:/local323/include"     -O2 -Wall  -mtune=core2 -c clr.cpp -o clr.o
C:/Rtools/mingw_64/bin/g++  -I"C:/Users/BIOCBU˜1/BBS-3˜1.5-B/R/include" -DNDEBUG     -I"C:/local323/include"     -O2 -Wall  -mtune=core2 -c minet.cpp -o minet.o
C:/Rtools/mingw_64/bin/g++  -I"C:/Users/BIOCBU˜1/BBS-3˜1.5-B/R/include" -DNDEBUG     -I"C:/local323/include"     -O2 -Wall  -mtune=core2 -c mrnet.cpp -o mrnet.o
mrnet.cpp: In function 'SEXPREC* mrnet(SEXP, SEXP)':
mrnet.cpp:190:34: warning: comparison between signed and unsigned integer expressions [-Wsign-compare]
                   for( int l=0; l<n; ++l )  
                                  ^
C:/Rtools/mingw_64/bin/g++  -I"C:/Users/BIOCBU˜1/BBS-3˜1.5-B/R/include" -DNDEBUG     -I"C:/local323/include"     -O2 -Wall  -mtune=core2 -c validate.cpp -o validate.o
C:/Rtools/mingw_64/bin/g++ -shared -s -static-libgcc -o minet.dll tmp.def aracne.o clr.o minet.o mrnet.o validate.o -LC:/local323/lib/x64 -LC:/local323/lib -LC:/Users/BIOCBU˜1/BBS-3˜1.5-B/R/bin/x64 -lR
installing to C:/Users/biocbuild/bbs-3.5-bioc/meat/minet.buildbin-libdir/minet/libs/x64
** testing if installed package can be loaded
* MD5 sums
packaged installation of 'minet' as minet_3.34.0.zip
* DONE (minet)
* installing to library 'C:/Users/biocbuild/bbs-3.5-bioc/R/library'
package 'minet' successfully unpacked and MD5 sums checked