| methylPipe 1.10.0 Kamal Kishore
 
 | Snapshot Date: 2017-10-17 17:00:52 -0400 (Tue, 17 Oct 2017) |  | URL: https://git.bioconductor.org/packages/methylPipe |  | Branch: RELEASE_3_5 |  | Last Commit: 1436c60 |  | Last Changed Date: 2017-04-24 15:45:44 -0400 (Mon, 24 Apr 2017) | 
 | malbec2 | Linux (Ubuntu 16.04.1 LTS) / x86_64 | OK | OK | WARNINGS |  |  | 
| tokay2 | Windows Server 2012 R2 Standard / x64 | OK | OK | WARNINGS | OK |  | 
| veracruz2 | OS X 10.11.6 El Capitan / x86_64 | OK | OK | WARNINGS | [ OK ] |  | 
##############################################################################
##############################################################################
###
### Running command:
###
###   rm -rf methylPipe.buildbin-libdir && mkdir methylPipe.buildbin-libdir && /Users/biocbuild/BBS/utils/build-universal.sh methylPipe_1.10.0.tar.gz /Library/Frameworks/R.framework/Versions/Current/Resources/bin/R methylPipe.buildbin-libdir
###
##############################################################################
##############################################################################
>>>>>>> 
>>>>>>> INSTALLATION WITH 'R CMD INSTALL --preclean --no-multiarch --library=methylPipe.buildbin-libdir methylPipe_1.10.0.tar.gz'
>>>>>>> 
* installing *source* package ‘methylPipe’ ...
** libs
clang -I/Library/Frameworks/R.framework/Resources/include -DNDEBUG   -I/usr/local/include   -fPIC  -Wall -g -O2  -c R_init_methylPipe.c -o R_init_methylPipe.o
clang -I/Library/Frameworks/R.framework/Resources/include -DNDEBUG   -I/usr/local/include   -fPIC  -Wall -g -O2  -c binning.c -o binning.o
clang -dynamiclib -Wl,-headerpad_max_install_names -undefined dynamic_lookup -single_module -multiply_defined suppress -L/Library/Frameworks/R.framework/Resources/lib -L/usr/local/lib -o methylPipe.so R_init_methylPipe.o binning.o -F/Library/Frameworks/R.framework/.. -framework R -Wl,-framework -Wl,CoreFoundation
installing to /Users/biocbuild/bbs-3.5-bioc/meat/methylPipe.buildbin-libdir/methylPipe/libs
** R
** exec
** inst
** preparing package for lazy loading
** help
*** installing help indices
** building package indices
** installing vignettes
** testing if installed package can be loaded
* DONE (methylPipe)
>>>>>>> 
>>>>>>> FIXING LINKS FOR methylPipe.buildbin-libdir/methylPipe/libs//methylPipe.so
>>>>>>> 
install_name_tool -change "/usr/local/lib/libgcc_s.1.dylib" "/Library/Frameworks/R.framework/Versions/3.4/Resources/lib/libgcc_s.1.dylib" "methylPipe.buildbin-libdir/methylPipe/libs//methylPipe.so"
install_name_tool -change "/usr/local/lib/libgfortran.3.dylib" "/Library/Frameworks/R.framework/Versions/3.4/Resources/lib/libgfortran.3.dylib" "methylPipe.buildbin-libdir/methylPipe/libs//methylPipe.so"
install_name_tool -change "/usr/local/lib/libreadline.5.2.dylib" "/Library/Frameworks/R.framework/Versions/3.4/Resources/lib/libreadline.5.2.dylib" "methylPipe.buildbin-libdir/methylPipe/libs//methylPipe.so"
install_name_tool -change "/usr/local/lib/libreadline.dylib" "/Library/Frameworks/R.framework/Versions/3.4/Resources/lib/libreadline.dylib" "methylPipe.buildbin-libdir/methylPipe/libs//methylPipe.so"
install_name_tool -change "/usr/local/lib/libquadmath.0.dylib" "/Library/Frameworks/R.framework/Versions/3.4/Resources/lib/libquadmath.0.dylib" "methylPipe.buildbin-libdir/methylPipe/libs//methylPipe.so"