| idiogram 1.52.0 Karl J. Dykema
 
 | Snapshot Date: 2017-10-17 17:00:52 -0400 (Tue, 17 Oct 2017) |  | URL: https://git.bioconductor.org/packages/idiogram |  | Branch: RELEASE_3_5 |  | Last Commit: b90cb0b |  | Last Changed Date: 2017-04-24 15:45:44 -0400 (Mon, 24 Apr 2017) | 
 | malbec2 | Linux (Ubuntu 16.04.1 LTS) / x86_64 | OK | OK | OK |  |  | 
| tokay2 | Windows Server 2012 R2 Standard / x64 | [ OK ] | OK | OK | OK |  | 
| veracruz2 | OS X 10.11.6 El Capitan / x86_64 | OK | OK | OK | OK |  | 
##############################################################################
##############################################################################
###
### Running command:
###
###   rm -rf idiogram.buildbin-libdir && mkdir idiogram.buildbin-libdir  && C:\cygwin\bin\curl.exe -O http://172.29.0.4/BBS/3.5/bioc/src/contrib/idiogram_1.52.0.tar.gz && C:\Users\biocbuild\bbs-3.5-bioc\R\bin\R.exe CMD INSTALL --build --library=idiogram.buildbin-libdir --merge-multiarch idiogram_1.52.0.tar.gz && C:\Users\biocbuild\bbs-3.5-bioc\R\bin\R.exe CMD INSTALL idiogram_1.52.0.zip  && rm idiogram_1.52.0.tar.gz idiogram_1.52.0.zip
###
##############################################################################
##############################################################################
  % Total    % Received % Xferd  Average Speed   Time    Time     Time  Current
                                 Dload  Upload   Total   Spent    Left  Speed
  0     0    0     0    0     0      0      0 --:--:-- --:--:-- --:--:--     0
100 1669k  100 1669k    0     0  42.1M      0 --:--:-- --:--:-- --:--:-- 44.0M
install for i386
* installing *source* package 'idiogram' ...
** R
** data
*** moving datasets to lazyload DB
** preparing package for lazy loading
** help
*** installing help indices
** building package indices
** installing vignettes
** testing if installed package can be loaded
install for x64
* installing *source* package 'idiogram' ...
** testing if installed package can be loaded
* MD5 sums
packaged installation of 'idiogram' as idiogram_1.52.0.zip
* DONE (idiogram)
* installing to library 'C:/Users/biocbuild/bbs-3.5-bioc/R/library'
package 'idiogram' successfully unpacked and MD5 sums checked