| ggtree 1.7.9 Guangchuang Yu
 
 | Snapshot Date: 2017-03-03 17:15:47 -0500 (Fri, 03 Mar 2017) |  | URL: https://hedgehog.fhcrc.org/bioconductor/trunk/madman/Rpacks/ggtree |  | Last Changed Rev: 127093 / Revision: 127142 |  | Last Changed Date: 2017-03-01 22:05:18 -0500 (Wed, 01 Mar 2017) | 
 | malbec2 | Linux (Ubuntu 16.04.1 LTS) / x86_64 | OK | OK | OK |  |  | 
| tokay2 | Windows Server 2012 R2 Standard / x64 | OK | OK | OK | OK |  | 
| toluca2 | Mac OS X Mavericks (10.9.5) / x86_64 | OK | OK | OK | OK |  | 
| oaxaca | Mac OS X Mavericks (10.9.5) / x86_64 | [ OK ] | OK | OK | OK |  | 
##############################################################################
##############################################################################
###
### Running command:
###
###   /Library/Frameworks/R.framework/Versions/Current/Resources/bin/R CMD INSTALL ggtree
###
##############################################################################
##############################################################################
* installing to library ‘/Library/Frameworks/R.framework/Versions/3.4/Resources/library’
* installing *source* package ‘ggtree’ ...
** R
** inst
** byte-compile and prepare package for lazy loading
Note: wrong number of arguments to '>' 
** help
*** installing help indices
** building package indices
** installing vignettes
** testing if installed package can be loaded
* DONE (ggtree)