Back to the "Multiple platform build/check report" A  B  C  D  E  F [G] H  I  J  K  L  M  N  O  P  Q  R  S  T  U  V  W  X  Y  Z 

BioC 3.5: BUILD report for ggcyto on oaxaca

This page was generated on 2017-03-04 16:51:30 -0500 (Sat, 04 Mar 2017).

Package 539/1339HostnameOS / ArchINSTALLBUILDCHECKBUILD BIN
ggcyto 1.3.6
Mike Jiang
Snapshot Date: 2017-03-03 17:15:47 -0500 (Fri, 03 Mar 2017)
URL: https://hedgehog.fhcrc.org/bioconductor/trunk/madman/Rpacks/ggcyto
Last Changed Rev: 127009 / Revision: 127142
Last Changed Date: 2017-02-27 18:06:39 -0500 (Mon, 27 Feb 2017)
malbec2 Linux (Ubuntu 16.04.1 LTS) / x86_64  OK  OK  OK UNNEEDED, same version exists in internal repository
tokay2 Windows Server 2012 R2 Standard / x64  OK  OK  OK  OK UNNEEDED, same version exists in internal repository
toluca2 Mac OS X Mavericks (10.9.5) / x86_64  OK  OK  OK  OK UNNEEDED, same version exists in internal repository
oaxaca Mac OS X Mavericks (10.9.5) / x86_64  OK [ OK ] OK  OK 

Summary

Package: ggcyto
Version: 1.3.6
Command: /Library/Frameworks/R.framework/Versions/Current/Resources/bin/R CMD build --keep-empty-dirs --no-resave-data ggcyto
StartedAt: 2017-03-03 20:35:14 -0800 (Fri, 03 Mar 2017)
EndedAt: 2017-03-03 20:38:03 -0800 (Fri, 03 Mar 2017)
EllapsedTime: 168.9 seconds
RetCode: 0
Status:  OK 
PackageFile: ggcyto_1.3.6.tar.gz
PackageFileSize: 14.75 MiB

Command output

##############################################################################
##############################################################################
###
### Running command:
###
###   /Library/Frameworks/R.framework/Versions/Current/Resources/bin/R CMD build --keep-empty-dirs --no-resave-data ggcyto
###
##############################################################################
##############################################################################


* checking for file ‘ggcyto/DESCRIPTION’ ... OK
* preparing ‘ggcyto’:
* checking DESCRIPTION meta-information ... OK
* installing the package to process help pages
* saving partial Rd database
* creating vignettes ... OK
* checking for LF line-endings in source and make files
* checking for empty or unneeded directories
* building ‘ggcyto_1.3.6.tar.gz’