| genefilter 1.57.0 Bioconductor Package Maintainer
 
 | Snapshot Date: 2017-04-22 17:18:01 -0400 (Sat, 22 Apr 2017) |  | URL: https://hedgehog.fhcrc.org/bioconductor/trunk/madman/Rpacks/genefilter |  | Last Changed Rev: 122712 / Revision: 129046 |  | Last Changed Date: 2016-10-17 15:10:43 -0400 (Mon, 17 Oct 2016) | 
 | malbec2 | Linux (Ubuntu 16.04.1 LTS) / x86_64 | OK | OK | WARNINGS |  |  | 
| tokay2 | Windows Server 2012 R2 Standard / x64 | OK | OK | WARNINGS | OK |  | 
| toluca2 | Mac OS X Mavericks (10.9.5) / x86_64 | OK | OK | WARNINGS | [ OK ] |  | 
| veracruz2 | OS X 10.11.6 El Capitan / x86_64 | OK | OK | WARNINGS | OK |  | 
##############################################################################
##############################################################################
###
### Running command:
###
###   rm -rf genefilter.buildbin-libdir && mkdir genefilter.buildbin-libdir && /Users/biocbuild/BBS/utils/build-universal.sh genefilter_1.57.0.tar.gz /Library/Frameworks/R.framework/Versions/Current/Resources/bin/R genefilter.buildbin-libdir
###
##############################################################################
##############################################################################
>>>>>>> 
>>>>>>> INSTALLATION WITH 'R CMD INSTALL --preclean --no-multiarch --library=genefilter.buildbin-libdir genefilter_1.57.0.tar.gz'
>>>>>>> 
* installing *source* package ‘genefilter’ ...
** libs
clang++  -I/Library/Frameworks/R.framework/Resources/include -DNDEBUG   -I/usr/local/include -I/usr/local/include/freetype2 -I/opt/X11/include   -fPIC  -Wall -mtune=core2 -g -O2  -c half_range_mode.cpp -o half_range_mode.o
clang -I/Library/Frameworks/R.framework/Resources/include -DNDEBUG   -I/usr/local/include -I/usr/local/include/freetype2 -I/opt/X11/include   -fPIC  -Wall -mtune=core2 -g -O2  -c init.c -o init.o
clang -I/Library/Frameworks/R.framework/Resources/include -DNDEBUG   -I/usr/local/include -I/usr/local/include/freetype2 -I/opt/X11/include   -fPIC  -Wall -mtune=core2 -g -O2  -c nd.c -o nd.o
clang -I/Library/Frameworks/R.framework/Resources/include -DNDEBUG   -I/usr/local/include -I/usr/local/include/freetype2 -I/opt/X11/include   -fPIC  -Wall -mtune=core2 -g -O2  -c pAUC.c -o pAUC.o
clang -I/Library/Frameworks/R.framework/Resources/include -DNDEBUG   -I/usr/local/include -I/usr/local/include/freetype2 -I/opt/X11/include   -fPIC  -Wall -mtune=core2 -g -O2  -c rowPAUCs.c -o rowPAUCs.o
clang -I/Library/Frameworks/R.framework/Resources/include -DNDEBUG   -I/usr/local/include -I/usr/local/include/freetype2 -I/opt/X11/include   -fPIC  -Wall -mtune=core2 -g -O2  -c rowttests.c -o rowttests.o
gfortran-4.8   -fPIC  -g -O2  -c ttest.f -o ttest.o
clang++ -dynamiclib -Wl,-headerpad_max_install_names -undefined dynamic_lookup -single_module -multiply_defined suppress -L/Library/Frameworks/R.framework/Resources/lib -L/usr/local/lib -o genefilter.so half_range_mode.o init.o nd.o pAUC.o rowPAUCs.o rowttests.o ttest.o -L/usr/local/lib/gcc/x86_64-apple-darwin13.0.0/4.8.2 -lgfortran -lquadmath -lm -F/Library/Frameworks/R.framework/.. -framework R -Wl,-framework -Wl,CoreFoundation
installing to /Users/biocbuild/bbs-3.5-bioc/meat/genefilter.buildbin-libdir/genefilter/libs
** R
** data
*** moving datasets to lazyload DB
** inst
** preparing package for lazy loading
** help
*** installing help indices
** building package indices
** installing vignettes
** testing if installed package can be loaded
* DONE (genefilter)
>>>>>>> 
>>>>>>> FIXING LINKS FOR genefilter.buildbin-libdir/genefilter/libs//genefilter.so
>>>>>>> 
install_name_tool -change "/usr/local/lib/libgcc_s.1.dylib" "/Library/Frameworks/R.framework/Versions/3.4/Resources/lib/libgcc_s.1.dylib" "genefilter.buildbin-libdir/genefilter/libs//genefilter.so"
install_name_tool -change "/usr/local/lib/libgfortran.3.dylib" "/Library/Frameworks/R.framework/Versions/3.4/Resources/lib/libgfortran.3.dylib" "genefilter.buildbin-libdir/genefilter/libs//genefilter.so"
install_name_tool -change "/usr/local/lib/libreadline.5.2.dylib" "/Library/Frameworks/R.framework/Versions/3.4/Resources/lib/libreadline.5.2.dylib" "genefilter.buildbin-libdir/genefilter/libs//genefilter.so"
install_name_tool -change "/usr/local/lib/libreadline.dylib" "/Library/Frameworks/R.framework/Versions/3.4/Resources/lib/libreadline.dylib" "genefilter.buildbin-libdir/genefilter/libs//genefilter.so"
install_name_tool -change "/usr/local/lib/libquadmath.0.dylib" "/Library/Frameworks/R.framework/Versions/3.4/Resources/lib/libquadmath.0.dylib" "genefilter.buildbin-libdir/genefilter/libs//genefilter.so"