| fastseg 1.22.0 Guenter Klambauer
 
 | Snapshot Date: 2017-10-17 17:00:52 -0400 (Tue, 17 Oct 2017) |  | URL: https://git.bioconductor.org/packages/fastseg |  | Branch: RELEASE_3_5 |  | Last Commit: a4c0384 |  | Last Changed Date: 2017-04-24 15:45:44 -0400 (Mon, 24 Apr 2017) | 
 | malbec2 | Linux (Ubuntu 16.04.1 LTS) / x86_64 | [ OK ] | OK | OK |  |  | 
| tokay2 | Windows Server 2012 R2 Standard / x64 | OK | OK | OK | OK |  | 
| veracruz2 | OS X 10.11.6 El Capitan / x86_64 | OK | OK | OK | OK |  | 
##############################################################################
##############################################################################
###
### Running command:
###
###   /home/biocbuild/bbs-3.5-bioc/R/bin/R CMD INSTALL fastseg
###
##############################################################################
##############################################################################
* installing to library ‘/home/biocbuild/bbs-3.5-bioc/R/library’
* installing *source* package ‘fastseg’ ...
** libs
gcc -I/home/biocbuild/bbs-3.5-bioc/R/include -DNDEBUG   -I/usr/local/include   -fpic  -g -O2  -Wall -c R_init_fastseg.c -o R_init_fastseg.o
g++  -I/home/biocbuild/bbs-3.5-bioc/R/include -DNDEBUG   -I/usr/local/include   -fpic  -g -O2  -Wall -c segment.cpp -o segment.o
segment.cpp: In function ‘SEXPREC* segment(SEXP, SEXP, SEXP, SEXP, SEXP, SEXP, SEXP)’:
segment.cpp:60:20: warning: variable ‘globalSd’ set but not used [-Wunused-but-set-variable]
  double globalMean,globalSd,diff,M2,globalVariance;
                    ^
segment.cpp:61:9: warning: variable ‘oldStatistic’ set but not used [-Wunused-but-set-variable]
  double oldStatistic, meanLeft,meanRight,varLeft,varRight;
         ^
segment.cpp:62:31: warning: variable ‘maxStatistic’ set but not used [-Wunused-but-set-variable]
  double newStatistic,meanDiff,maxStatistic,DOF,a,b,eps1;
                               ^
segment.cpp:63:40: warning: variable ‘maxIdx’ set but not used [-Wunused-but-set-variable]
  double newPValue, maxPValue,oldPValue,maxIdx;
                                        ^
In file included from segment.cpp:10:0:
/home/biocbuild/bbs-3.5-bioc/R/include/Rmath.h:228:15: warning: unused variable ‘Rf_beta’ [-Wunused-variable]
 #define beta  Rf_beta
               ^
segment.cpp:65:9: note: in expansion of macro ‘beta’
  double beta,nn;
         ^
g++  -I/home/biocbuild/bbs-3.5-bioc/R/include -DNDEBUG   -I/usr/local/include   -fpic  -g -O2  -Wall -c segmentCyberT.cpp -o segmentCyberT.o
segmentCyberT.cpp: In function ‘SEXPREC* segmentCyberT(SEXP, SEXP, SEXP, SEXP, SEXP, SEXP, SEXP, SEXP)’:
segmentCyberT.cpp:59:20: warning: variable ‘globalSd’ set but not used [-Wunused-but-set-variable]
  double globalMean,globalSd,diff,M2,globalVariance;
                    ^
segmentCyberT.cpp:60:9: warning: variable ‘oldStatistic’ set but not used [-Wunused-but-set-variable]
  double oldStatistic,meanLeft,meanRight,varLeft,varRight;
         ^
segmentCyberT.cpp:61:31: warning: variable ‘maxStatistic’ set but not used [-Wunused-but-set-variable]
  double newStatistic,meanDiff,maxStatistic,DOF,a,b,eps1;
                               ^
In file included from segmentCyberT.cpp:10:0:
/home/biocbuild/bbs-3.5-bioc/R/include/Rmath.h:228:15: warning: unused variable ‘Rf_beta’ [-Wunused-variable]
 #define beta  Rf_beta
               ^
segmentCyberT.cpp:63:50: note: in expansion of macro ‘beta’
  double newStatisticBptLeft,newStatisticBptRight,beta,nn;
                                                  ^
g++ -shared -L/home/biocbuild/bbs-3.5-bioc/R/lib -L/usr/local/lib -o fastseg.so R_init_fastseg.o segment.o segmentCyberT.o -L/home/biocbuild/bbs-3.5-bioc/R/lib -lR
installing to /home/biocbuild/bbs-3.5-bioc/R/library/fastseg/libs
** R
** data
** inst
** preparing package for lazy loading
** help
*** installing help indices
** building package indices
** installing vignettes
** testing if installed package can be loaded
* DONE (fastseg)