| derfinder 1.9.11 Leonardo Collado-Torres
 
 | Snapshot Date: 2017-04-22 17:18:01 -0400 (Sat, 22 Apr 2017) |  | URL: https://hedgehog.fhcrc.org/bioconductor/trunk/madman/Rpacks/derfinder |  | Last Changed Rev: 127600 / Revision: 129046 |  | Last Changed Date: 2017-03-21 18:11:09 -0400 (Tue, 21 Mar 2017) | 
 | malbec2 | Linux (Ubuntu 16.04.1 LTS) / x86_64 | OK | OK | OK |  |  | 
| tokay2 | Windows Server 2012 R2 Standard / x64 | OK | OK | OK | OK |  | 
| toluca2 | Mac OS X Mavericks (10.9.5) / x86_64 | OK | OK | OK | [ OK ] |  | 
| veracruz2 | OS X 10.11.6 El Capitan / x86_64 | OK | OK | OK | OK |  | 
##############################################################################
##############################################################################
###
### Running command:
###
###   rm -rf derfinder.buildbin-libdir && mkdir derfinder.buildbin-libdir && /Users/biocbuild/BBS/utils/build-universal.sh derfinder_1.9.11.tar.gz /Library/Frameworks/R.framework/Versions/Current/Resources/bin/R derfinder.buildbin-libdir
###
##############################################################################
##############################################################################
>>>>>>> 
>>>>>>> INSTALLATION WITH 'R CMD INSTALL --preclean --no-multiarch --library=derfinder.buildbin-libdir derfinder_1.9.11.tar.gz'
>>>>>>> 
* installing *source* package ‘derfinder’ ...
** R
** data
*** moving datasets to lazyload DB
** inst
** preparing package for lazy loading
** help
*** installing help indices
** building package indices
** installing vignettes
** testing if installed package can be loaded
* DONE (derfinder)