| customProDB 1.15.1 xiaojing wang
 
 | Snapshot Date: 2017-02-14 17:15:56 -0500 (Tue, 14 Feb 2017) |  | URL: https://hedgehog.fhcrc.org/bioconductor/trunk/madman/Rpacks/customProDB |  | Last Changed Rev: 126610 / Revision: 126756 |  | Last Changed Date: 2017-02-08 17:29:59 -0500 (Wed, 08 Feb 2017) | 
 | malbec2 | Linux (Ubuntu 16.04.1 LTS) / x86_64 | OK | ERROR | skipped |  |  | 
| tokay2 | Windows Server 2012 R2 Standard / x64 | OK | ERROR | skipped | skipped |  | 
| oaxaca | Mac OS X Mavericks (10.9.5) / x86_64 | OK | OK | OK | [ OK ] |  | 
| toluca2 | Mac OS X Mavericks (10.9.5) / x86_64 | OK | OK | OK | OK |  | 
##############################################################################
##############################################################################
###
### Running command:
###
###   rm -rf customProDB.buildbin-libdir && mkdir customProDB.buildbin-libdir && /Users/biocbuild/BBS/utils/build-universal.sh customProDB_1.15.1.tar.gz /Library/Frameworks/R.framework/Versions/Current/Resources/bin/R customProDB.buildbin-libdir
###
##############################################################################
##############################################################################
>>>>>>> 
>>>>>>> INSTALLATION WITH 'R CMD INSTALL --preclean --no-multiarch --library=customProDB.buildbin-libdir customProDB_1.15.1.tar.gz'
>>>>>>> 
* installing *source* package ‘customProDB’ ...
** R
** inst
** preparing package for lazy loading
** help
*** installing help indices
** building package indices
** installing vignettes
** testing if installed package can be loaded
* DONE (customProDB)