| ctc 1.50.0 Antoine Lucas
 
 | Snapshot Date: 2017-10-17 17:00:52 -0400 (Tue, 17 Oct 2017) |  | URL: https://git.bioconductor.org/packages/ctc |  | Branch: RELEASE_3_5 |  | Last Commit: 4ee7519 |  | Last Changed Date: 2017-04-24 15:45:44 -0400 (Mon, 24 Apr 2017) | 
 | malbec2 | Linux (Ubuntu 16.04.1 LTS) / x86_64 | OK | OK | OK |  |  | 
| tokay2 | Windows Server 2012 R2 Standard / x64 | [ OK ] | OK | OK | OK |  | 
| veracruz2 | OS X 10.11.6 El Capitan / x86_64 | OK | OK | OK | OK |  | 
##############################################################################
##############################################################################
###
### Running command:
###
###   rm -rf ctc.buildbin-libdir && mkdir ctc.buildbin-libdir  && C:\cygwin\bin\curl.exe -O http://172.29.0.4/BBS/3.5/bioc/src/contrib/ctc_1.50.0.tar.gz && C:\Users\biocbuild\bbs-3.5-bioc\R\bin\R.exe CMD INSTALL --build --library=ctc.buildbin-libdir --merge-multiarch ctc_1.50.0.tar.gz && C:\Users\biocbuild\bbs-3.5-bioc\R\bin\R.exe CMD INSTALL ctc_1.50.0.zip  && rm ctc_1.50.0.tar.gz ctc_1.50.0.zip
###
##############################################################################
##############################################################################
  % Total    % Received % Xferd  Average Speed   Time    Time     Time  Current
                                 Dload  Upload   Total   Spent    Left  Speed
  0     0    0     0    0     0      0      0 --:--:-- --:--:-- --:--:--     0
 78 14597   78 11439    0     0  69299      0 --:--:-- --:--:-- --:--:-- 69327
100 14597  100 14597    0     0  88221      0 --:--:-- --:--:-- --:--:-- 88466
install for i386
* installing *source* package 'ctc' ...
** R
** demo
** exec
** preparing package for lazy loading
** help
*** installing help indices
** building package indices
** installing vignettes
** testing if installed package can be loaded
install for x64
* installing *source* package 'ctc' ...
** testing if installed package can be loaded
* MD5 sums
packaged installation of 'ctc' as ctc_1.50.0.zip
* DONE (ctc)
* installing to library 'C:/Users/biocbuild/bbs-3.5-bioc/R/library'
package 'ctc' successfully unpacked and MD5 sums checked