| crossmeta 1.1.10 Alex Pickering
 
 | Snapshot Date: 2017-04-22 17:18:01 -0400 (Sat, 22 Apr 2017) |  | URL: https://hedgehog.fhcrc.org/bioconductor/trunk/madman/Rpacks/crossmeta |  | Last Changed Rev: 128811 / Revision: 129046 |  | Last Changed Date: 2017-04-17 23:07:56 -0400 (Mon, 17 Apr 2017) | 
 | malbec2 | Linux (Ubuntu 16.04.1 LTS) / x86_64 | OK | OK | WARNINGS |  |  | 
| tokay2 | Windows Server 2012 R2 Standard / x64 | OK | OK | WARNINGS | OK |  | 
| toluca2 | Mac OS X Mavericks (10.9.5) / x86_64 | OK | OK | WARNINGS | [ OK ] |  | 
| veracruz2 | OS X 10.11.6 El Capitan / x86_64 | OK | OK | WARNINGS | OK |  | 
##############################################################################
##############################################################################
###
### Running command:
###
###   rm -rf crossmeta.buildbin-libdir && mkdir crossmeta.buildbin-libdir && /Users/biocbuild/BBS/utils/build-universal.sh crossmeta_1.1.10.tar.gz /Library/Frameworks/R.framework/Versions/Current/Resources/bin/R crossmeta.buildbin-libdir
###
##############################################################################
##############################################################################
>>>>>>> 
>>>>>>> INSTALLATION WITH 'R CMD INSTALL --preclean --no-multiarch --library=crossmeta.buildbin-libdir crossmeta_1.1.10.tar.gz'
>>>>>>> 
* installing *source* package ‘crossmeta’ ...
** R
** inst
** preparing package for lazy loading
** help
*** installing help indices
** building package indices
** installing vignettes
** testing if installed package can be loaded
* DONE (crossmeta)