crlmm 1.34.0 Benilton S Carvalho
 | Snapshot Date: 2017-10-17 17:00:52 -0400 (Tue, 17 Oct 2017) |  | URL: https://git.bioconductor.org/packages/crlmm |  | Branch: RELEASE_3_5 |  | Last Commit: c46f8d0 |  | Last Changed Date: 2017-04-24 15:45:44 -0400 (Mon, 24 Apr 2017) |  
  | malbec2  | Linux (Ubuntu 16.04.1 LTS) / x86_64  | [ OK ] |  OK  |  OK  |  |   | 
| tokay2  | Windows Server 2012 R2 Standard / x64  |  OK  |  OK  |  OK  |  OK  |   | 
| veracruz2  | OS X 10.11.6 El Capitan / x86_64  |  OK  |  OK  |  OK  |  OK  |   | 
##############################################################################
##############################################################################
###
### Running command:
###
###   /home/biocbuild/bbs-3.5-bioc/R/bin/R CMD INSTALL crlmm
###
##############################################################################
##############################################################################
* installing to library ‘/home/biocbuild/bbs-3.5-bioc/R/library’
* installing *source* package ‘crlmm’ ...
** libs
gcc -I/home/biocbuild/bbs-3.5-bioc/R/include -DNDEBUG  -I"/home/biocbuild/bbs-3.5-bioc/R/library/preprocessCore/include" -I/usr/local/include   -fpic  -g -O2  -Wall -c gtypeCaller.c -o gtypeCaller.o
gcc -I/home/biocbuild/bbs-3.5-bioc/R/include -DNDEBUG  -I"/home/biocbuild/bbs-3.5-bioc/R/library/preprocessCore/include" -I/usr/local/include   -fpic  -g -O2  -Wall -c init.c -o init.o
gcc -I/home/biocbuild/bbs-3.5-bioc/R/include -DNDEBUG  -I"/home/biocbuild/bbs-3.5-bioc/R/library/preprocessCore/include" -I/usr/local/include   -fpic  -g -O2  -Wall -c trimmed.c -o trimmed.o
gcc -I/home/biocbuild/bbs-3.5-bioc/R/include -DNDEBUG  -I"/home/biocbuild/bbs-3.5-bioc/R/library/preprocessCore/include" -I/usr/local/include   -fpic  -g -O2  -Wall -c utils.c -o utils.o
gcc -shared -L/home/biocbuild/bbs-3.5-bioc/R/lib -L/usr/local/lib -o crlmm.so gtypeCaller.o init.o trimmed.o utils.o -L/home/biocbuild/bbs-3.5-bioc/R/lib -lR
installing to /home/biocbuild/bbs-3.5-bioc/R/library/crlmm/libs
** R
** data
** inst
** preparing package for lazy loading
No methods found in "RSQLite" for requests: dbGetQuery
** help
*** installing help indices
** building package indices
** installing vignettes
** testing if installed package can be loaded
No methods found in "RSQLite" for requests: dbGetQuery
* DONE (crlmm)