| a4Base 1.24.0 Tobias Verbeke
 
 | Snapshot Date: 2017-10-17 17:00:52 -0400 (Tue, 17 Oct 2017) |  | URL: https://git.bioconductor.org/packages/a4Base |  | Branch: RELEASE_3_5 |  | Last Commit: f674afe |  | Last Changed Date: 2017-04-24 15:45:44 -0400 (Mon, 24 Apr 2017) | 
 | malbec2 | Linux (Ubuntu 16.04.1 LTS) / x86_64 | OK | OK | ERROR |  |  | 
| tokay2 | Windows Server 2012 R2 Standard / x64 | [ OK ] | OK | OK | OK |  | 
| veracruz2 | OS X 10.11.6 El Capitan / x86_64 | OK | OK | OK | OK |  | 
##############################################################################
##############################################################################
###
### Running command:
###
###   rm -rf a4Base.buildbin-libdir && mkdir a4Base.buildbin-libdir  && C:\cygwin\bin\curl.exe -O http://172.29.0.4/BBS/3.5/bioc/src/contrib/a4Base_1.24.0.tar.gz && C:\Users\biocbuild\bbs-3.5-bioc\R\bin\R.exe CMD INSTALL --build --library=a4Base.buildbin-libdir --merge-multiarch a4Base_1.24.0.tar.gz && C:\Users\biocbuild\bbs-3.5-bioc\R\bin\R.exe CMD INSTALL a4Base_1.24.0.zip  && rm a4Base_1.24.0.tar.gz a4Base_1.24.0.zip
###
##############################################################################
##############################################################################
  % Total    % Received % Xferd  Average Speed   Time    Time     Time  Current
                                 Dload  Upload   Total   Spent    Left  Speed
  0     0    0     0    0     0      0      0 --:--:-- --:--:-- --:--:--     0
100  345k  100  345k    0     0  14.4M      0 --:--:-- --:--:-- --:--:-- 15.3M
install for i386
* installing *source* package 'a4Base' ...
** R
** data
** inst
** preparing package for lazy loading
** help
*** installing help indices
** building package indices
** testing if installed package can be loaded
install for x64
* installing *source* package 'a4Base' ...
** testing if installed package can be loaded
* MD5 sums
packaged installation of 'a4Base' as a4Base_1.24.0.zip
* DONE (a4Base)
* installing to library 'C:/Users/biocbuild/bbs-3.5-bioc/R/library'
package 'a4Base' successfully unpacked and MD5 sums checked