TCGAbiolinks 2.5.9 Antonio Colaprico
Snapshot Date: 2017-10-17 17:00:52 -0400 (Tue, 17 Oct 2017) | URL: https://git.bioconductor.org/packages/TCGAbiolinks | Branch: RELEASE_3_5 | Last Commit: 3cac966 | Last Changed Date: 2017-09-14 20:23:09 -0400 (Thu, 14 Sep 2017) |
| malbec2 | Linux (Ubuntu 16.04.1 LTS) / x86_64 | OK | OK | OK | | |
tokay2 | Windows Server 2012 R2 Standard / x64 | OK | OK | OK | OK | |
veracruz2 | OS X 10.11.6 El Capitan / x86_64 | OK | OK | [ OK ] | OK | |
##############################################################################
##############################################################################
###
### Running command:
###
### /Library/Frameworks/R.framework/Versions/Current/Resources/bin/R CMD check --no-vignettes --timings TCGAbiolinks_2.5.9.tar.gz
###
##############################################################################
##############################################################################
* using log directory ‘/Users/biocbuild/bbs-3.5-bioc/meat/TCGAbiolinks.Rcheck’
* using R version 3.4.2 (2017-09-28)
* using platform: x86_64-apple-darwin15.6.0 (64-bit)
* using session charset: UTF-8
* using option ‘--no-vignettes’
* checking for file ‘TCGAbiolinks/DESCRIPTION’ ... OK
* checking extension type ... Package
* this is package ‘TCGAbiolinks’ version ‘2.5.9’
* checking package namespace information ... OK
* checking package dependencies ... OK
* checking if this is a source package ... OK
* checking if there is a namespace ... OK
* checking for hidden files and directories ... OK
* checking for portable file names ... OK
* checking for sufficient/correct file permissions ... OK
* checking whether package ‘TCGAbiolinks’ can be installed ... OK
* checking installed package size ... NOTE
installed size is 74.5Mb
sub-directories of 1Mb or more:
R 1.1Mb
data 2.3Mb
doc 70.9Mb
* checking package directory ... OK
* checking ‘build’ directory ... OK
* checking DESCRIPTION meta-information ... OK
* checking top-level files ... OK
* checking for left-over files ... OK
* checking index information ... OK
* checking package subdirectories ... OK
* checking R files for non-ASCII characters ... OK
* checking R files for syntax errors ... OK
* checking whether the package can be loaded ... OK
* checking whether the package can be loaded with stated dependencies ... OK
* checking whether the package can be unloaded cleanly ... OK
* checking whether the namespace can be loaded with stated dependencies ... OK
* checking whether the namespace can be unloaded cleanly ... OK
* checking dependencies in R code ... OK
* checking S3 generic/method consistency ... OK
* checking replacement functions ... OK
* checking foreign function calls ... OK
* checking R code for possible problems ... NOTE
GDCquery_clinic: no visible binding for global variable ‘portions’
TCGAanalyze_DEA_Affy: no visible global function definition for
‘limmamakeContrasts’
TCGAanalyze_DEA_Affy: no visible global function definition for
‘limmacontrasts.fit’
TCGAanalyze_analyseGRN: no visible global function definition for
‘knnmi.cross’
TCGAanalyze_networkInference: no visible global function definition for
‘c3net’
TCGAanalyze_networkInference: no visible global function definition for
‘minet’
TCGAvisualize_SurvivalCoxNET: no visible global function definition for
‘dNetInduce’
TCGAvisualize_SurvivalCoxNET: no visible global function definition for
‘dNetPipeline’
TCGAvisualize_SurvivalCoxNET: no visible global function definition for
‘dCommSignif’
TCGAvisualize_SurvivalCoxNET: no visible global function definition for
‘visNet’
TCGAvisualize_oncoprint: no visible binding for global variable ‘value’
getTSS: no visible global function definition for ‘promoters’
Undefined global functions or variables:
c3net dCommSignif dNetInduce dNetPipeline knnmi.cross
limmacontrasts.fit limmamakeContrasts minet portions promoters value
visNet
* checking Rd files ... OK
* checking Rd metadata ... OK
* checking Rd cross-references ... OK
* checking for missing documentation entries ... OK
* checking for code/documentation mismatches ... OK
* checking Rd \usage sections ... OK
* checking Rd contents ... OK
* checking for unstated dependencies in examples ... OK
* checking contents of ‘data’ directory ... OK
* checking data for non-ASCII characters ... OK
* checking data for ASCII and uncompressed saves ... OK
* checking R/sysdata.rda ... OK
* checking installed files from ‘inst/doc’ ... OK
* checking files in ‘vignettes’ ... OK
* checking examples ... OK
Examples with CPU or elapsed time > 5s
user system elapsed
TCGAvisualize_starburst 80.120 2.921 132.615
GDCquery 29.294 0.175 37.265
TCGAanalyze_DMR 21.422 0.210 22.415
TCGAanalyze_LevelTab 17.626 0.542 18.676
GDCdownload 8.743 0.554 80.640
TCGAanalyze_Filtering 8.796 0.223 9.274
GDCprepare 8.744 0.215 13.949
TCGAanalyze_DEA 8.193 0.313 8.781
TCGAVisualize_volcano 7.055 0.048 7.310
TCGAanalyze_survival 6.872 0.100 12.353
GDCprepare_clinic 6.261 0.066 9.405
TCGAanalyze_SurvivalKM 2.223 0.065 20.429
* checking for unstated dependencies in ‘tests’ ... OK
* checking tests ...
Running ‘testthat.R’
OK
* checking for unstated dependencies in vignettes ... NOTE
'library' or 'require' call not declared from: ‘DT’
* checking package vignettes in ‘inst/doc’ ... OK
* checking running R code from vignettes ... SKIPPED
* checking re-building of vignette outputs ... SKIPPED
* checking PDF version of manual ... OK
* DONE
Status: 3 NOTEs
See
‘/Users/biocbuild/bbs-3.5-bioc/meat/TCGAbiolinks.Rcheck/00check.log’
for details.