| SpidermiR 1.7.4 Claudia Cava
 
 | Snapshot Date: 2017-10-17 17:00:52 -0400 (Tue, 17 Oct 2017) |  | URL: https://git.bioconductor.org/packages/SpidermiR |  | Branch: RELEASE_3_5 |  | Last Commit: 5b0ea33 |  | Last Changed Date: 2017-09-20 05:26:58 -0400 (Wed, 20 Sep 2017) | 
 | malbec2 | Linux (Ubuntu 16.04.1 LTS) / x86_64 | OK | [ OK ] | OK |  |  | 
| tokay2 | Windows Server 2012 R2 Standard / x64 | OK | OK | OK | OK |  | 
| veracruz2 | OS X 10.11.6 El Capitan / x86_64 | OK | OK | OK | OK |  | 
##############################################################################
##############################################################################
###
### Running command:
###
###   /home/biocbuild/bbs-3.5-bioc/R/bin/R CMD build --keep-empty-dirs --no-resave-data SpidermiR
###
##############################################################################
##############################################################################
* checking for file ‘SpidermiR/DESCRIPTION’ ... OK
* preparing ‘SpidermiR’:
* checking DESCRIPTION meta-information ... OK
* installing the package to build vignettes
* creating vignettes ... OK
Warning: ‘inst/doc’ file
    ‘SpidermiRcasestudy.R’
  ignored as vignettes have been rebuilt.
  Run R CMD build with --no-build-vignettes to prevent rebuilding.
* checking for LF line-endings in source and make files and shell scripts
* checking for empty or unneeded directories
* looking to see if a ‘data/datalist’ file should be added
* building ‘SpidermiR_1.7.4.tar.gz’