| SpacePAC 1.14.0 Gregory Ryslik
 
 | Snapshot Date: 2017-10-17 17:00:52 -0400 (Tue, 17 Oct 2017) |  | URL: https://git.bioconductor.org/packages/SpacePAC |  | Branch: RELEASE_3_5 |  | Last Commit: 3acacd6 |  | Last Changed Date: 2017-04-24 15:45:44 -0400 (Mon, 24 Apr 2017) | 
 | malbec2 | Linux (Ubuntu 16.04.1 LTS) / x86_64 | OK | OK | OK |  |  | 
| tokay2 | Windows Server 2012 R2 Standard / x64 | OK | OK | OK | [ OK ] |  | 
| veracruz2 | OS X 10.11.6 El Capitan / x86_64 | OK | OK | OK | OK |  | 
##############################################################################
##############################################################################
###
### Running command:
###
###   cd SpacePAC.buildbin-libdir/SpacePAC && zip -r ../../SpacePAC_1.14.0.zip . & cd ../..
###
##############################################################################
##############################################################################
  adding: DESCRIPTION (264 bytes security) (deflated 35%)
  adding: doc/ (304 bytes security) (stored 0%)
  adding: doc/index.html (264 bytes security) (deflated 58%)
  adding: doc/SpacePAC.pdf (264 bytes security) (deflated 5%)
  adding: doc/SpacePAC.R (264 bytes security) (deflated 68%)
  adding: doc/SpacePAC.Rnw (264 bytes security) (deflated 64%)
  adding: help/ (304 bytes security) (stored 0%)
  adding: help/aliases.rds (264 bytes security) (stored 0%)
  adding: help/AnIndex (264 bytes security) (deflated 51%)
  adding: help/paths.rds (264 bytes security) (stored 0%)
  adding: help/SpacePAC.rdb (264 bytes security) (stored 0%)
  adding: help/SpacePAC.rdx (264 bytes security) (stored 0%)
  adding: html/ (304 bytes security) (stored 0%)
  adding: html/00Index.html (264 bytes security) (deflated 60%)
  adding: html/R.css (264 bytes security) (deflated 75%)
  adding: INDEX (264 bytes security) (deflated 45%)
  adding: MD5 (264 bytes security) (deflated 42%)
  adding: Meta/ (304 bytes security) (stored 0%)
  adding: Meta/features.rds (264 bytes security) (stored 0%)
  adding: Meta/hsearch.rds (264 bytes security) (stored 0%)
  adding: Meta/links.rds (264 bytes security) (stored 0%)
  adding: Meta/nsInfo.rds (264 bytes security) (stored 0%)
  adding: Meta/package.rds (264 bytes security) (stored 0%)
  adding: Meta/Rd.rds (264 bytes security) (stored 0%)
  adding: Meta/vignette.rds (264 bytes security) (stored 0%)
  adding: NAMESPACE (264 bytes security) (stored 0%)
  adding: NEWS.Rd (264 bytes security) (deflated 38%)
  adding: R/ (304 bytes security) (stored 0%)
  adding: R/SpacePAC (264 bytes security) (deflated 41%)
  adding: R/SpacePAC.rdb (264 bytes security) (deflated 3%)
  adding: R/SpacePAC.rdx (264 bytes security) (stored 0%)
  adding: unitTests/ (304 bytes security) (stored 0%)
  adding: unitTests/test_SpaceClust.R (264 bytes security) (deflated 58%)