| Rsubread 1.25.2 Wei Shi
 
 | Snapshot Date: 2017-04-22 17:18:01 -0400 (Sat, 22 Apr 2017) |  | URL: https://hedgehog.fhcrc.org/bioconductor/trunk/madman/Rpacks/Rsubread |  | Last Changed Rev: 127407 / Revision: 129046 |  | Last Changed Date: 2017-03-15 00:12:59 -0400 (Wed, 15 Mar 2017) | 
 | malbec2 | Linux (Ubuntu 16.04.1 LTS) / x86_64 | OK | OK | OK |  |  | 
| tokay2 | Windows Server 2012 R2 Standard / x64 | ...NOT SUPPORTED...NOT SUPPORTED...NOT SUPPORTED... | 
| toluca2 | Mac OS X Mavericks (10.9.5) / x86_64 | OK | [ OK ] | OK | OK |  | 
| veracruz2 | OS X 10.11.6 El Capitan / x86_64 | OK | OK | OK | OK |  | 
##############################################################################
##############################################################################
###
### Running command:
###
###   /Library/Frameworks/R.framework/Versions/Current/Resources/bin/R CMD build --keep-empty-dirs --no-resave-data Rsubread
###
##############################################################################
##############################################################################
* checking for file ‘Rsubread/DESCRIPTION’ ... OK
* preparing ‘Rsubread’:
* checking DESCRIPTION meta-information ... OK
* cleaning src
* installing the package to build vignettes
* creating vignettes ... OK
* cleaning src
* checking for LF line-endings in source and make files
* checking for empty or unneeded directories
* building ‘Rsubread_1.25.2.tar.gz’