| ReportingTools 2.16.0 Jason A. Hackney , Gabriel Becker
 
 | Snapshot Date: 2017-10-17 17:00:52 -0400 (Tue, 17 Oct 2017) |  | URL: https://git.bioconductor.org/packages/ReportingTools |  | Branch: RELEASE_3_5 |  | Last Commit: b1aa0ea |  | Last Changed Date: 2017-04-24 15:45:44 -0400 (Mon, 24 Apr 2017) | 
 | malbec2 | Linux (Ubuntu 16.04.1 LTS) / x86_64 | OK | OK | OK |  |  | 
| tokay2 | Windows Server 2012 R2 Standard / x64 | OK | OK | OK | OK |  | 
| veracruz2 | OS X 10.11.6 El Capitan / x86_64 | OK | OK | OK | [ OK ] |  | 
##############################################################################
##############################################################################
###
### Running command:
###
###   rm -rf ReportingTools.buildbin-libdir && mkdir ReportingTools.buildbin-libdir && /Users/biocbuild/BBS/utils/build-universal.sh ReportingTools_2.16.0.tar.gz /Library/Frameworks/R.framework/Versions/Current/Resources/bin/R ReportingTools.buildbin-libdir
###
##############################################################################
##############################################################################
>>>>>>> 
>>>>>>> INSTALLATION WITH 'R CMD INSTALL --preclean --no-multiarch --library=ReportingTools.buildbin-libdir ReportingTools_2.16.0.tar.gz'
>>>>>>> 
* installing *source* package ‘ReportingTools’ ...
** R
** data
** inst
** byte-compile and prepare package for lazy loading
in method for 'objectToHTML' with signature 'object="ggbio"': no definition for class "ggbio"
Note: no visible binding for '<<-' assignment to '.reportDirectory' 
Note: no visible binding for '<<-' assignment to '.reportDirectory' 
** help
*** installing help indices
** building package indices
** installing vignettes
** testing if installed package can be loaded
* DONE (ReportingTools)