| PROMISE 1.28.0 Stan Pounds , Xueyuan Cao
 
 | Snapshot Date: 2017-10-17 17:00:52 -0400 (Tue, 17 Oct 2017) |  | URL: https://git.bioconductor.org/packages/PROMISE |  | Branch: RELEASE_3_5 |  | Last Commit: eca0d06 |  | Last Changed Date: 2017-04-24 15:45:44 -0400 (Mon, 24 Apr 2017) | 
 | malbec2 | Linux (Ubuntu 16.04.1 LTS) / x86_64 | OK | OK | OK |  |  | 
| tokay2 | Windows Server 2012 R2 Standard / x64 | [ OK ] | OK | OK | OK |  | 
| veracruz2 | OS X 10.11.6 El Capitan / x86_64 | OK | OK | OK | OK |  | 
##############################################################################
##############################################################################
###
### Running command:
###
###   rm -rf PROMISE.buildbin-libdir && mkdir PROMISE.buildbin-libdir  && C:\cygwin\bin\curl.exe -O http://172.29.0.4/BBS/3.5/bioc/src/contrib/PROMISE_1.28.0.tar.gz && C:\Users\biocbuild\bbs-3.5-bioc\R\bin\R.exe CMD INSTALL --build --library=PROMISE.buildbin-libdir --merge-multiarch PROMISE_1.28.0.tar.gz && C:\Users\biocbuild\bbs-3.5-bioc\R\bin\R.exe CMD INSTALL PROMISE_1.28.0.zip  && rm PROMISE_1.28.0.tar.gz PROMISE_1.28.0.zip
###
##############################################################################
##############################################################################
  % Total    % Received % Xferd  Average Speed   Time    Time     Time  Current
                                 Dload  Upload   Total   Spent    Left  Speed
  0     0    0     0    0     0      0      0 --:--:-- --:--:-- --:--:--     0
100  170k  100  170k    0     0  7175k      0 --:--:-- --:--:-- --:--:-- 7764k
install for i386
* installing *source* package 'PROMISE' ...
** R
** data
** preparing package for lazy loading
** help
*** installing help indices
** building package indices
** installing vignettes
** testing if installed package can be loaded
install for x64
* installing *source* package 'PROMISE' ...
** testing if installed package can be loaded
* MD5 sums
packaged installation of 'PROMISE' as PROMISE_1.28.0.zip
* DONE (PROMISE)
* installing to library 'C:/Users/biocbuild/bbs-3.5-bioc/R/library'
package 'PROMISE' successfully unpacked and MD5 sums checked