| InteractionSet 1.4.0 Aaron Lun
 
 | Snapshot Date: 2017-10-17 17:00:52 -0400 (Tue, 17 Oct 2017) |  | URL: https://git.bioconductor.org/packages/InteractionSet |  | Branch: RELEASE_3_5 |  | Last Commit: 2726dcc |  | Last Changed Date: 2017-04-24 15:45:44 -0400 (Mon, 24 Apr 2017) | 
 | malbec2 | Linux (Ubuntu 16.04.1 LTS) / x86_64 | OK | OK | OK |  |  | 
| tokay2 | Windows Server 2012 R2 Standard / x64 | [ OK ] | OK | OK | OK |  | 
| veracruz2 | OS X 10.11.6 El Capitan / x86_64 | OK | OK | OK | OK |  | 
##############################################################################
##############################################################################
###
### Running command:
###
###   rm -rf InteractionSet.buildbin-libdir && mkdir InteractionSet.buildbin-libdir  && C:\cygwin\bin\curl.exe -O http://172.29.0.4/BBS/3.5/bioc/src/contrib/InteractionSet_1.4.0.tar.gz && C:\Users\biocbuild\bbs-3.5-bioc\R\bin\R.exe CMD INSTALL --build --library=InteractionSet.buildbin-libdir --merge-multiarch InteractionSet_1.4.0.tar.gz && C:\Users\biocbuild\bbs-3.5-bioc\R\bin\R.exe CMD INSTALL InteractionSet_1.4.0.zip  && rm InteractionSet_1.4.0.tar.gz InteractionSet_1.4.0.zip
###
##############################################################################
##############################################################################
  % Total    % Received % Xferd  Average Speed   Time    Time     Time  Current
                                 Dload  Upload   Total   Spent    Left  Speed
  0     0    0     0    0     0      0      0 --:--:-- --:--:-- --:--:--     0
100 78252  100 78252    0     0  3099k      0 --:--:-- --:--:-- --:--:-- 3322k
install for i386
* installing *source* package 'InteractionSet' ...
** libs
C:/Rtools/mingw_32/bin/g++  -I"C:/Users/BIOCBU˜1/BBS-3˜1.5-B/R/include" -DNDEBUG     -I"C:/local323/include"     -O2 -Wall  -mtune=core2 -c box_bounds.cpp -o box_bounds.o
C:/Rtools/mingw_32/bin/g++  -I"C:/Users/BIOCBU˜1/BBS-3˜1.5-B/R/include" -DNDEBUG     -I"C:/local323/include"     -O2 -Wall  -mtune=core2 -c init.cpp -o init.o
C:/Rtools/mingw_32/bin/g++  -I"C:/Users/BIOCBU˜1/BBS-3˜1.5-B/R/include" -DNDEBUG     -I"C:/local323/include"     -O2 -Wall  -mtune=core2 -c overlaps.cpp -o overlaps.o
C:/Rtools/mingw_32/bin/g++ -shared -s -static-libgcc -o InteractionSet.dll tmp.def box_bounds.o init.o overlaps.o -LC:/local323/lib/i386 -LC:/local323/lib -LC:/Users/BIOCBU˜1/BBS-3˜1.5-B/R/bin/i386 -lR
installing to C:/Users/biocbuild/bbs-3.5-bioc/meat/InteractionSet.buildbin-libdir/InteractionSet/libs/i386
** R
** inst
** preparing package for lazy loading
** help
*** installing help indices
** building package indices
** installing vignettes
** testing if installed package can be loaded
install for x64
* installing *source* package 'InteractionSet' ...
** libs
C:/Rtools/mingw_64/bin/g++  -I"C:/Users/BIOCBU˜1/BBS-3˜1.5-B/R/include" -DNDEBUG     -I"C:/local323/include"     -O2 -Wall  -mtune=core2 -c box_bounds.cpp -o box_bounds.o
C:/Rtools/mingw_64/bin/g++  -I"C:/Users/BIOCBU˜1/BBS-3˜1.5-B/R/include" -DNDEBUG     -I"C:/local323/include"     -O2 -Wall  -mtune=core2 -c init.cpp -o init.o
C:/Rtools/mingw_64/bin/g++  -I"C:/Users/BIOCBU˜1/BBS-3˜1.5-B/R/include" -DNDEBUG     -I"C:/local323/include"     -O2 -Wall  -mtune=core2 -c overlaps.cpp -o overlaps.o
C:/Rtools/mingw_64/bin/g++ -shared -s -static-libgcc -o InteractionSet.dll tmp.def box_bounds.o init.o overlaps.o -LC:/local323/lib/x64 -LC:/local323/lib -LC:/Users/BIOCBU˜1/BBS-3˜1.5-B/R/bin/x64 -lR
installing to C:/Users/biocbuild/bbs-3.5-bioc/meat/InteractionSet.buildbin-libdir/InteractionSet/libs/x64
** testing if installed package can be loaded
* MD5 sums
packaged installation of 'InteractionSet' as InteractionSet_1.4.0.zip
* DONE (InteractionSet)
* installing to library 'C:/Users/biocbuild/bbs-3.5-bioc/R/library'
package 'InteractionSet' successfully unpacked and MD5 sums checked