| Icens 1.48.0 Bioconductor Package Maintainer
 
 | Snapshot Date: 2017-10-17 17:00:52 -0400 (Tue, 17 Oct 2017) |  | URL: https://git.bioconductor.org/packages/Icens |  | Branch: RELEASE_3_5 |  | Last Commit: 9f4b332 |  | Last Changed Date: 2017-04-24 15:45:44 -0400 (Mon, 24 Apr 2017) | 
 | malbec2 | Linux (Ubuntu 16.04.1 LTS) / x86_64 | OK | OK | OK |  |  | 
| tokay2 | Windows Server 2012 R2 Standard / x64 | OK | OK | OK | [ OK ] |  | 
| veracruz2 | OS X 10.11.6 El Capitan / x86_64 | OK | OK | OK | OK |  | 
##############################################################################
##############################################################################
###
### Running command:
###
###   cd Icens.buildbin-libdir/Icens && zip -r ../../Icens_1.48.0.zip . & cd ../..
###
##############################################################################
##############################################################################
  adding: data/ (304 bytes security) (stored 0%)
  adding: data/cmv.R (264 bytes security) (deflated 41%)
  adding: data/cosmesis.tab (264 bytes security) (deflated 65%)
  adding: data/hiv.R (264 bytes security) (deflated 48%)
  adding: data/pruitt.R (264 bytes security) (deflated 42%)
  adding: DESCRIPTION (264 bytes security) (deflated 36%)
  adding: extdata/ (304 bytes security) (stored 0%)
  adding: extdata/CMVdata (264 bytes security) (deflated 74%)
  adding: extdata/Heavy (264 bytes security) (deflated 82%)
  adding: extdata/Lightly (264 bytes security) (deflated 88%)
  adding: help/ (304 bytes security) (stored 0%)
  adding: help/aliases.rds (264 bytes security) (stored 0%)
  adding: help/AnIndex (264 bytes security) (deflated 52%)
  adding: help/Icens.rdb (264 bytes security) (deflated 2%)
  adding: help/Icens.rdx (264 bytes security) (stored 0%)
  adding: help/paths.rds (264 bytes security) (stored 0%)
  adding: html/ (304 bytes security) (stored 0%)
  adding: html/00Index.html (264 bytes security) (deflated 70%)
  adding: html/R.css (264 bytes security) (deflated 75%)
  adding: INDEX (264 bytes security) (deflated 67%)
  adding: MD5 (264 bytes security) (deflated 41%)
  adding: Meta/ (304 bytes security) (stored 0%)
  adding: Meta/data.rds (264 bytes security) (stored 0%)
  adding: Meta/features.rds (264 bytes security) (stored 0%)
  adding: Meta/hsearch.rds (264 bytes security) (stored 0%)
  adding: Meta/links.rds (264 bytes security) (stored 0%)
  adding: Meta/nsInfo.rds (264 bytes security) (stored 0%)
  adding: Meta/package.rds (264 bytes security) (stored 0%)
  adding: Meta/Rd.rds (264 bytes security) (stored 0%)
  adding: NAMESPACE (264 bytes security) (deflated 33%)
  adding: R/ (304 bytes security) (stored 0%)
  adding: R/Icens (264 bytes security) (deflated 41%)
  adding: R/Icens.rdb (264 bytes security) (deflated 1%)
  adding: R/Icens.rdx (264 bytes security) (stored 0%)