| Back to the "Multiple platform build/check report" | A B C D E F [G] H I J K L M N O P Q R S T U V W X Y Z |
This page was generated on 2017-10-18 14:21:30 -0400 (Wed, 18 Oct 2017).
| Package 611/1381 | Hostname | OS / Arch | INSTALL | BUILD | CHECK | BUILD BIN | ||||||
| GWASTools 1.22.0 Stephanie M. Gogarten
| malbec2 | Linux (Ubuntu 16.04.1 LTS) / x86_64 | OK | OK | OK | |||||||
| tokay2 | Windows Server 2012 R2 Standard / x64 | OK | OK | [ OK ] | OK | |||||||
| veracruz2 | OS X 10.11.6 El Capitan / x86_64 | OK | OK | OK | OK |
| Package: GWASTools |
| Version: 1.22.0 |
| Command: rm -rf GWASTools.buildbin-libdir GWASTools.Rcheck && mkdir GWASTools.buildbin-libdir GWASTools.Rcheck && C:\Users\biocbuild\bbs-3.5-bioc\R\bin\R.exe CMD INSTALL --build --merge-multiarch --library=GWASTools.buildbin-libdir GWASTools_1.22.0.tar.gz >GWASTools.Rcheck\00install.out 2>&1 && cp GWASTools.Rcheck\00install.out GWASTools-install.out && C:\Users\biocbuild\bbs-3.5-bioc\R\bin\R.exe CMD check --library=GWASTools.buildbin-libdir --install="check:GWASTools-install.out" --force-multiarch --no-vignettes --timings GWASTools_1.22.0.tar.gz |
| StartedAt: 2017-10-18 00:30:41 -0400 (Wed, 18 Oct 2017) |
| EndedAt: 2017-10-18 00:41:45 -0400 (Wed, 18 Oct 2017) |
| EllapsedTime: 663.4 seconds |
| RetCode: 0 |
| Status: OK |
| CheckDir: GWASTools.Rcheck |
| Warnings: 0 |
##############################################################################
##############################################################################
###
### Running command:
###
### rm -rf GWASTools.buildbin-libdir GWASTools.Rcheck && mkdir GWASTools.buildbin-libdir GWASTools.Rcheck && C:\Users\biocbuild\bbs-3.5-bioc\R\bin\R.exe CMD INSTALL --build --merge-multiarch --library=GWASTools.buildbin-libdir GWASTools_1.22.0.tar.gz >GWASTools.Rcheck\00install.out 2>&1 && cp GWASTools.Rcheck\00install.out GWASTools-install.out && C:\Users\biocbuild\bbs-3.5-bioc\R\bin\R.exe CMD check --library=GWASTools.buildbin-libdir --install="check:GWASTools-install.out" --force-multiarch --no-vignettes --timings GWASTools_1.22.0.tar.gz
###
##############################################################################
##############################################################################
* using log directory 'C:/Users/biocbuild/bbs-3.5-bioc/meat/GWASTools.Rcheck'
* using R version 3.4.2 Patched (2017-10-07 r73498)
* using platform: x86_64-w64-mingw32 (64-bit)
* using session charset: ISO8859-1
* using option '--no-vignettes'
* checking for file 'GWASTools/DESCRIPTION' ... OK
* checking extension type ... Package
* this is package 'GWASTools' version '1.22.0'
* checking package namespace information ... OK
* checking package dependencies ... OK
* checking if this is a source package ... OK
* checking if there is a namespace ... OK
* checking for hidden files and directories ... OK
* checking for portable file names ... OK
* checking whether package 'GWASTools' can be installed ... OK
* checking installed package size ... OK
* checking package directory ... OK
* checking 'build' directory ... OK
* checking DESCRIPTION meta-information ... OK
* checking top-level files ... OK
* checking for left-over files ... OK
* checking index information ... OK
* checking package subdirectories ... OK
* checking R files for non-ASCII characters ... OK
* checking R files for syntax errors ... OK
* loading checks for arch 'i386'
** checking whether the package can be loaded ... OK
** checking whether the package can be loaded with stated dependencies ... OK
** checking whether the package can be unloaded cleanly ... OK
** checking whether the namespace can be loaded with stated dependencies ... OK
** checking whether the namespace can be unloaded cleanly ... OK
* loading checks for arch 'x64'
** checking whether the package can be loaded ... OK
** checking whether the package can be loaded with stated dependencies ... OK
** checking whether the package can be unloaded cleanly ... OK
** checking whether the namespace can be loaded with stated dependencies ... OK
** checking whether the namespace can be unloaded cleanly ... OK
* checking dependencies in R code ... OK
* checking S3 generic/method consistency ... OK
* checking replacement functions ... OK
* checking foreign function calls ... OK
* checking R code for possible problems ... OK
* checking Rd files ... OK
* checking Rd metadata ... OK
* checking Rd cross-references ... OK
* checking for missing documentation entries ... OK
* checking for code/documentation mismatches ... OK
* checking Rd \usage sections ... OK
* checking Rd contents ... OK
* checking for unstated dependencies in examples ... OK
* checking contents of 'data' directory ... OK
* checking data for non-ASCII characters ... OK
* checking data for ASCII and uncompressed saves ... OK
* checking installed files from 'inst/doc' ... OK
* checking files in 'vignettes' ... OK
* checking examples ...
** running examples for arch 'i386' ... OK
Examples with CPU or elapsed time > 5s
user system elapsed
vcfWrite 7.8 0.39 8.19
** running examples for arch 'x64' ... OK
Examples with CPU or elapsed time > 5s
user system elapsed
vcfWrite 10.75 0.14 10.89
* checking for unstated dependencies in 'tests' ... OK
* checking tests ...
** running tests for arch 'i386' ...
Running 'test.R'
OK
** running tests for arch 'x64' ...
Running 'test.R'
OK
* checking for unstated dependencies in vignettes ... OK
* checking package vignettes in 'inst/doc' ... OK
* checking running R code from vignettes ... SKIPPED
* checking re-building of vignette outputs ... SKIPPED
* checking PDF version of manual ... OK
* DONE
Status: OK
GWASTools.Rcheck/00install.out:
install for i386 * installing *source* package 'GWASTools' ... ** R ** data *** moving datasets to lazyload DB ** inst ** preparing package for lazy loading ** help *** installing help indices ** building package indices ** installing vignettes ** testing if installed package can be loaded install for x64 * installing *source* package 'GWASTools' ... ** testing if installed package can be loaded * MD5 sums packaged installation of 'GWASTools' as GWASTools_1.22.0.zip * DONE (GWASTools)
GWASTools.Rcheck/examples_i386/GWASTools-Ex.timings:
| name | user | system | elapsed | |
| BAFfromClusterMeans | 2.54 | 0.17 | 3.43 | |
| BAFfromGenotypes | 0 | 0 | 0 | |
| GdsGenotypeReader-class | 0.06 | 0.00 | 0.06 | |
| GdsIntensityReader-class | 0.03 | 0.00 | 0.03 | |
| GdsReader-class | 0.05 | 0.01 | 0.21 | |
| GenotypeData-class | 0.53 | 0.00 | 0.59 | |
| HLA | 0.02 | 0.02 | 0.03 | |
| IntensityData-class | 0.08 | 0.02 | 0.10 | |
| MatrixGenotypeReader-class | 0.04 | 0.00 | 0.04 | |
| NcdfGenotypeReader-class | 0.78 | 0.00 | 0.99 | |
| NcdfIntensityReader-class | 0.49 | 0.00 | 0.62 | |
| NcdfReader-class | 0.01 | 0.00 | 0.11 | |
| ScanAnnotationDataFrame-class | 0.13 | 0.01 | 0.19 | |
| ScanAnnotationSQLite-class | 0.28 | 0.00 | 0.28 | |
| SnpAnnotationDataFrame-class | 0.11 | 0.00 | 0.25 | |
| SnpAnnotationSQLite-class | 0.14 | 0.03 | 0.17 | |
| alleleFrequency | 0.28 | 0.00 | 0.28 | |
| allequal | 0.01 | 0.00 | 0.02 | |
| anomDetectBAF | 3.55 | 0.02 | 3.79 | |
| anomDetectLOH | 1.27 | 0.01 | 1.28 | |
| anomIdentifyLowQuality | 1.03 | 0.02 | 1.07 | |
| anomSegStats | 0.61 | 0.00 | 0.62 | |
| apartSnpSelection | 0.09 | 0.00 | 0.11 | |
| assocCoxPH | 0.45 | 0.02 | 0.47 | |
| assocRegression | 0.69 | 0.00 | 0.69 | |
| batchTest | 1.44 | 0.01 | 1.45 | |
| centromeres | 0.01 | 0.00 | 0.02 | |
| chromIntensityPlot | 0.07 | 0.02 | 0.07 | |
| convertNcdfGds | 0.92 | 0.03 | 1.00 | |
| createDataFile | 1.12 | 0.20 | 2.03 | |
| duplicateDiscordance | 0.61 | 0.00 | 0.61 | |
| duplicateDiscordanceAcrossDatasets | 0.32 | 0.00 | 0.32 | |
| duplicateDiscordanceProbability | 0 | 0 | 0 | |
| exactHWE | 0.14 | 0.05 | 0.18 | |
| findBAFvariance | 0.31 | 0.00 | 0.31 | |
| gdsSubset | 0.02 | 0.01 | 0.03 | |
| genoClusterPlot | 0.86 | 0.05 | 3.05 | |
| genotypeToCharacter | 0 | 0 | 0 | |
| getobj | 0 | 0 | 0 | |
| hetByScanChrom | 0.15 | 0.00 | 0.14 | |
| hetBySnpSex | 0.12 | 0.02 | 0.14 | |
| ibdPlot | 0.46 | 0.00 | 0.47 | |
| imputedDosageFile | 2.47 | 0.51 | 3.50 | |
| intensityOutliersPlot | 0.35 | 0.02 | 0.36 | |
| manhattanPlot | 0.06 | 0.00 | 0.06 | |
| meanIntensityByScanChrom | 0.31 | 0.00 | 0.32 | |
| mendelErr | 0.90 | 0.00 | 0.91 | |
| mendelList | 0.07 | 0.00 | 0.06 | |
| missingGenotypeByScanChrom | 0.06 | 0.01 | 0.08 | |
| missingGenotypeBySnpSex | 0.07 | 0.02 | 0.08 | |
| pasteSorted | 0 | 0 | 0 | |
| pcaSnpFilters | 0 | 0 | 0 | |
| pedigreeCheck | 0.26 | 0.00 | 0.27 | |
| pedigreeDeleteDuplicates | 0 | 0 | 0 | |
| pedigreeMaxUnrelated | 0.21 | 0.00 | 0.20 | |
| pedigreePairwiseRelatedness | 0.53 | 0.00 | 0.53 | |
| plinkUtils | 2.84 | 0.03 | 2.88 | |
| pseudoautoIntensityPlot | 0.08 | 0.00 | 0.08 | |
| pseudoautosomal | 0 | 0 | 0 | |
| qqPlot | 0.15 | 0.00 | 0.14 | |
| qualityScoreByScan | 0.17 | 0.00 | 0.17 | |
| qualityScoreBySnp | 0.04 | 0.00 | 0.05 | |
| readWriteFirst | 0.00 | 0.02 | 0.02 | |
| relationsMeanVar | 0 | 0 | 0 | |
| saveas | 0 | 0 | 0 | |
| setMissingGenotypes | 0.04 | 0.06 | 0.09 | |
| simulateGenotypeMatrix | 1.48 | 0.03 | 1.58 | |
| snpCorrelationPlot | 0.03 | 0.00 | 0.03 | |
| snpStats | 0.59 | 0.03 | 0.62 | |
| vcfWrite | 7.80 | 0.39 | 8.19 | |
GWASTools.Rcheck/examples_x64/GWASTools-Ex.timings:
| name | user | system | elapsed | |
| BAFfromClusterMeans | 1.83 | 0.07 | 2.10 | |
| BAFfromGenotypes | 0 | 0 | 0 | |
| GdsGenotypeReader-class | 0.09 | 0.00 | 0.11 | |
| GdsIntensityReader-class | 0.03 | 0.00 | 0.03 | |
| GdsReader-class | 0.06 | 0.00 | 0.06 | |
| GenotypeData-class | 0.58 | 0.00 | 0.58 | |
| HLA | 0.02 | 0.00 | 0.02 | |
| IntensityData-class | 0.06 | 0.00 | 0.06 | |
| MatrixGenotypeReader-class | 0.03 | 0.00 | 0.03 | |
| NcdfGenotypeReader-class | 1.33 | 0.04 | 1.60 | |
| NcdfIntensityReader-class | 0.41 | 0.00 | 0.40 | |
| NcdfReader-class | 0.01 | 0.00 | 0.02 | |
| ScanAnnotationDataFrame-class | 0.11 | 0.02 | 0.12 | |
| ScanAnnotationSQLite-class | 0.24 | 0.00 | 0.24 | |
| SnpAnnotationDataFrame-class | 0.09 | 0.00 | 0.09 | |
| SnpAnnotationSQLite-class | 0.16 | 0.00 | 0.16 | |
| alleleFrequency | 0.23 | 0.00 | 0.23 | |
| allequal | 0 | 0 | 0 | |
| anomDetectBAF | 2.80 | 0.01 | 2.81 | |
| anomDetectLOH | 1.03 | 0.04 | 1.07 | |
| anomIdentifyLowQuality | 1 | 0 | 1 | |
| anomSegStats | 0.78 | 0.01 | 0.79 | |
| apartSnpSelection | 0.09 | 0.00 | 0.10 | |
| assocCoxPH | 0.64 | 0.00 | 0.64 | |
| assocRegression | 0.99 | 0.00 | 0.98 | |
| batchTest | 1.76 | 0.11 | 1.88 | |
| centromeres | 0.00 | 0.02 | 0.01 | |
| chromIntensityPlot | 0.1 | 0.0 | 0.1 | |
| convertNcdfGds | 0.92 | 0.03 | 0.95 | |
| createDataFile | 0.78 | 0.12 | 0.91 | |
| duplicateDiscordance | 0.64 | 0.02 | 0.66 | |
| duplicateDiscordanceAcrossDatasets | 0.39 | 0.00 | 0.39 | |
| duplicateDiscordanceProbability | 0 | 0 | 0 | |
| exactHWE | 0.23 | 0.00 | 0.23 | |
| findBAFvariance | 0.41 | 0.00 | 0.41 | |
| gdsSubset | 0.03 | 0.01 | 0.06 | |
| genoClusterPlot | 1.11 | 0.04 | 1.14 | |
| genotypeToCharacter | 0 | 0 | 0 | |
| getobj | 0 | 0 | 0 | |
| hetByScanChrom | 0.11 | 0.01 | 0.13 | |
| hetBySnpSex | 0.09 | 0.00 | 0.09 | |
| ibdPlot | 0.35 | 0.02 | 0.50 | |
| imputedDosageFile | 1.90 | 0.25 | 2.16 | |
| intensityOutliersPlot | 0.39 | 0.01 | 0.41 | |
| manhattanPlot | 0.08 | 0.00 | 0.08 | |
| meanIntensityByScanChrom | 0.57 | 0.02 | 0.59 | |
| mendelErr | 0.85 | 0.00 | 0.84 | |
| mendelList | 0.06 | 0.00 | 0.07 | |
| missingGenotypeByScanChrom | 0.08 | 0.03 | 0.11 | |
| missingGenotypeBySnpSex | 0.08 | 0.01 | 0.09 | |
| pasteSorted | 0 | 0 | 0 | |
| pcaSnpFilters | 0 | 0 | 0 | |
| pedigreeCheck | 0.35 | 0.00 | 0.34 | |
| pedigreeDeleteDuplicates | 0 | 0 | 0 | |
| pedigreeMaxUnrelated | 0.26 | 0.00 | 0.27 | |
| pedigreePairwiseRelatedness | 0.66 | 0.00 | 0.65 | |
| plinkUtils | 2.90 | 0.05 | 2.95 | |
| pseudoautoIntensityPlot | 0.07 | 0.02 | 0.08 | |
| pseudoautosomal | 0 | 0 | 0 | |
| qqPlot | 0.12 | 0.00 | 0.13 | |
| qualityScoreByScan | 0.17 | 0.00 | 0.17 | |
| qualityScoreBySnp | 0.03 | 0.00 | 0.03 | |
| readWriteFirst | 0 | 0 | 0 | |
| relationsMeanVar | 0.00 | 0.01 | 0.01 | |
| saveas | 0 | 0 | 0 | |
| setMissingGenotypes | 0.05 | 0.05 | 0.10 | |
| simulateGenotypeMatrix | 1.19 | 0.11 | 1.29 | |
| snpCorrelationPlot | 0.01 | 0.00 | 0.02 | |
| snpStats | 0.63 | 0.08 | 0.72 | |
| vcfWrite | 10.75 | 0.14 | 10.89 | |