| DSS 2.15.1 Hao Wu
 
 | Snapshot Date: 2017-04-22 17:18:01 -0400 (Sat, 22 Apr 2017) |  | URL: https://hedgehog.fhcrc.org/bioconductor/trunk/madman/Rpacks/DSS |  | Last Changed Rev: 128686 / Revision: 129046 |  | Last Changed Date: 2017-04-13 16:40:11 -0400 (Thu, 13 Apr 2017) | 
 | malbec2 | Linux (Ubuntu 16.04.1 LTS) / x86_64 | OK | OK | WARNINGS |  |  | 
| tokay2 | Windows Server 2012 R2 Standard / x64 | OK | OK | WARNINGS | OK |  | 
| toluca2 | Mac OS X Mavericks (10.9.5) / x86_64 | [ OK ] | OK | WARNINGS | OK |  | 
| veracruz2 | OS X 10.11.6 El Capitan / x86_64 | OK | OK | WARNINGS | OK |  | 
##############################################################################
##############################################################################
###
### Running command:
###
###   /Library/Frameworks/R.framework/Versions/Current/Resources/bin/R CMD INSTALL DSS
###
##############################################################################
##############################################################################
* installing to library ‘/Library/Frameworks/R.framework/Versions/3.4/Resources/library’
* installing *source* package ‘DSS’ ...
** libs
clang -I/Library/Frameworks/R.framework/Resources/include -DNDEBUG   -I/usr/local/include -I/usr/local/include/freetype2 -I/opt/X11/include   -fPIC  -Wall -mtune=core2 -g -O2  -c compute_var_smooth.c -o compute_var_smooth.o
clang -I/Library/Frameworks/R.framework/Resources/include -DNDEBUG   -I/usr/local/include -I/usr/local/include/freetype2 -I/opt/X11/include   -fPIC  -Wall -mtune=core2 -g -O2  -c filter.c -o filter.o
clang -I/Library/Frameworks/R.framework/Resources/include -DNDEBUG   -I/usr/local/include -I/usr/local/include/freetype2 -I/opt/X11/include   -fPIC  -Wall -mtune=core2 -g -O2  -c nitem.c -o nitem.o
clang -dynamiclib -Wl,-headerpad_max_install_names -undefined dynamic_lookup -single_module -multiply_defined suppress -L/Library/Frameworks/R.framework/Resources/lib -L/usr/local/lib -o DSS.so compute_var_smooth.o filter.o nitem.o -F/Library/Frameworks/R.framework/.. -framework R -Wl,-framework -Wl,CoreFoundation
installing to /Library/Frameworks/R.framework/Versions/3.4/Resources/library/DSS/libs
** R
** data
** inst
** preparing package for lazy loading
** help
*** installing help indices
** building package indices
** installing vignettes
** testing if installed package can be loaded
* DONE (DSS)