| Back to the "Multiple platform build/check report" | A B [C] D E F G H I J K L M N O P Q R S T U V W X Y Z | 
This page was generated on 2017-10-18 14:16:43 -0400 (Wed, 18 Oct 2017).
| Package 268/1381 | Hostname | OS / Arch | INSTALL | BUILD | CHECK | BUILD BIN | ||||||
| ComplexHeatmap 1.14.0 Zuguang Gu 
 | malbec2 | Linux (Ubuntu 16.04.1 LTS) / x86_64 | OK | OK | [ OK ] |  | ||||||
| tokay2 | Windows Server 2012 R2 Standard / x64 | OK | OK | OK | OK |  | ||||||
| veracruz2 | OS X 10.11.6 El Capitan / x86_64 | OK | OK | OK | OK |  | 
| Package: ComplexHeatmap | 
| Version: 1.14.0 | 
| Command: /home/biocbuild/bbs-3.5-bioc/R/bin/R CMD check --no-vignettes --timings ComplexHeatmap_1.14.0.tar.gz | 
| StartedAt: 2017-10-17 22:15:55 -0400 (Tue, 17 Oct 2017) | 
| EndedAt: 2017-10-17 22:17:41 -0400 (Tue, 17 Oct 2017) | 
| EllapsedTime: 105.8 seconds | 
| RetCode: 0 | 
| Status: OK | 
| CheckDir: ComplexHeatmap.Rcheck | 
| Warnings: 0 | 
##############################################################################
##############################################################################
###
### Running command:
###
###   /home/biocbuild/bbs-3.5-bioc/R/bin/R CMD check --no-vignettes --timings ComplexHeatmap_1.14.0.tar.gz
###
##############################################################################
##############################################################################
* using log directory ‘/home/biocbuild/bbs-3.5-bioc/meat/ComplexHeatmap.Rcheck’
* using R version 3.4.2 (2017-09-28)
* using platform: x86_64-pc-linux-gnu (64-bit)
* using session charset: UTF-8
* using option ‘--no-vignettes’
* checking for file ‘ComplexHeatmap/DESCRIPTION’ ... OK
* checking extension type ... Package
* this is package ‘ComplexHeatmap’ version ‘1.14.0’
* checking package namespace information ... OK
* checking package dependencies ... OK
* checking if this is a source package ... OK
* checking if there is a namespace ... OK
* checking for hidden files and directories ... OK
* checking for portable file names ... OK
* checking for sufficient/correct file permissions ... OK
* checking whether package ‘ComplexHeatmap’ can be installed ... OK
* checking installed package size ... NOTE
  installed size is  5.6Mb
  sub-directories of 1Mb or more:
    doc   4.2Mb
* checking package directory ... OK
* checking ‘build’ directory ... OK
* checking DESCRIPTION meta-information ... OK
* checking top-level files ... OK
* checking for left-over files ... OK
* checking index information ... OK
* checking package subdirectories ... OK
* checking R files for non-ASCII characters ... OK
* checking R files for syntax errors ... OK
* checking whether the package can be loaded ... OK
* checking whether the package can be loaded with stated dependencies ... OK
* checking whether the package can be unloaded cleanly ... OK
* checking whether the namespace can be loaded with stated dependencies ... OK
* checking whether the namespace can be unloaded cleanly ... OK
* checking dependencies in R code ... OK
* checking S3 generic/method consistency ... OK
* checking replacement functions ... OK
* checking foreign function calls ... OK
* checking R code for possible problems ... OK
* checking Rd files ... OK
* checking Rd metadata ... OK
* checking Rd cross-references ... OK
* checking for missing documentation entries ... OK
* checking for code/documentation mismatches ... OK
* checking Rd \usage sections ... OK
* checking Rd contents ... OK
* checking for unstated dependencies in examples ... OK
* checking installed files from ‘inst/doc’ ... OK
* checking files in ‘vignettes’ ... OK
* checking examples ... OK
Examples with CPU or elapsed time > 5s
          user system elapsed
Heatmap 13.192  0.032  13.235
* checking for unstated dependencies in ‘tests’ ... OK
* checking tests ...
  Running ‘test-all.R’
 OK
* checking for unstated dependencies in vignettes ... OK
* checking package vignettes in ‘inst/doc’ ... OK
* checking running R code from vignettes ... SKIPPED
* checking re-building of vignette outputs ... SKIPPED
* checking PDF version of manual ... OK
* DONE
Status: 1 NOTE
See
  ‘/home/biocbuild/bbs-3.5-bioc/meat/ComplexHeatmap.Rcheck/00check.log’
for details.
ComplexHeatmap.Rcheck/00install.out:
* installing *source* package ‘ComplexHeatmap’ ... ** R ** inst ** preparing package for lazy loading ** help *** installing help indices ** building package indices ** installing vignettes ** testing if installed package can be loaded * DONE (ComplexHeatmap)
ComplexHeatmap.Rcheck/ComplexHeatmap-Ex.timings:
| name | user | system | elapsed | |
| AdditiveUnit-class | 0 | 0 | 0 | |
| AdditiveUnit | 0 | 0 | 0 | |
| ColorMapping-class | 0.000 | 0.000 | 0.001 | |
| ColorMapping | 0.180 | 0.000 | 0.199 | |
| ComplexHeatmap-package | 0.000 | 0.000 | 0.001 | |
| Heatmap-class | 0.000 | 0.000 | 0.001 | |
| Heatmap | 13.192 | 0.032 | 13.235 | |
| HeatmapAnnotation-class | 0 | 0 | 0 | |
| HeatmapAnnotation | 0.136 | 0.000 | 0.136 | |
| HeatmapList-class | 3.296 | 0.000 | 3.301 | |
| HeatmapList | 0 | 0 | 0 | |
| Legend | 0 | 0 | 0 | |
| SingleAnnotation-class | 0 | 0 | 0 | |
| SingleAnnotation | 0.068 | 0.000 | 0.067 | |
| add.AdditiveUnit | 3.504 | 0.004 | 3.507 | |
| add_heatmap-Heatmap-method | 1.128 | 0.000 | 1.130 | |
| add_heatmap-HeatmapAnnotation-method | 0.544 | 0.000 | 0.546 | |
| add_heatmap-HeatmapList-method | 1.648 | 0.000 | 1.650 | |
| add_heatmap-dispatch | 0.000 | 0.000 | 0.001 | |
| anno_barplot | 0.120 | 0.000 | 0.121 | |
| anno_boxplot | 0.204 | 0.000 | 0.206 | |
| anno_density | 0.44 | 0.00 | 0.44 | |
| anno_histogram | 0.112 | 0.008 | 0.120 | |
| anno_link | 1.364 | 0.092 | 1.457 | |
| anno_oncoprint_barplot | 0.004 | 0.000 | 0.001 | |
| anno_points | 0.028 | 0.000 | 0.030 | |
| anno_text | 0.264 | 0.000 | 0.264 | |
| annotation_legend_size-HeatmapList-method | 0.000 | 0.000 | 0.001 | |
| color_mapping_legend-ColorMapping-method | 0.152 | 0.000 | 0.151 | |
| columnAnnotation | 0.012 | 0.000 | 0.011 | |
| column_anno_barplot | 0 | 0 | 0 | |
| column_anno_boxplot | 0 | 0 | 0 | |
| column_anno_density | 0 | 0 | 0 | |
| column_anno_histogram | 0 | 0 | 0 | |
| column_anno_link | 0 | 0 | 0 | |
| column_anno_points | 0 | 0 | 0 | |
| column_anno_text | 0 | 0 | 0 | |
| column_dend-Heatmap-method | 0.076 | 0.004 | 0.080 | |
| column_dend-HeatmapList-method | 0.320 | 0.000 | 0.318 | |
| column_dend-dispatch | 0.000 | 0.000 | 0.001 | |
| column_order-Heatmap-method | 0.108 | 0.000 | 0.107 | |
| column_order-HeatmapList-method | 0.288 | 0.000 | 0.288 | |
| column_order-dispatch | 0 | 0 | 0 | |
| component_height-Heatmap-method | 0 | 0 | 0 | |
| component_height-HeatmapList-method | 0 | 0 | 0 | |
| component_height-dispatch | 0 | 0 | 0 | |
| component_width-Heatmap-method | 0 | 0 | 0 | |
| component_width-HeatmapList-method | 0 | 0 | 0 | |
| component_width-dispatch | 0.000 | 0.000 | 0.001 | |
| decorate_annotation | 0.492 | 0.000 | 0.494 | |
| decorate_column_dend | 0 | 0 | 0 | |
| decorate_column_names | 0.000 | 0.000 | 0.001 | |
| decorate_column_title | 0.000 | 0.000 | 0.001 | |
| decorate_dend | 0.240 | 0.000 | 0.241 | |
| decorate_dimnames | 0.276 | 0.000 | 0.278 | |
| decorate_heatmap_body | 0.236 | 0.000 | 0.237 | |
| decorate_row_dend | 0 | 0 | 0 | |
| decorate_row_names | 0 | 0 | 0 | |
| decorate_row_title | 0 | 0 | 0 | |
| decorate_title | 0.256 | 0.004 | 0.259 | |
| densityHeatmap | 3.572 | 0.000 | 3.571 | |
| dist2 | 0.032 | 0.000 | 0.032 | |
| draw-Heatmap-method | 0.296 | 0.000 | 0.294 | |
| draw-HeatmapAnnotation-method | 0.120 | 0.004 | 0.126 | |
| draw-HeatmapList-method | 1.136 | 0.000 | 1.133 | |
| draw-SingleAnnotation-method | 0.100 | 0.000 | 0.101 | |
| draw-dispatch | 0.004 | 0.000 | 0.001 | |
| draw_annotation-Heatmap-method | 0.000 | 0.000 | 0.001 | |
| draw_annotation_legend-HeatmapList-method | 0.000 | 0.000 | 0.001 | |
| draw_dend-Heatmap-method | 0.000 | 0.000 | 0.001 | |
| draw_dimnames-Heatmap-method | 0.000 | 0.000 | 0.001 | |
| draw_heatmap_body-Heatmap-method | 0 | 0 | 0 | |
| draw_heatmap_legend-HeatmapList-method | 0 | 0 | 0 | |
| draw_heatmap_list-HeatmapList-method | 0 | 0 | 0 | |
| draw_title-Heatmap-method | 0 | 0 | 0 | |
| draw_title-HeatmapList-method | 0 | 0 | 0 | |
| draw_title-dispatch | 0 | 0 | 0 | |
| enhanced_basicplot | 1.064 | 0.000 | 1.061 | |
| get_color_mapping_list-HeatmapAnnotation-method | 0 | 0 | 0 | |
| get_color_mapping_param_list-HeatmapAnnotation-method | 0.000 | 0.000 | 0.001 | |
| grid.dendrogram | 0.016 | 0.004 | 0.022 | |
| heatmap_legend_size-HeatmapList-method | 0.004 | 0.000 | 0.000 | |
| ht_global_opt | 0 | 0 | 0 | |
| is_abs_unit | 0.000 | 0.000 | 0.001 | |
| make_column_cluster-Heatmap-method | 0 | 0 | 0 | |
| make_layout-Heatmap-method | 0 | 0 | 0 | |
| make_layout-HeatmapList-method | 0 | 0 | 0 | |
| make_layout-dispatch | 0 | 0 | 0 | |
| make_row_cluster-Heatmap-method | 0.004 | 0.000 | 0.000 | |
| map_to_colors-ColorMapping-method | 0.016 | 0.000 | 0.019 | |
| max_text_height | 0.000 | 0.000 | 0.002 | |
| max_text_width | 0.000 | 0.000 | 0.002 | |
| oncoPrint | 0 | 0 | 0 | |
| packLegend | 0 | 0 | 0 | |
| plotDataFrame | 2.180 | 0.000 | 2.184 | |
| prepare-Heatmap-method | 0 | 0 | 0 | |
| rowAnnotation | 0.008 | 0.000 | 0.010 | |
| row_anno_barplot | 0.000 | 0.000 | 0.001 | |
| row_anno_boxplot | 0.000 | 0.000 | 0.001 | |
| row_anno_density | 0.000 | 0.000 | 0.001 | |
| row_anno_histogram | 0.000 | 0.000 | 0.001 | |
| row_anno_link | 0.000 | 0.000 | 0.001 | |
| row_anno_points | 0.000 | 0.000 | 0.001 | |
| row_anno_text | 0 | 0 | 0 | |
| row_dend-Heatmap-method | 0.128 | 0.000 | 0.125 | |
| row_dend-HeatmapList-method | 0.264 | 0.000 | 0.264 | |
| row_dend-dispatch | 0.000 | 0.000 | 0.001 | |
| row_order-Heatmap-method | 0.116 | 0.000 | 0.113 | |
| row_order-HeatmapList-method | 0.312 | 0.000 | 0.312 | |
| row_order-dispatch | 0 | 0 | 0 | |
| selectArea | 0.000 | 0.000 | 0.001 | |
| set_component_height-Heatmap-method | 0.000 | 0.000 | 0.001 | |
| show-ColorMapping-method | 0 | 0 | 0 | |
| show-Heatmap-method | 0.620 | 0.004 | 0.625 | |
| show-HeatmapAnnotation-method | 0 | 0 | 0 | |
| show-HeatmapList-method | 0 | 0 | 0 | |
| show-SingleAnnotation-method | 0 | 0 | 0 | |
| show-dispatch | 0 | 0 | 0 | |
| unify_mat_list | 0 | 0 | 0 | |