| Chicago 1.4.0 Mikhail Spivakov
 
 | Snapshot Date: 2017-10-17 17:00:52 -0400 (Tue, 17 Oct 2017) |  | URL: https://git.bioconductor.org/packages/Chicago |  | Branch: RELEASE_3_5 |  | Last Commit: 27ff343 |  | Last Changed Date: 2017-04-24 15:45:44 -0400 (Mon, 24 Apr 2017) | 
 | malbec2 | Linux (Ubuntu 16.04.1 LTS) / x86_64 | OK | OK | OK |  |  | 
| tokay2 | Windows Server 2012 R2 Standard / x64 | OK | OK | OK | [ OK ] |  | 
| veracruz2 | OS X 10.11.6 El Capitan / x86_64 | OK | OK | OK | OK |  | 
##############################################################################
##############################################################################
###
### Running command:
###
###   cd Chicago.buildbin-libdir/Chicago && zip -r ../../Chicago_1.4.0.zip . & cd ../..
###
##############################################################################
##############################################################################
  adding: CITATION (264 bytes security) (deflated 58%)
  adding: data/ (304 bytes security) (stored 0%)
  adding: data/cdUnitTest.rda (264 bytes security) (deflated 0%)
  adding: DESCRIPTION (264 bytes security) (deflated 37%)
  adding: doc/ (304 bytes security) (stored 0%)
  adding: doc/Chicago.html (264 bytes security) (deflated 50%)
  adding: doc/Chicago.R (264 bytes security) (deflated 76%)
  adding: doc/Chicago.Rmd (264 bytes security) (deflated 63%)
  adding: doc/index.html (264 bytes security) (deflated 58%)
  adding: extdata/ (304 bytes security) (stored 0%)
  adding: extdata/unitTestChIP/ (304 bytes security) (stored 0%)
  adding: extdata/unitTestChIP/featuresmESC.txt (264 bytes security) (deflated 48%)
  adding: extdata/unitTestChIP/unitTestCTCF_ENCFF001ZQY.broadPeak.bed (264 bytes security) (deflated 65%)
  adding: extdata/unitTestChIP/unitTestH3K27me3_ENCFF001ZJO.broadPeak.bed (264 bytes security) (deflated 57%)
  adding: extdata/unitTestChIP/unitTestwgEncodeLicrHistoneEse14H3k27acME0129olaStdPk.broadPeak (264 bytes security) (deflated 70%)
  adding: extdata/unitTestChIP/unitTestwgEncodeSydhHistEse14H3k04me3StdPk.narrowPeak (264 bytes security) (deflated 56%)
  adding: extdata/unitTestChIP/unitTestwgEncodeSydhHistEse14H3k09me3StdPk.narrowPeak (264 bytes security) (deflated 54%)
  adding: extdata/unitTestData/ (304 bytes security) (stored 0%)
  adding: extdata/unitTestData/unitTest_mESC_rep1.chinput (264 bytes security) (deflated 70%)
  adding: extdata/unitTestData/unitTest_mESC_rep2.chinput (264 bytes security) (deflated 69%)
  adding: extdata/unitTestDesign/ (304 bytes security) (stored 0%)
  adding: extdata/unitTestDesign/unitTest.baitmap (264 bytes security) (deflated 57%)
  adding: extdata/unitTestDesign/unitTest.nbpb (264 bytes security) (deflated 95%)
  adding: extdata/unitTestDesign/unitTest.npb (264 bytes security) (deflated 79%)
  adding: extdata/unitTestDesign/unitTest.poe (264 bytes security) (deflated 71%)
  adding: extdata/unitTestDesign/unitTest.rmap (264 bytes security) (deflated 67%)
  adding: extdata/weights/ (304 bytes security) (stored 0%)
  adding: extdata/weights/GM12878-2reps.settings (264 bytes security) (deflated 21%)
  adding: extdata/weights/humanMacrophage-7reps.settings (264 bytes security) (deflated 17%)
  adding: extdata/weights/mESC-2reps.settings (264 bytes security) (deflated 21%)
  adding: help/ (304 bytes security) (stored 0%)
  adding: help/aliases.rds (264 bytes security) (stored 0%)
  adding: help/AnIndex (264 bytes security) (deflated 69%)
  adding: help/Chicago.rdb (264 bytes security) (deflated 1%)
  adding: help/Chicago.rdx (264 bytes security) (stored 0%)
  adding: help/paths.rds (264 bytes security) (stored 0%)
  adding: html/ (304 bytes security) (stored 0%)
  adding: html/00Index.html (264 bytes security) (deflated 78%)
  adding: html/R.css (264 bytes security) (deflated 75%)
  adding: INDEX (264 bytes security) (deflated 61%)
  adding: MD5 (264 bytes security) (deflated 49%)
  adding: Meta/ (304 bytes security) (stored 0%)
  adding: Meta/data.rds (264 bytes security) (stored 0%)
  adding: Meta/features.rds (264 bytes security) (stored 0%)
  adding: Meta/hsearch.rds (264 bytes security) (stored 0%)
  adding: Meta/links.rds (264 bytes security) (stored 0%)
  adding: Meta/nsInfo.rds (264 bytes security) (stored 0%)
  adding: Meta/package.rds (264 bytes security) (stored 0%)
  adding: Meta/Rd.rds (264 bytes security) (stored 0%)
  adding: Meta/vignette.rds (264 bytes security) (stored 0%)
  adding: NAMESPACE (264 bytes security) (deflated 49%)
  adding: NEWS (264 bytes security) (deflated 46%)
  adding: R/ (304 bytes security) (stored 0%)
  adding: R/Chicago (264 bytes security) (deflated 41%)
  adding: R/Chicago.rdb (264 bytes security) (deflated 18%)
  adding: R/Chicago.rdx (264 bytes security) (stored 0%)