| simulatorZ 1.10.0 Yuqing Zhang
 
 | Snapshot Date: 2017-08-15 17:17:57 -0400 (Tue, 15 Aug 2017) |  | URL: https://hedgehog.fhcrc.org/bioconductor/branches/RELEASE_3_5/madman/Rpacks/simulatorZ |  | Last Changed Rev: 129126 / Revision: 131943 |  | Last Changed Date: 2017-04-24 15:25:24 -0400 (Mon, 24 Apr 2017) | 
 | malbec2 | Linux (Ubuntu 16.04.1 LTS) / x86_64 | OK | OK | OK |  |  | 
| tokay2 | Windows Server 2012 R2 Standard / x64 | OK | OK | OK | OK |  | 
| veracruz2 | OS X 10.11.6 El Capitan / x86_64 | [ OK ] | OK | OK | OK |  | 
##############################################################################
##############################################################################
###
### Running command:
###
###   /Library/Frameworks/R.framework/Versions/Current/Resources/bin/R CMD INSTALL simulatorZ
###
##############################################################################
##############################################################################
* installing to library ‘/Library/Frameworks/R.framework/Versions/3.4/Resources/library’
* installing *source* package ‘simulatorZ’ ...
** libs
clang++  -I/Library/Frameworks/R.framework/Resources/include -DNDEBUG   -I/usr/local/include   -fPIC  -Wall -g -O2  -c coxformatrices.cpp -o coxformatrices.o
coxformatrices.cpp:79:17: warning: suggest braces around initialization of subobject [-Wmissing-braces]
                NULL
                ^˜˜˜
                {   }
/usr/local/clang4/bin/../lib/clang/4.0.0/include/stddef.h:100:18: note: expanded from macro 'NULL'
#    define NULL __null
                 ^˜˜˜˜˜
1 warning generated.
clang++ -dynamiclib -Wl,-headerpad_max_install_names -undefined dynamic_lookup -single_module -multiply_defined suppress -L/Library/Frameworks/R.framework/Resources/lib -L/usr/local/lib -o simulatorZ.so coxformatrices.o -F/Library/Frameworks/R.framework/.. -framework R -Wl,-framework -Wl,CoreFoundation
installing to /Library/Frameworks/R.framework/Versions/3.4/Resources/library/simulatorZ/libs
** R
** inst
** preparing package for lazy loading
** help
*** installing help indices
** building package indices
** installing vignettes
** testing if installed package can be loaded
* DONE (simulatorZ)