| phyloseq 1.20.0 Paul J. McMurdie
 
 | Snapshot Date: 2017-08-15 17:17:57 -0400 (Tue, 15 Aug 2017) |  | URL: https://hedgehog.fhcrc.org/bioconductor/branches/RELEASE_3_5/madman/Rpacks/phyloseq |  | Last Changed Rev: 129126 / Revision: 131943 |  | Last Changed Date: 2017-04-24 15:25:24 -0400 (Mon, 24 Apr 2017) | 
 | malbec2 | Linux (Ubuntu 16.04.1 LTS) / x86_64 | OK | OK | OK |  |  | 
| tokay2 | Windows Server 2012 R2 Standard / x64 | OK | OK | OK | [ OK ] |  | 
| veracruz2 | OS X 10.11.6 El Capitan / x86_64 | OK | OK | OK | OK |  | 
##############################################################################
##############################################################################
###
### Running command:
###
###   cd phyloseq.buildbin-libdir/phyloseq && zip -r ../../phyloseq_1.20.0.zip . & cd ../..
###
##############################################################################
##############################################################################
  adding: CITATION (264 bytes security) (deflated 47%)
  adding: data/ (304 bytes security) (stored 0%)
  adding: data/datalist (264 bytes security) (stored 0%)
  adding: data/enterotype.RData (264 bytes security) (deflated 0%)
  adding: data/esophagus.RData (264 bytes security) (stored 0%)
  adding: data/GlobalPatterns.RData (264 bytes security) (deflated 0%)
  adding: data/soilrep.RData (264 bytes security) (deflated 0%)
  adding: DESCRIPTION (264 bytes security) (deflated 50%)
  adding: doc/ (304 bytes security) (stored 0%)
  adding: doc/index.html (264 bytes security) (deflated 76%)
  adding: doc/phyloseq-analysis.html (264 bytes security) (deflated 40%)
  adding: doc/phyloseq-analysis.R (264 bytes security) (deflated 71%)
  adding: doc/phyloseq-analysis.Rmd (264 bytes security) (deflated 66%)
  adding: doc/phyloseq-basics.html (264 bytes security) (deflated 33%)
  adding: doc/phyloseq-basics.R (264 bytes security) (deflated 78%)
  adding: doc/phyloseq-basics.Rmd (264 bytes security) (deflated 65%)
  adding: doc/phyloseq-FAQ.html (264 bytes security) (deflated 48%)
  adding: doc/phyloseq-FAQ.R (264 bytes security) (deflated 64%)
  adding: doc/phyloseq-FAQ.Rmd (264 bytes security) (deflated 60%)
  adding: doc/phyloseq-mixture-models.html (264 bytes security) (deflated 61%)
  adding: doc/phyloseq-mixture-models.R (264 bytes security) (deflated 64%)
  adding: doc/phyloseq-mixture-models.Rmd (264 bytes security) (deflated 56%)
  adding: doc/Unweighted_UniFrac.RData (264 bytes security) (stored 0%)
  adding: extdata/ (304 bytes security) (stored 0%)
  adding: extdata/biom-refseq.fasta (264 bytes security) (deflated 71%)
  adding: extdata/biom-tree.phy (264 bytes security) (deflated 37%)
  adding: extdata/esophagus.fn.list.gz (264 bytes security) (deflated 0%)
  adding: extdata/esophagus.fn.shared.gz (264 bytes security) (deflated 36%)
  adding: extdata/esophagus.good.groups.gz (264 bytes security) (stored 0%)
  adding: extdata/esophagus.tree.gz (264 bytes security) (stored 0%)
  adding: extdata/gg13-5-73.tree.gz (264 bytes security) (stored 0%)
  adding: extdata/gp500-pycogent.py (264 bytes security) (deflated 67%)
  adding: extdata/gp500-uuf.csv (264 bytes security) (deflated 72%)
  adding: extdata/gp500-wuf.csv (264 bytes security) (deflated 72%)
  adding: extdata/gp500-wufu.csv (264 bytes security) (deflated 72%)
  adding: extdata/gp500test.env.txt (264 bytes security) (deflated 75%)
  adding: extdata/gp500test.tree (264 bytes security) (deflated 57%)
  adding: extdata/GP_otu_table_rand_short.txt.gz (264 bytes security) (stored 0%)
  adding: extdata/GP_tree_rand_short.newick.gz (264 bytes security) (stored 0%)
  adding: extdata/master_map.txt (264 bytes security) (deflated 61%)
  adding: extdata/min_dense_otu_table.biom (264 bytes security) (deflated 70%)
  adding: extdata/min_sparse_otu_table.biom (264 bytes security) (deflated 73%)
  adding: extdata/mothur_example.cons.taxonomy.gz (264 bytes security) (stored 0%)
  adding: extdata/qiime500-refseq.fasta (264 bytes security) (deflated 82%)
  adding: extdata/rformat_dist_0.03.txt.gz (264 bytes security) (deflated 45%)
  adding: extdata/rich_dense_otu_table.biom (264 bytes security) (deflated 79%)
  adding: extdata/rich_sparse_otu_table.biom (264 bytes security) (deflated 79%)
  adding: extdata/study_1457_split_library_seqs_and_mapping.zip (264 bytes security) (stored 0%)
  adding: extdata/study_816_split_library_seqs_and_mapping.tar.gz (264 bytes security) (stored 0%)
  adding: extdata/study_816_split_library_seqs_and_mapping.zip (264 bytes security) (stored 0%)
  adding: extdata/study_gp.txt (264 bytes security) (deflated 61%)
  adding: extdata/usearch.uc (264 bytes security) (deflated 78%)
  adding: help/ (304 bytes security) (stored 0%)
  adding: help/aliases.rds (264 bytes security) (stored 0%)
  adding: help/AnIndex (264 bytes security) (deflated 83%)
  adding: help/paths.rds (264 bytes security) (stored 0%)
  adding: help/phyloseq.rdb (264 bytes security) (deflated 1%)
  adding: help/phyloseq.rdx (264 bytes security) (stored 0%)
  adding: html/ (304 bytes security) (stored 0%)
  adding: html/00Index.html (264 bytes security) (deflated 84%)
  adding: html/R.css (264 bytes security) (deflated 75%)
  adding: INDEX (264 bytes security) (deflated 69%)
  adding: MD5 (264 bytes security) (deflated 49%)
  adding: Meta/ (304 bytes security) (stored 0%)
  adding: Meta/data.rds (264 bytes security) (stored 0%)
  adding: Meta/features.rds (264 bytes security) (stored 0%)
  adding: Meta/hsearch.rds (264 bytes security) (deflated 1%)
  adding: Meta/links.rds (264 bytes security) (stored 0%)
  adding: Meta/nsInfo.rds (264 bytes security) (stored 0%)
  adding: Meta/package.rds (264 bytes security) (stored 0%)
  adding: Meta/Rd.rds (264 bytes security) (stored 0%)
  adding: Meta/vignette.rds (264 bytes security) (stored 0%)
  adding: NAMESPACE (264 bytes security) (deflated 76%)
  adding: NEWS (264 bytes security) (deflated 70%)
  adding: R/ (304 bytes security) (stored 0%)
  adding: R/phyloseq (264 bytes security) (deflated 41%)
  adding: R/phyloseq.rdb (264 bytes security) (deflated 25%)
  adding: R/phyloseq.rdx (264 bytes security) (deflated 0%)
  adding: scripts/ (304 bytes security) (stored 0%)
  adding: scripts/installer.R (264 bytes security) (deflated 62%)