ncdfFlow 2.22.1 Mike Jiang
 | Snapshot Date: 2017-08-15 17:17:57 -0400 (Tue, 15 Aug 2017) |  | URL: https://hedgehog.fhcrc.org/bioconductor/branches/RELEASE_3_5/madman/Rpacks/ncdfFlow |  | Last Changed Rev: 131705 / Revision: 131943 |  | Last Changed Date: 2017-08-01 17:43:19 -0400 (Tue, 01 Aug 2017) |  
  | malbec2  | Linux (Ubuntu 16.04.1 LTS) / x86_64  |  OK  |  OK  |  ERROR  |  |  | 
| tokay2  | Windows Server 2012 R2 Standard / x64  |  OK  |  OK  |  ERROR  | [ OK ] |  | 
| veracruz2  | OS X 10.11.6 El Capitan / x86_64  |  OK  |  OK  |  ERROR  |  OK  |  | 
##############################################################################
##############################################################################
###
### Running command:
###
###   cd ncdfFlow.buildbin-libdir/ncdfFlow && zip -r ../../ncdfFlow_2.22.1.zip . & cd ../..
###
##############################################################################
##############################################################################
  adding: DESCRIPTION (264 bytes security) (deflated 37%)
  adding: doc/ (304 bytes security) (stored 0%)
  adding: doc/index.html (264 bytes security) (deflated 58%)
  adding: doc/ncdfFlow.pdf (264 bytes security) (deflated 8%)
  adding: doc/ncdfFlow.R (264 bytes security) (deflated 77%)
  adding: doc/ncdfFlow.Rnw (264 bytes security) (deflated 63%)
  adding: help/ (304 bytes security) (stored 0%)
  adding: help/aliases.rds (264 bytes security) (stored 0%)
  adding: help/AnIndex (264 bytes security) (deflated 82%)
  adding: help/ncdfFlow.rdb (264 bytes security) (deflated 1%)
  adding: help/ncdfFlow.rdx (264 bytes security) (stored 0%)
  adding: help/paths.rds (264 bytes security) (stored 0%)
  adding: html/ (304 bytes security) (stored 0%)
  adding: html/00Index.html (264 bytes security) (deflated 83%)
  adding: html/R.css (264 bytes security) (deflated 75%)
  adding: include/ (304 bytes security) (stored 0%)
  adding: INDEX (264 bytes security) (deflated 69%)
  adding: libs/ (304 bytes security) (stored 0%)
  adding: libs/i386/ (304 bytes security) (stored 0%)
  adding: libs/i386/libhdf5ForBioC-7.dll (264 bytes security) (deflated 66%)
  adding: libs/i386/libsz-2.dll (264 bytes security) (deflated 63%)
  adding: libs/i386/ncdfFlow.dll (264 bytes security) (deflated 65%)
  adding: libs/x64/ (304 bytes security) (stored 0%)
  adding: libs/x64/libhdf5ForBioC-7.dll (264 bytes security) (deflated 63%)
  adding: libs/x64/libsz-2.dll (264 bytes security) (deflated 63%)
  adding: libs/x64/ncdfFlow.dll (264 bytes security) (deflated 66%)
  adding: MD5 (264 bytes security) (deflated 45%)
  adding: Meta/ (304 bytes security) (stored 0%)
  adding: Meta/features.rds (264 bytes security) (stored 0%)
  adding: Meta/hsearch.rds (264 bytes security) (stored 0%)
  adding: Meta/links.rds (264 bytes security) (stored 0%)
  adding: Meta/nsInfo.rds (264 bytes security) (stored 0%)
  adding: Meta/package.rds (264 bytes security) (stored 0%)
  adding: Meta/Rd.rds (264 bytes security) (stored 0%)
  adding: Meta/vignette.rds (264 bytes security) (stored 0%)
  adding: NAMESPACE (264 bytes security) (deflated 77%)
  adding: NEWS (264 bytes security) (deflated 51%)
  adding: R/ (304 bytes security) (stored 0%)
  adding: R/ncdfFlow (264 bytes security) (deflated 41%)
  adding: R/ncdfFlow.rdb (264 bytes security) (deflated 35%)
  adding: R/ncdfFlow.rdx (264 bytes security) (deflated 0%)
  adding: tests/ (304 bytes security) (stored 0%)