| lumi 2.28.0 Pan Du , Lei Huang , Gang Feng
 
 | Snapshot Date: 2017-08-15 17:17:57 -0400 (Tue, 15 Aug 2017) |  | URL: https://hedgehog.fhcrc.org/bioconductor/branches/RELEASE_3_5/madman/Rpacks/lumi |  | Last Changed Rev: 129126 / Revision: 131943 |  | Last Changed Date: 2017-04-24 15:25:24 -0400 (Mon, 24 Apr 2017) | 
 | malbec2 | Linux (Ubuntu 16.04.1 LTS) / x86_64 | OK | OK | WARNINGS |  |  | 
| tokay2 | Windows Server 2012 R2 Standard / x64 | OK | OK | WARNINGS | [ OK ] |  | 
| veracruz2 | OS X 10.11.6 El Capitan / x86_64 | OK | OK | WARNINGS | OK |  | 
##############################################################################
##############################################################################
###
### Running command:
###
###   cd lumi.buildbin-libdir/lumi && zip -r ../../lumi_2.28.0.zip . & cd ../..
###
##############################################################################
##############################################################################
  adding: CITATION (264 bytes security) (deflated 72%)
  adding: data/ (304 bytes security) (stored 0%)
  adding: data/datalist (264 bytes security) (deflated 31%)
  adding: data/example.lumi.rda (264 bytes security) (deflated 0%)
  adding: data/example.lumiMethy.rda (264 bytes security) (deflated 0%)
  adding: data/example.methyTitration.rda (264 bytes security) (deflated 0%)
  adding: DESCRIPTION (264 bytes security) (deflated 44%)
  adding: help/ (304 bytes security) (stored 0%)
  adding: help/aliases.rds (264 bytes security) (stored 0%)
  adding: help/AnIndex (264 bytes security) (deflated 77%)
  adding: help/lumi.rdb (264 bytes security) (deflated 2%)
  adding: help/lumi.rdx (264 bytes security) (deflated 0%)
  adding: help/paths.rds (264 bytes security) (stored 0%)
  adding: html/ (304 bytes security) (stored 0%)
  adding: html/00Index.html (264 bytes security) (deflated 85%)
  adding: html/R.css (264 bytes security) (deflated 75%)
  adding: INDEX (264 bytes security) (deflated 75%)
  adding: MD5 (264 bytes security) (deflated 41%)
  adding: Meta/ (304 bytes security) (stored 0%)
  adding: Meta/data.rds (264 bytes security) (stored 0%)
  adding: Meta/features.rds (264 bytes security) (stored 0%)
  adding: Meta/hsearch.rds (264 bytes security) (stored 0%)
  adding: Meta/links.rds (264 bytes security) (stored 0%)
  adding: Meta/nsInfo.rds (264 bytes security) (stored 0%)
  adding: Meta/package.rds (264 bytes security) (stored 0%)
  adding: Meta/Rd.rds (264 bytes security) (stored 0%)
  adding: NAMESPACE (264 bytes security) (deflated 63%)
  adding: NEWS (264 bytes security) (deflated 71%)
  adding: R/ (304 bytes security) (stored 0%)
  adding: R/lumi (264 bytes security) (deflated 41%)
  adding: R/lumi.rdb (264 bytes security) (deflated 30%)
  adding: R/lumi.rdx (264 bytes security) (stored 0%)