ggtree 1.8.1 Guangchuang Yu
Snapshot Date: 2017-08-15 17:17:57 -0400 (Tue, 15 Aug 2017) | URL: https://hedgehog.fhcrc.org/bioconductor/branches/RELEASE_3_5/madman/Rpacks/ggtree | Last Changed Rev: 129275 / Revision: 131943 | Last Changed Date: 2017-04-29 09:07:29 -0400 (Sat, 29 Apr 2017) |
| malbec2 | Linux (Ubuntu 16.04.1 LTS) / x86_64 | OK | OK | OK | | ![UNNEEDED, same version exists in internal repository UNNEEDED, same version exists in internal repository](../120px-Blue_Light_Icon.svg.png) |
tokay2 | Windows Server 2012 R2 Standard / x64 | [ OK ] | OK | OK | OK | ![UNNEEDED, same version exists in internal repository UNNEEDED, same version exists in internal repository](../120px-Blue_Light_Icon.svg.png) |
veracruz2 | OS X 10.11.6 El Capitan / x86_64 | OK | OK | OK | OK | ![UNNEEDED, same version exists in internal repository UNNEEDED, same version exists in internal repository](../120px-Blue_Light_Icon.svg.png) |
##############################################################################
##############################################################################
###
### Running command:
###
### rm -rf ggtree.buildbin-libdir && mkdir ggtree.buildbin-libdir && C:\cygwin\bin\curl.exe -O http://172.29.0.4/BBS/3.5/bioc/src/contrib/ggtree_1.8.1.tar.gz && C:\Users\biocbuild\bbs-3.5-bioc\R\bin\R.exe CMD INSTALL --build --library=ggtree.buildbin-libdir --merge-multiarch ggtree_1.8.1.tar.gz && C:\Users\biocbuild\bbs-3.5-bioc\R\bin\R.exe CMD INSTALL ggtree_1.8.1.zip && rm ggtree_1.8.1.tar.gz ggtree_1.8.1.zip
###
##############################################################################
##############################################################################
% Total % Received % Xferd Average Speed Time Time Time Current
Dload Upload Total Spent Left Speed
0 0 0 0 0 0 0 0 --:--:-- --:--:-- --:--:-- 0
100 2488k 100 2488k 0 0 9053k 0 --:--:-- --:--:-- --:--:-- 9113k
install for i386
* installing *source* package 'ggtree' ...
** R
** inst
** byte-compile and prepare package for lazy loading
Note: wrong number of arguments to '>'
** help
*** installing help indices
** building package indices
** installing vignettes
** testing if installed package can be loaded
install for x64
* installing *source* package 'ggtree' ...
** testing if installed package can be loaded
* MD5 sums
packaged installation of 'ggtree' as ggtree_1.8.1.zip
* DONE (ggtree)
* installing to library 'C:/Users/biocbuild/bbs-3.5-bioc/R/library'
package 'ggtree' successfully unpacked and MD5 sums checked