| flowFP 1.34.0 Herb Holyst
 
 | Snapshot Date: 2017-08-15 17:17:57 -0400 (Tue, 15 Aug 2017) |  | URL: https://hedgehog.fhcrc.org/bioconductor/branches/RELEASE_3_5/madman/Rpacks/flowFP |  | Last Changed Rev: 129126 / Revision: 131943 |  | Last Changed Date: 2017-04-24 15:25:24 -0400 (Mon, 24 Apr 2017) | 
 | malbec2 | Linux (Ubuntu 16.04.1 LTS) / x86_64 | OK | OK | OK |  |  | 
| tokay2 | Windows Server 2012 R2 Standard / x64 | [ OK ] | OK | OK | OK |  | 
| veracruz2 | OS X 10.11.6 El Capitan / x86_64 | OK | OK | OK | OK |  | 
##############################################################################
##############################################################################
###
### Running command:
###
###   rm -rf flowFP.buildbin-libdir && mkdir flowFP.buildbin-libdir  && C:\cygwin\bin\curl.exe -O http://172.29.0.4/BBS/3.5/bioc/src/contrib/flowFP_1.34.0.tar.gz && C:\Users\biocbuild\bbs-3.5-bioc\R\bin\R.exe CMD INSTALL --build --library=flowFP.buildbin-libdir --merge-multiarch flowFP_1.34.0.tar.gz && C:\Users\biocbuild\bbs-3.5-bioc\R\bin\R.exe CMD INSTALL flowFP_1.34.0.zip  && rm flowFP_1.34.0.tar.gz flowFP_1.34.0.zip
###
##############################################################################
##############################################################################
  % Total    % Received % Xferd  Average Speed   Time    Time     Time  Current
                                 Dload  Upload   Total   Spent    Left  Speed
  0     0    0     0    0     0      0      0 --:--:-- --:--:-- --:--:--     0
100 4456k  100 4456k    0     0  51.4M      0 --:--:-- --:--:-- --:--:-- 52.4M
install for i386
* installing *source* package 'flowFP' ...
   **********************************************
   WARNING: this package has a configure script
         It probably needs manual configuration
   **********************************************
** libs
C:/Rtools/mingw_32/bin/gcc  -I"C:/Users/BIOCBU˜1/BBS-3˜1.5-B/R/include" -DNDEBUG     -I"C:/local323/include"     -O3 -Wall  -std=gnu99 -mtune=core2 -c flowFP.c -o flowFP.o
C:/Rtools/mingw_32/bin/gcc  -I"C:/Users/BIOCBU˜1/BBS-3˜1.5-B/R/include" -DNDEBUG     -I"C:/local323/include"     -O3 -Wall  -std=gnu99 -mtune=core2 -c init.c -o init.o
C:/Rtools/mingw_32/bin/gcc  -I"C:/Users/BIOCBU˜1/BBS-3˜1.5-B/R/include" -DNDEBUG     -I"C:/local323/include"     -O3 -Wall  -std=gnu99 -mtune=core2 -c split_utils.c -o split_utils.o
C:/Rtools/mingw_32/bin/gcc -shared -s -static-libgcc -o flowFP.dll tmp.def flowFP.o init.o split_utils.o -LC:/local323/lib/i386 -LC:/local323/lib -LC:/Users/BIOCBU˜1/BBS-3˜1.5-B/R/bin/i386 -lR
installing to C:/Users/biocbuild/bbs-3.5-bioc/meat/flowFP.buildbin-libdir/flowFP/libs/i386
** R
** data
** inst
** preparing package for lazy loading
Creating a generic function for 'append' from package 'base' in package 'flowFP'
** help
*** installing help indices
** building package indices
** installing vignettes
** testing if installed package can be loaded
install for x64
* installing *source* package 'flowFP' ...
   **********************************************
   WARNING: this package has a configure script
         It probably needs manual configuration
   **********************************************
** libs
C:/Rtools/mingw_64/bin/gcc  -I"C:/Users/BIOCBU˜1/BBS-3˜1.5-B/R/include" -DNDEBUG     -I"C:/local323/include"     -O2 -Wall  -std=gnu99 -mtune=core2 -c flowFP.c -o flowFP.o
C:/Rtools/mingw_64/bin/gcc  -I"C:/Users/BIOCBU˜1/BBS-3˜1.5-B/R/include" -DNDEBUG     -I"C:/local323/include"     -O2 -Wall  -std=gnu99 -mtune=core2 -c init.c -o init.o
C:/Rtools/mingw_64/bin/gcc  -I"C:/Users/BIOCBU˜1/BBS-3˜1.5-B/R/include" -DNDEBUG     -I"C:/local323/include"     -O2 -Wall  -std=gnu99 -mtune=core2 -c split_utils.c -o split_utils.o
C:/Rtools/mingw_64/bin/gcc -shared -s -static-libgcc -o flowFP.dll tmp.def flowFP.o init.o split_utils.o -LC:/local323/lib/x64 -LC:/local323/lib -LC:/Users/BIOCBU˜1/BBS-3˜1.5-B/R/bin/x64 -lR
installing to C:/Users/biocbuild/bbs-3.5-bioc/meat/flowFP.buildbin-libdir/flowFP/libs/x64
** testing if installed package can be loaded
* MD5 sums
packaged installation of 'flowFP' as flowFP_1.34.0.zip
* DONE (flowFP)
* installing to library 'C:/Users/biocbuild/bbs-3.5-bioc/R/library'
package 'flowFP' successfully unpacked and MD5 sums checked