derfinder 1.10.5 Leonardo Collado-Torres
 | Snapshot Date: 2017-08-15 17:17:57 -0400 (Tue, 15 Aug 2017) |  | URL: https://hedgehog.fhcrc.org/bioconductor/branches/RELEASE_3_5/madman/Rpacks/derfinder |  | Last Changed Rev: 131013 / Revision: 131943 |  | Last Changed Date: 2017-07-06 12:11:37 -0400 (Thu, 06 Jul 2017) |  
  | malbec2  | Linux (Ubuntu 16.04.1 LTS) / x86_64  |  OK  |  OK  |  OK  |  |   | 
| tokay2  | Windows Server 2012 R2 Standard / x64  |  OK  |  OK  |  OK  | [ OK ] |   | 
| veracruz2  | OS X 10.11.6 El Capitan / x86_64  |  OK  |  OK  |  OK  |  OK  |   | 
##############################################################################
##############################################################################
###
### Running command:
###
###   cd derfinder.buildbin-libdir/derfinder && zip -r ../../derfinder_1.10.5.zip . & cd ../..
###
##############################################################################
##############################################################################
  adding: CITATION (264 bytes security) (deflated 64%)
  adding: data/ (304 bytes security) (stored 0%)
  adding: data/Rdata.rdb (264 bytes security) (deflated 23%)
  adding: data/Rdata.rds (264 bytes security) (stored 0%)
  adding: data/Rdata.rdx (264 bytes security) (stored 0%)
  adding: DESCRIPTION (264 bytes security) (deflated 50%)
  adding: doc/ (304 bytes security) (stored 0%)
  adding: doc/derfinder-quickstart.html (264 bytes security) (deflated 49%)
  adding: doc/derfinder-quickstart.R (264 bytes security) (deflated 69%)
  adding: doc/derfinder-quickstart.Rmd (264 bytes security) (deflated 66%)
  adding: doc/derfinder-users-guide.html (264 bytes security) (deflated 33%)
  adding: doc/derfinder-users-guide.R (264 bytes security) (deflated 70%)
  adding: doc/derfinder-users-guide.Rmd (264 bytes security) (deflated 69%)
  adding: doc/index.html (264 bytes security) (deflated 69%)
  adding: extdata/ (304 bytes security) (stored 0%)
  adding: extdata/chr21/ (304 bytes security) (stored 0%)
  adding: extdata/chr21/annotation.Rdata (264 bytes security) (stored 0%)
  adding: extdata/chr21/coveragePrep.Rdata (264 bytes security) (stored 0%)
  adding: extdata/chr21/fstats.Rdata (264 bytes security) (stored 0%)
  adding: extdata/chr21/optionsStats.Rdata (264 bytes security) (stored 0%)
  adding: extdata/chr21/regions.Rdata (264 bytes security) (stored 0%)
  adding: extdata/chr21/timeinfo.Rdata (264 bytes security) (stored 0%)
  adding: extdata/genomeData/ (304 bytes security) (stored 0%)
  adding: extdata/genomeData/ERR009101_accepted_hits.bam (264 bytes security) (stored 0%)
  adding: extdata/genomeData/ERR009101_accepted_hits.bam.bai (264 bytes security) (deflated 100%)
  adding: extdata/genomeData/ERR009102_accepted_hits.bam (264 bytes security) (stored 0%)
  adding: extdata/genomeData/ERR009102_accepted_hits.bam.bai (264 bytes security) (deflated 100%)
  adding: extdata/genomeData/ERR009105_accepted_hits.bam (264 bytes security) (stored 0%)
  adding: extdata/genomeData/ERR009105_accepted_hits.bam.bai (264 bytes security) (deflated 100%)
  adding: extdata/genomeData/ERR009107_accepted_hits.bam (264 bytes security) (stored 0%)
  adding: extdata/genomeData/ERR009107_accepted_hits.bam.bai (264 bytes security) (deflated 100%)
  adding: extdata/genomeData/ERR009108_accepted_hits.bam (264 bytes security) (stored 0%)
  adding: extdata/genomeData/ERR009108_accepted_hits.bam.bai (264 bytes security) (deflated 100%)
  adding: extdata/genomeData/ERR009112_accepted_hits.bam (264 bytes security) (stored 0%)
  adding: extdata/genomeData/ERR009112_accepted_hits.bam.bai (264 bytes security) (deflated 100%)
  adding: extdata/genomeData/ERR009115_accepted_hits.bam (264 bytes security) (stored 0%)
  adding: extdata/genomeData/ERR009115_accepted_hits.bam.bai (264 bytes security) (deflated 100%)
  adding: extdata/genomeData/ERR009116_accepted_hits.bam (264 bytes security) (stored 0%)
  adding: extdata/genomeData/ERR009116_accepted_hits.bam.bai (264 bytes security) (deflated 100%)
  adding: extdata/genomeData/ERR009131_accepted_hits.bam (264 bytes security) (stored 0%)
  adding: extdata/genomeData/ERR009131_accepted_hits.bam.bai (264 bytes security) (deflated 100%)
  adding: extdata/genomeData/ERR009138_accepted_hits.bam (264 bytes security) (stored 0%)
  adding: extdata/genomeData/ERR009138_accepted_hits.bam.bai (264 bytes security) (deflated 100%)
  adding: extdata/genomeData/ERR009144_accepted_hits.bam (264 bytes security) (stored 0%)
  adding: extdata/genomeData/ERR009144_accepted_hits.bam.bai (264 bytes security) (deflated 99%)
  adding: extdata/genomeData/ERR009145_accepted_hits.bam (264 bytes security) (stored 0%)
  adding: extdata/genomeData/ERR009145_accepted_hits.bam.bai (264 bytes security) (deflated 100%)
  adding: extdata/genomeData/ERR009148_accepted_hits.bam (264 bytes security) (stored 0%)
  adding: extdata/genomeData/ERR009148_accepted_hits.bam.bai (264 bytes security) (deflated 100%)
  adding: extdata/genomeData/ERR009151_accepted_hits.bam (264 bytes security) (stored 0%)
  adding: extdata/genomeData/ERR009151_accepted_hits.bam.bai (264 bytes security) (deflated 100%)
  adding: extdata/genomeData/ERR009152_accepted_hits.bam (264 bytes security) (stored 0%)
  adding: extdata/genomeData/ERR009152_accepted_hits.bam.bai (264 bytes security) (deflated 100%)
  adding: extdata/genomeData/ERR009153_accepted_hits.bam (264 bytes security) (stored 0%)
  adding: extdata/genomeData/ERR009153_accepted_hits.bam.bai (264 bytes security) (deflated 100%)
  adding: extdata/genomeData/ERR009159_accepted_hits.bam (264 bytes security) (stored 0%)
  adding: extdata/genomeData/ERR009159_accepted_hits.bam.bai (264 bytes security) (deflated 100%)
  adding: extdata/genomeData/ERR009161_accepted_hits.bam (264 bytes security) (stored 0%)
  adding: extdata/genomeData/ERR009161_accepted_hits.bam.bai (264 bytes security) (deflated 100%)
  adding: extdata/genomeData/ERR009163_accepted_hits.bam (264 bytes security) (stored 0%)
  adding: extdata/genomeData/ERR009163_accepted_hits.bam.bai (264 bytes security) (deflated 100%)
  adding: extdata/genomeData/ERR009164_accepted_hits.bam (264 bytes security) (stored 0%)
  adding: extdata/genomeData/ERR009164_accepted_hits.bam.bai (264 bytes security) (deflated 100%)
  adding: extdata/genomeData/ERR009167_accepted_hits.bam (264 bytes security) (stored 0%)
  adding: extdata/genomeData/ERR009167_accepted_hits.bam.bai (264 bytes security) (deflated 99%)
  adding: extdata/genomeData/SRR031812_accepted_hits.bam (264 bytes security) (stored 0%)
  adding: extdata/genomeData/SRR031812_accepted_hits.bam.bai (264 bytes security) (deflated 100%)
  adding: extdata/genomeData/SRR031835_accepted_hits.bam (264 bytes security) (stored 0%)
  adding: extdata/genomeData/SRR031835_accepted_hits.bam.bai (264 bytes security) (deflated 100%)
  adding: extdata/genomeData/SRR031867_accepted_hits.bam (264 bytes security) (stored 0%)
  adding: extdata/genomeData/SRR031867_accepted_hits.bam.bai (264 bytes security) (deflated 95%)
  adding: extdata/genomeData/SRR031868_accepted_hits.bam (264 bytes security) (stored 0%)
  adding: extdata/genomeData/SRR031868_accepted_hits.bam.bai (264 bytes security) (deflated 95%)
  adding: extdata/genomeData/SRR031900_accepted_hits.bam (264 bytes security) (stored 0%)
  adding: extdata/genomeData/SRR031900_accepted_hits.bam.bai (264 bytes security) (deflated 95%)
  adding: extdata/genomeData/SRR031904_accepted_hits.bam (264 bytes security) (stored 0%)
  adding: extdata/genomeData/SRR031904_accepted_hits.bam.bai (264 bytes security) (deflated 100%)
  adding: extdata/genomeData/SRR031914_accepted_hits.bam (264 bytes security) (stored 0%)
  adding: extdata/genomeData/SRR031914_accepted_hits.bam.bai (264 bytes security) (deflated 95%)
  adding: extdata/genomeData/SRR031936_accepted_hits.bam (264 bytes security) (stored 0%)
  adding: extdata/genomeData/SRR031936_accepted_hits.bam.bai (264 bytes security) (deflated 95%)
  adding: extdata/genomeData/SRR031958_accepted_hits.bam (264 bytes security) (stored 0%)
  adding: extdata/genomeData/SRR031958_accepted_hits.bam.bai (264 bytes security) (deflated 95%)
  adding: extdata/genomeData/SRR031960_accepted_hits.bam (264 bytes security) (stored 0%)
  adding: extdata/genomeData/SRR031960_accepted_hits.bam.bai (264 bytes security) (deflated 95%)
  adding: help/ (304 bytes security) (stored 0%)
  adding: help/aliases.rds (264 bytes security) (stored 0%)
  adding: help/AnIndex (264 bytes security) (deflated 64%)
  adding: help/derfinder.rdb (264 bytes security) (deflated 1%)
  adding: help/derfinder.rdx (264 bytes security) (stored 0%)
  adding: help/paths.rds (264 bytes security) (stored 0%)
  adding: html/ (304 bytes security) (stored 0%)
  adding: html/00Index.html (264 bytes security) (deflated 73%)
  adding: html/R.css (264 bytes security) (deflated 75%)
  adding: INDEX (264 bytes security) (deflated 65%)
  adding: MD5 (264 bytes security) (deflated 64%)
  adding: Meta/ (304 bytes security) (stored 0%)
  adding: Meta/data.rds (264 bytes security) (stored 0%)
  adding: Meta/features.rds (264 bytes security) (stored 0%)
  adding: Meta/hsearch.rds (264 bytes security) (stored 0%)
  adding: Meta/links.rds (264 bytes security) (stored 0%)
  adding: Meta/nsInfo.rds (264 bytes security) (stored 0%)
  adding: Meta/package.rds (264 bytes security) (stored 0%)
  adding: Meta/Rd.rds (264 bytes security) (stored 0%)
  adding: Meta/vignette.rds (264 bytes security) (stored 0%)
  adding: NAMESPACE (264 bytes security) (deflated 78%)
  adding: NEWS (264 bytes security) (deflated 73%)
  adding: R/ (304 bytes security) (stored 0%)
  adding: R/derfinder (264 bytes security) (deflated 41%)
  adding: R/derfinder.rdb (264 bytes security) (deflated 0%)
  adding: R/derfinder.rdx (264 bytes security) (stored 0%)