| crlmm 1.34.0 Benilton S Carvalho
 
 | Snapshot Date: 2017-08-15 17:17:57 -0400 (Tue, 15 Aug 2017) |  | URL: https://hedgehog.fhcrc.org/bioconductor/branches/RELEASE_3_5/madman/Rpacks/crlmm |  | Last Changed Rev: 129126 / Revision: 131943 |  | Last Changed Date: 2017-04-24 15:25:24 -0400 (Mon, 24 Apr 2017) | 
 | malbec2 | Linux (Ubuntu 16.04.1 LTS) / x86_64 | OK | OK | OK |  |  | 
| tokay2 | Windows Server 2012 R2 Standard / x64 | OK | OK | OK | OK |  | 
| veracruz2 | OS X 10.11.6 El Capitan / x86_64 | [ OK ] | OK | OK | OK |  | 
##############################################################################
##############################################################################
###
### Running command:
###
###   /Library/Frameworks/R.framework/Versions/Current/Resources/bin/R CMD INSTALL crlmm
###
##############################################################################
##############################################################################
* installing to library ‘/Library/Frameworks/R.framework/Versions/3.4/Resources/library’
* installing *source* package ‘crlmm’ ...
** libs
clang -I/Library/Frameworks/R.framework/Resources/include -DNDEBUG  -I"/Library/Frameworks/R.framework/Versions/3.4/Resources/library/preprocessCore/include" -I/usr/local/include   -fPIC  -Wall -g -O2  -c gtypeCaller.c -o gtypeCaller.o
clang -I/Library/Frameworks/R.framework/Resources/include -DNDEBUG  -I"/Library/Frameworks/R.framework/Versions/3.4/Resources/library/preprocessCore/include" -I/usr/local/include   -fPIC  -Wall -g -O2  -c init.c -o init.o
clang -I/Library/Frameworks/R.framework/Resources/include -DNDEBUG  -I"/Library/Frameworks/R.framework/Versions/3.4/Resources/library/preprocessCore/include" -I/usr/local/include   -fPIC  -Wall -g -O2  -c trimmed.c -o trimmed.o
clang -I/Library/Frameworks/R.framework/Resources/include -DNDEBUG  -I"/Library/Frameworks/R.framework/Versions/3.4/Resources/library/preprocessCore/include" -I/usr/local/include   -fPIC  -Wall -g -O2  -c utils.c -o utils.o
clang -dynamiclib -Wl,-headerpad_max_install_names -undefined dynamic_lookup -single_module -multiply_defined suppress -L/Library/Frameworks/R.framework/Resources/lib -L/usr/local/lib -o crlmm.so gtypeCaller.o init.o trimmed.o utils.o -F/Library/Frameworks/R.framework/.. -framework R -Wl,-framework -Wl,CoreFoundation
installing to /Library/Frameworks/R.framework/Versions/3.4/Resources/library/crlmm/libs
** R
** data
** inst
** preparing package for lazy loading
No methods found in "RSQLite" for requests: dbGetQuery
** help
*** installing help indices
** building package indices
** installing vignettes
   ‘AffyGW.Rnw’ 
   ‘CopyNumberOverview.Rnw’ 
   ‘IlluminaPreprocessCN.Rnw’ 
   ‘Infrastructure.Rnw’ 
   ‘genotyping.Rnw’ 
   ‘gtypeDownstream.Rnw’ 
** testing if installed package can be loaded
No methods found in "RSQLite" for requests: dbGetQuery
* DONE (crlmm)