chimera 1.18.0 Raffaele A Calogero
 | Snapshot Date: 2017-08-15 17:17:57 -0400 (Tue, 15 Aug 2017) |  | URL: https://hedgehog.fhcrc.org/bioconductor/branches/RELEASE_3_5/madman/Rpacks/chimera |  | Last Changed Rev: 129126 / Revision: 131943 |  | Last Changed Date: 2017-04-24 15:25:24 -0400 (Mon, 24 Apr 2017) |  
  | malbec2  | Linux (Ubuntu 16.04.1 LTS) / x86_64  |  OK  |  OK  |  OK  |  |   | 
| tokay2  | Windows Server 2012 R2 Standard / x64  |  OK  |  OK  |  OK  | [ OK ] |   | 
| veracruz2  | OS X 10.11.6 El Capitan / x86_64  |  OK  |  OK  |  OK  |  OK  |   | 
##############################################################################
##############################################################################
###
### Running command:
###
###   cd chimera.buildbin-libdir/chimera && zip -r ../../chimera_1.18.0.zip . & cd ../..
###
##############################################################################
##############################################################################
  adding: CITATION (264 bytes security) (deflated 59%)
  adding: DESCRIPTION (264 bytes security) (deflated 47%)
  adding: doc/ (304 bytes security) (stored 0%)
  adding: doc/chimera.pdf (264 bytes security) (deflated 18%)
  adding: doc/chimera.R (264 bytes security) (deflated 75%)
  adding: doc/chimera.Rnw (264 bytes security) (deflated 68%)
  adding: doc/index.html (264 bytes security) (deflated 58%)
  adding: examples/ (304 bytes security) (stored 0%)
  adding: examples/defuse_TP_FP.txt (264 bytes security) (deflated 55%)
  adding: examples/Edgreen_fm.txt (264 bytes security) (deflated 68%)
  adding: examples/edgren.stat.detection.txt (264 bytes security) (deflated 70%)
  adding: examples/Edgren_cs.txt (264 bytes security) (deflated 63%)
  adding: examples/Edgren_df.tsv (264 bytes security) (deflated 66%)
  adding: examples/Edgren_true.positives.txt (264 bytes security) (deflated 55%)
  adding: examples/fset_ARFGEF2-SULF2.rda (264 bytes security) (stored 0%)
  adding: examples/mcf7.FMFusionReport (264 bytes security) (deflated 62%)
  adding: examples/mcf7_sample_1.fq (264 bytes security) (deflated 68%)
  adding: examples/mcf7_sample_2.fq (264 bytes security) (deflated 67%)
  adding: examples/mcf7_trs_accepted_hits.bam (264 bytes security) (deflated 0%)
  adding: examples/mcf7_trs_accepted_hits.bam_sorted.bam (264 bytes security) (deflated 0%)
  adding: examples/mcf7_trs_accepted_hits.bam_sorted.bam.bai (264 bytes security) (deflated 56%)
  adding: examples/SULF2_ARFGEF2.fa (264 bytes security) (deflated 68%)
  adding: examples/uc002xtx.4-272_uc010zyd.2-988.fa (264 bytes security) (deflated 62%)
  adding: examples/uc002xtx.4-272_uc010zyd.2-988_R1.fastq (264 bytes security) (deflated 78%)
  adding: examples/uc002xtx.4-272_uc010zyd.2-988_R2.fastq (264 bytes security) (deflated 79%)
  adding: examples/uc002xvp.1-243_uc002iyu.4-1031.fa (264 bytes security) (deflated 63%)
  adding: examples/uc002xvp.1-243_uc002iyu.4-1031_R1.fastq (264 bytes security) (deflated 80%)
  adding: examples/uc002xvp.1-243_uc002iyu.4-1031_R2.fastq (264 bytes security) (deflated 80%)
  adding: help/ (304 bytes security) (stored 0%)
  adding: help/aliases.rds (264 bytes security) (stored 0%)
  adding: help/AnIndex (264 bytes security) (deflated 69%)
  adding: help/chimera.rdb (264 bytes security) (deflated 2%)
  adding: help/chimera.rdx (264 bytes security) (stored 0%)
  adding: help/paths.rds (264 bytes security) (stored 0%)
  adding: html/ (304 bytes security) (stored 0%)
  adding: html/00Index.html (264 bytes security) (deflated 80%)
  adding: html/R.css (264 bytes security) (deflated 75%)
  adding: INDEX (264 bytes security) (deflated 71%)
  adding: libs/ (304 bytes security) (stored 0%)
  adding: libs/i386/ (304 bytes security) (stored 0%)
  adding: libs/i386/chimera.dll (264 bytes security) (deflated 65%)
  adding: libs/x64/ (304 bytes security) (stored 0%)
  adding: libs/x64/chimera.dll (264 bytes security) (deflated 67%)
  adding: MD5 (264 bytes security) (deflated 47%)
  adding: Meta/ (304 bytes security) (stored 0%)
  adding: Meta/features.rds (264 bytes security) (stored 0%)
  adding: Meta/hsearch.rds (264 bytes security) (stored 0%)
  adding: Meta/links.rds (264 bytes security) (stored 0%)
  adding: Meta/nsInfo.rds (264 bytes security) (stored 0%)
  adding: Meta/package.rds (264 bytes security) (stored 0%)
  adding: Meta/Rd.rds (264 bytes security) (stored 0%)
  adding: Meta/vignette.rds (264 bytes security) (stored 0%)
  adding: NAMESPACE (264 bytes security) (deflated 40%)
  adding: NEWS (264 bytes security) (deflated 63%)
  adding: R/ (304 bytes security) (stored 0%)
  adding: R/chimera (264 bytes security) (deflated 41%)
  adding: R/chimera.rdb (264 bytes security) (deflated 23%)
  adding: R/chimera.rdx (264 bytes security) (stored 0%)