| affylmGUI 1.49.1 Yifang Hu , Gordon Smyth , Keith Satterley
 
 | Snapshot Date: 2017-03-03 17:15:47 -0500 (Fri, 03 Mar 2017) |  | URL: https://hedgehog.fhcrc.org/bioconductor/trunk/madman/Rpacks/affylmGUI |  | Last Changed Rev: 126114 / Revision: 127142 |  | Last Changed Date: 2017-01-23 20:57:32 -0500 (Mon, 23 Jan 2017) | 
 | malbec2 | Linux (Ubuntu 16.04.1 LTS) / x86_64 | ERROR | ERROR | skipped |  |  | 
| tokay2 | Windows Server 2012 R2 Standard / x64 | OK | OK | WARNINGS | OK |  | 
| toluca2 | Mac OS X Mavericks (10.9.5) / x86_64 | ERROR | ERROR | skipped | skipped |  | 
| oaxaca | Mac OS X Mavericks (10.9.5) / x86_64 | ERROR | [ ERROR ] | skipped | skipped |  | 
##############################################################################
##############################################################################
###
### Running command:
###
###   /Library/Frameworks/R.framework/Versions/Current/Resources/bin/R CMD build --keep-empty-dirs --no-resave-data affylmGUI
###
##############################################################################
##############################################################################
* checking for file ‘affylmGUI/DESCRIPTION’ ... OK
* preparing ‘affylmGUI’:
* checking DESCRIPTION meta-information ... OK
* installing the package to build vignettes
      -----------------------------------
* installing *source* package ‘affylmGUI’ ...
** R
** inst
** preparing package for lazy loading
Error : object ‘bringToTop’ is not exported by 'namespace:grDevices'
ERROR: lazy loading failed for package ‘affylmGUI’
* removing ‘/private/tmp/RtmpSMX8Ue/Rinst7d02680868ab/affylmGUI’
      -----------------------------------
ERROR: package installation failed