| Prostar 1.8.5 Samuel Wieczorek
 
 | Snapshot Date: 2017-08-15 17:17:57 -0400 (Tue, 15 Aug 2017) |  | URL: https://hedgehog.fhcrc.org/bioconductor/branches/RELEASE_3_5/madman/Rpacks/Prostar |  | Last Changed Rev: 130018 / Revision: 131943 |  | Last Changed Date: 2017-05-31 09:46:19 -0400 (Wed, 31 May 2017) | 
 | malbec2 | Linux (Ubuntu 16.04.1 LTS) / x86_64 | OK | OK | OK |  |  | 
| tokay2 | Windows Server 2012 R2 Standard / x64 | [ OK ] | OK | OK | OK |  | 
| veracruz2 | OS X 10.11.6 El Capitan / x86_64 | OK | OK | OK | OK |  | 
##############################################################################
##############################################################################
###
### Running command:
###
###   rm -rf Prostar.buildbin-libdir && mkdir Prostar.buildbin-libdir  && C:\cygwin\bin\curl.exe -O http://172.29.0.4/BBS/3.5/bioc/src/contrib/Prostar_1.8.5.tar.gz && C:\Users\biocbuild\bbs-3.5-bioc\R\bin\R.exe CMD INSTALL --build --library=Prostar.buildbin-libdir --merge-multiarch Prostar_1.8.5.tar.gz && C:\Users\biocbuild\bbs-3.5-bioc\R\bin\R.exe CMD INSTALL Prostar_1.8.5.zip  && rm Prostar_1.8.5.tar.gz Prostar_1.8.5.zip
###
##############################################################################
##############################################################################
  % Total    % Received % Xferd  Average Speed   Time    Time     Time  Current
                                 Dload  Upload   Total   Spent    Left  Speed
  0     0    0     0    0     0      0      0 --:--:-- --:--:-- --:--:--     0
  1 3989k    1 72755    0     0   106k      0  0:00:37 --:--:--  0:00:37  107k
 23 3989k   23  932k    0     0   701k      0  0:00:05  0:00:01  0:00:04  701k
 39 3989k   39 1589k    0     0   690k      0  0:00:05  0:00:02  0:00:03  690k
 61 3989k   61 2452k    0     0   731k      0  0:00:05  0:00:03  0:00:02  732k
 87 3989k   87 3509k    0     0   806k      0  0:00:04  0:00:04 --:--:--  806k
100 3989k  100 3989k    0     0   915k      0  0:00:04  0:00:04 --:--:-- 1060k
install for i386
* installing *source* package 'Prostar' ...
** R
** inst
** preparing package for lazy loading
** help
*** installing help indices
** building package indices
** installing vignettes
** testing if installed package can be loaded
install for x64
* installing *source* package 'Prostar' ...
** testing if installed package can be loaded
* MD5 sums
packaged installation of 'Prostar' as Prostar_1.8.5.zip
* DONE (Prostar)
* installing to library 'C:/Users/biocbuild/bbs-3.5-bioc/R/library'
package 'Prostar' successfully unpacked and MD5 sums checked